BEGIN:VCALENDAR
VERSION:2.0
PRODID:-//Expertise in Labour Mobility - ECPv6.13.2.1//NONSGML v1.0//EN
CALSCALE:GREGORIAN
METHOD:PUBLISH
X-WR-CALNAME:Expertise in Labour Mobility
X-ORIGINAL-URL:https://www.labourmobility.com
X-WR-CALDESC:Events for Expertise in Labour Mobility
REFRESH-INTERVAL;VALUE=DURATION:PT1H
X-Robots-Tag:noindex
X-PUBLISHED-TTL:PT1H
BEGIN:VTIMEZONE
TZID:Europe/Amsterdam
BEGIN:DAYLIGHT
TZOFFSETFROM:+0100
TZOFFSETTO:+0200
TZNAME:CEST
DTSTART:20240331T010000
END:DAYLIGHT
BEGIN:STANDARD
TZOFFSETFROM:+0200
TZOFFSETTO:+0100
TZNAME:CET
DTSTART:20241027T010000
END:STANDARD
END:VTIMEZONE
BEGIN:VEVENT
DTSTART;TZID=Europe/Amsterdam:20240317T123000
DTEND;TZID=Europe/Amsterdam:20240322T123000
DTSTAMP:20260426T005821
CREATED:20231016T084108Z
LAST-MODIFIED:20231016T084254Z
UID:17328-1710678600-1711110600@www.labourmobility.com
SUMMARY:HUMANE 2024: WINTER SCHOOL PROGRAMME BARCELONA
DESCRIPTION:As part of HUMANE’s Winter School Programme 2024\,  Nannette Ripmeester will give a presentation about “Leveraging intercultural competences in diverse teams” as part of the Global Challenges of Higher Education Institution theme on March 18th\, 2024 at 14:30 – 15:30 CET. \nThe HUMANE Winter School develops the leadership capability of senior managers on the core theme of managing changes in strategy and policy. These themes are developed through strategic conversations with highly experienced leaders and managers in higher education\, practical casework and highly interactive team building sessions. The case material focuses on internationalisation strategy and policy choices and approaches\, and their implications for professional services across faculties\, schools\, and central support departments. \nThis Winter programme\, held in Barcelona from the 17th to the 22nd of March 2024\, will encourage discussion and debate\, incorporating insights from the host region and inspiration from participants. Innovative ideas and lingering questions are welcome! For more information on the Winter School programme\, click here.
URL:https://www.labourmobility.com/events/humane-2024-winter-school-programme-barcelona/
LOCATION:Barcelona
CATEGORIES:2024 Events,Session
ATTACH;FMTTYPE=image/jpeg:https://www.labourmobility.com/wp-content/uploads/2023/10/bandeau_wintershool_humane_2024-1024x318-1.jpg
END:VEVENT
BEGIN:VEVENT
DTSTART;TZID=Europe/Amsterdam:20240319T161500
DTEND;TZID=Europe/Amsterdam:20240319T170000
DTSTAMP:20260426T005821
CREATED:20240205T113252Z
LAST-MODIFIED:20240205T113443Z
UID:17530-1710864900-1710867600@www.labourmobility.com
SUMMARY:THE PIE LIVE 2024 | SUSTAINABILITY ROUNDTABLE
DESCRIPTION:PIE Live Europe is a community conference that influences how attendees approach the future of international education. It is a place where executives in the industry\, educators\, researchers\, legislators\, and practitioners come together to learn about the newest trends\, develop meaningful connections\, and imagine the way forward. This year’s PIE Live Europe  will take place on 19-20 March 2024 at The Brewery\, in the heart London. \nJoin Mehwish Kareem\, Nick Pidgeon\, Will Archer\, and Nannette Ripmeester for their PIE LIVE roundtable session about “Sustainability” on the 19th of March 2024 at 3:15pm – 4:00pm GMT (4:15pm – 5:00pm CET). \nMore about Sustainability Roundtable session: \n“Join this open roundtable session\, led by CANIE\, to discuss the following topics with fellow delegates and leave with fresh ideas and clear actions that you can implement at your organisation”: \n\nIntled and climate emissions\nImplementing SDGs in Intled\nMeasuring SDGs in Intled\nSocial justice/climate justice\nStudent attitudes to sustainability \nSustainable careers and employability\n\nLocation: Upper Sugar Room – 1st floor. \n 
URL:https://www.labourmobility.com/events/the-pie-live-2024-sustainability-roundtable/
LOCATION:The Brewery\, London
CATEGORIES:2024 Events,Session
ATTACH;FMTTYPE=image/jpeg:https://www.labourmobility.com/wp-content/uploads/2024/02/pie-2024.jpg
END:VEVENT
END:VCALENDAR