BEGIN:VCALENDAR
VERSION:2.0
PRODID:-//Expertise in Labour Mobility - ECPv6.13.2.1//NONSGML v1.0//EN
CALSCALE:GREGORIAN
METHOD:PUBLISH
X-ORIGINAL-URL:https://www.labourmobility.com
X-WR-CALDESC:Events for Expertise in Labour Mobility
REFRESH-INTERVAL;VALUE=DURATION:PT1H
X-Robots-Tag:noindex
X-PUBLISHED-TTL:PT1H
BEGIN:VTIMEZONE
TZID:Europe/Amsterdam
BEGIN:DAYLIGHT
TZOFFSETFROM:+0100
TZOFFSETTO:+0200
TZNAME:CEST
DTSTART:20240331T010000
END:DAYLIGHT
BEGIN:STANDARD
TZOFFSETFROM:+0200
TZOFFSETTO:+0100
TZNAME:CET
DTSTART:20241027T010000
END:STANDARD
END:VTIMEZONE
BEGIN:VEVENT
DTSTART;TZID=Europe/Amsterdam:20241112T091500
DTEND;TZID=Europe/Amsterdam:20241112T171500
DTSTAMP:20260425T184527
CREATED:20240122T104632Z
LAST-MODIFIED:20240122T104632Z
UID:17508-1731402900-1731431700@www.labourmobility.com
SUMMARY:ONLINE WORKSHOP: CAREER GUIDANCE FOR INTERNATIONAL PHD CANDIDATES (DAY 1) | RADBOUD UNIVERSITY
DESCRIPTION:During the three-day PhD Career Guidance workshops\, one full-day and two half-day (virtual) workshop sessions aimed at international PhD candidates will help participants get a grip on their international career development and cultural differences in looking for work in the Netherlands and beyond. \nThe international workshop focuses the attention on strengths and possibilities and is aimed at bringing clarity to career development for non-Dutch PhD candidates. Participants will have the opportunity to create their own action plan for their next career step. Most importantly\, they will be able to act on that action plan and take their career towards the next level\, either within academia or beyond\, and either within the Netherlands or elsewhere. \nKEY LEARNINGS:\nPhD candidates will work in interactive (virtual) sessions: \n\nCreating an insight into personal and career goals\nProviding a systematic process for exploring career needs\nFocusing on the current position\, desired destination\, and unique personal resources (based on career interest\, skills\, values\, and personal style)\nEnhancing practical career skills (in a global world)\nComprehending the cultural differences that accompany looking for work in the Netherlands & beyond\nComparing career options for formulating an action plan
URL:https://www.labourmobility.com/events/online-workshop-career-guidance-for-international-phd-candidates-day-1-radboud-university-7/
LOCATION:Online
CATEGORIES:2024 Events,Online Workshop
ATTACH;FMTTYPE=image/png:https://www.labourmobility.com/wp-content/uploads/2024/01/ELM-WORKSHOP-2024-e1705920275584.png
END:VEVENT
BEGIN:VEVENT
DTSTART;TZID=Europe/Amsterdam:20241119T130000
DTEND;TZID=Europe/Amsterdam:20241119T170000
DTSTAMP:20260425T184527
CREATED:20240122T105320Z
LAST-MODIFIED:20240122T105320Z
UID:17511-1732021200-1732035600@www.labourmobility.com
SUMMARY:ONLINE WORKSHOP: CAREER GUIDANCE FOR INTERNATIONAL PHD CANDIDATES (DAY 2) | RADBOUD UNIVERSITY
DESCRIPTION:During the three-day PhD Career Guidance workshops\, one full-day and two half-day (virtual) workshop sessions aimed at international PhD candidates will help participants get a grip on their international career development and cultural differences in looking for work in the Netherlands and beyond. \nThe international workshop focuses the attention on strengths and possibilities and is aimed at bringing clarity to career development for non-Dutch PhD candidates. Participants will have the opportunity to create their own action plan for their next career step. Most importantly\, they will be able to act on that action plan and take their career towards the next level\, either within academia or beyond\, and either within the Netherlands or elsewhere. \nKEY LEARNINGS:\nPhD candidates will work in interactive (virtual) sessions: \n\nCreating an insight into personal and career goals\nProviding a systematic process for exploring career needs\nFocusing on the current position\, desired destination\, and unique personal resources (based on career interest\, skills\, values\, and personal style)\nEnhancing practical career skills (in a global world)\nComprehending the cultural differences that accompany looking for work in the Netherlands & beyond\nComparing career options for formulating an action plan
URL:https://www.labourmobility.com/events/online-workshop-career-guidance-for-international-phd-candidates-day-2-radboud-university-7/
LOCATION:Online
CATEGORIES:2024 Events,Online Workshop
ATTACH;FMTTYPE=image/png:https://www.labourmobility.com/wp-content/uploads/2024/01/ELM-WORKSHOP-2024-1-e1705920769219.png
END:VEVENT
BEGIN:VEVENT
DTSTART;TZID=Europe/Amsterdam:20241121T091500
DTEND;TZID=Europe/Amsterdam:20241121T171500
DTSTAMP:20260425T184527
CREATED:20240122T111052Z
LAST-MODIFIED:20240122T111221Z
UID:17517-1732180500-1732209300@www.labourmobility.com
SUMMARY:GUIDANCE FOR DUTCH PHD CANDIDATES (DAY 1) -‘EEN PHD EN DAN? SOLLICITEREN\, NETWERKEN\, EN JE LOOPBAAN ONDER DE LOEP’| RADBOUD UNIVERSITY
DESCRIPTION:PhD candidates often face questions around career development\, which differ from the issues ‘regular’ university employees are confronted with. To be able to move ahead and to prepare for their next career step\, a step that is not necessarily taking place in the academic world.  \nA (virtual) high-intensity workshop\, delivered by Nannette Ripmeester\, of two full days tailored to Dutch PhD candidates that provides participants with the necessary tools and tips to understand their career values and identify future career paths based on their interests and skills. \nParticipants will have the opportunity to create their own action plan for their next career step. Most importantly\, they will be able to act on that action plan and take their career towards the next level\, either within academia or beyond. Delegates will feel empowered to look for work in their research field\, inside and outside of the Netherlands. \nKey Learnings: \nAt the end of the workshop\, all participants will: \n\nHave a clear picture of their main career values\nIdentify their strong personal & professional traits\nKnow how to ‘manage their reputation’ effectively\nFeel more empowered to create a better fit between career decisions & personal goals\nGain a better understanding of what career options & opportunities they have with their PhD degree in academia\, the corporate and/or the not-for-profit sector\nUnderstand the differences in a research and professional job applications as well as get some of the basics regarding tailoring their job search to a specific work culture\nHave improved their CV\, their LinkedIn profile\, their elevator pitch\, and their interview skills\nComprehend the cultural differences that accompany looking for work across the globe\n\nCourse Language: Dutch
URL:https://www.labourmobility.com/events/guidance-for-dutch-phd-candidates-day-1-een-phd-en-dan-solliciteren-netwerken-en-je-loopbaan-onder-de-loep-radboud-university/
LOCATION:Online
CATEGORIES:2024 Events,Online Workshop
ATTACH;FMTTYPE=image/png:https://www.labourmobility.com/wp-content/uploads/2024/01/ELM-WORKSHOP-2024-2-e1705921833395.png
END:VEVENT
BEGIN:VEVENT
DTSTART;TZID=Europe/Amsterdam:20241122T091500
DTEND;TZID=Europe/Amsterdam:20241122T171500
DTSTAMP:20260425T184527
CREATED:20240122T111523Z
LAST-MODIFIED:20240122T111523Z
UID:17521-1732266900-1732295700@www.labourmobility.com
SUMMARY:GUIDANCE FOR DUTCH PHD CANDIDATES (DAY 2) -‘EEN PHD EN DAN? SOLLICITEREN\, NETWERKEN\, EN JE LOOPBAAN ONDER DE LOEP’| RADBOUD UNIVERSITY
DESCRIPTION:PhD candidates often face questions around career development\, which differ from the issues ‘regular’ university employees are confronted with. To be able to move ahead and to prepare for their next career step\, a step that is not necessarily taking place in the academic world.  \nA (virtual) high-intensity workshop\, delivered by Nannette Ripmeester\, of two full days tailored to Dutch PhD candidates that provides participants with the necessary tools and tips to understand their career values and identify future career paths based on their interests and skills. \nParticipants will have the opportunity to create their own action plan for their next career step. Most importantly\, they will be able to act on that action plan and take their career towards the next level\, either within academia or beyond. Delegates will feel empowered to look for work in their research field\, inside and outside of the Netherlands. \nKey Learnings: \nAt the end of the workshop\, all participants will: \n\nHave a clear picture of their main career values\nIdentify their strong personal & professional traits\nKnow how to ‘manage their reputation’ effectively\nFeel more empowered to create a better fit between career decisions & personal goals\nGain a better understanding of what career options & opportunities they have with their PhD degree in academia\, the corporate and/or the not-for-profit sector\nUnderstand the differences in a research and professional job applications as well as get some of the basics regarding tailoring their job search to a specific work culture\nHave improved their CV\, their LinkedIn profile\, their elevator pitch\, and their interview skills\nComprehend the cultural differences that accompany looking for work across the globe\n\nCourse Language: Dutch
URL:https://www.labourmobility.com/events/guidance-for-dutch-phd-candidates-day-2-een-phd-en-dan-solliciteren-netwerken-en-je-loopbaan-onder-de-loep-radboud-university/
LOCATION:Online
CATEGORIES:2024 Events,Online Workshop,PhD Workshop
ATTACH;FMTTYPE=image/png:https://www.labourmobility.com/wp-content/uploads/2024/01/ELM-WORKSHOP-2024-1-1-e1705922097600.png
END:VEVENT
BEGIN:VEVENT
DTSTART;TZID=Europe/Amsterdam:20241126T130000
DTEND;TZID=Europe/Amsterdam:20241126T170000
DTSTAMP:20260425T184527
CREATED:20240122T105930Z
LAST-MODIFIED:20240122T105930Z
UID:17514-1732626000-1732640400@www.labourmobility.com
SUMMARY:ONLINE WORKSHOP: CAREER GUIDANCE FOR INTERNATIONAL PHD CANDIDATES (DAY 3) | RADBOUD UNIVERSITY
DESCRIPTION:During the three-day PhD Career Guidance workshops\, one full-day and two half-day (virtual) workshop sessions aimed at international PhD candidates will help participants get a grip on their international career development and cultural differences in looking for work in the Netherlands and beyond. \nThe international workshop focuses the attention on strengths and possibilities and is aimed at bringing clarity to career development for non-Dutch PhD candidates. Participants will have the opportunity to create their own action plan for their next career step. Most importantly\, they will be able to act on that action plan and take their career towards the next level\, either within academia or beyond\, and either within the Netherlands or elsewhere. \nKEY LEARNINGS:\nPhD candidates will work in interactive (virtual) sessions: \n\nCreating an insight into personal and career goals\nProviding a systematic process for exploring career needs\nFocusing on the current position\, desired destination\, and unique personal resources (based on career interest\, skills\, values\, and personal style)\nEnhancing practical career skills (in a global world)\nComprehending the cultural differences that accompany looking for work in the Netherlands & beyond\nComparing career options for formulating an action plan
URL:https://www.labourmobility.com/events/online-workshop-career-guidance-for-international-phd-candidates-day-3-radboud-university-7/
LOCATION:Online
CATEGORIES:2024 Events,Online Workshop
ATTACH;FMTTYPE=image/png:https://www.labourmobility.com/wp-content/uploads/2024/01/Radboud-day-3-e1705921148480.png
END:VEVENT
BEGIN:VEVENT
DTSTART;TZID=Europe/Amsterdam:20241203T093000
DTEND;TZID=Europe/Amsterdam:20241203T163000
DTSTAMP:20260425T184527
CREATED:20240709T122826Z
LAST-MODIFIED:20240709T122826Z
UID:17757-1733218200-1733243400@www.labourmobility.com
SUMMARY:CAREER DEVELOPMENT: ‘LOOKING FOR WORK IN THE NETHERLANDS’ FOR INTERNATIONAL PHD CANDIDATES | TU DELFT
DESCRIPTION:International PhD candidates looking for a job in the Netherlands often face questions around career development to prepare for their next career step\, a step that is not necessarily taking place in the academic world. This one-day workshop aims to deliver insights into balancing your career values with your career goals.  What job opportunities offer academia vs the profit sector in the Netherlands? What questions are raised during a job interview? What makes a Dutch employer tick? And what makes an international PhD candidate outstanding? \nThe Graduate School has chosen to deliver this workshop online. Stay connected\, stay positive\, and prepare for the future.    \nLecturer: Nannette Ripmeester
URL:https://www.labourmobility.com/events/career-development-looking-for-work-in-the-netherlands-for-international-phd-candidates-tu-delft-2/
LOCATION:Online
CATEGORIES:2024 Events
ATTACH;FMTTYPE=image/png:https://www.labourmobility.com/wp-content/uploads/2024/07/TU-DELFT-university-1-e1720527869867.png
END:VEVENT
END:VCALENDAR