BEGIN:VCALENDAR
VERSION:2.0
PRODID:-//Expertise in Labour Mobility - ECPv6.13.2.1//NONSGML v1.0//EN
CALSCALE:GREGORIAN
METHOD:PUBLISH
X-WR-CALNAME:Expertise in Labour Mobility
X-ORIGINAL-URL:https://www.labourmobility.com
X-WR-CALDESC:Events for Expertise in Labour Mobility
REFRESH-INTERVAL;VALUE=DURATION:PT1H
X-Robots-Tag:noindex
X-PUBLISHED-TTL:PT1H
BEGIN:VTIMEZONE
TZID:Europe/London
BEGIN:DAYLIGHT
TZOFFSETFROM:+0000
TZOFFSETTO:+0100
TZNAME:BST
DTSTART:20240331T010000
END:DAYLIGHT
BEGIN:STANDARD
TZOFFSETFROM:+0100
TZOFFSETTO:+0000
TZNAME:GMT
DTSTART:20241027T010000
END:STANDARD
END:VTIMEZONE
BEGIN:VTIMEZONE
TZID:Europe/Amsterdam
BEGIN:DAYLIGHT
TZOFFSETFROM:+0100
TZOFFSETTO:+0200
TZNAME:CEST
DTSTART:20230326T010000
END:DAYLIGHT
BEGIN:STANDARD
TZOFFSETFROM:+0200
TZOFFSETTO:+0100
TZNAME:CET
DTSTART:20231029T010000
END:STANDARD
BEGIN:DAYLIGHT
TZOFFSETFROM:+0100
TZOFFSETTO:+0200
TZNAME:CEST
DTSTART:20240331T010000
END:DAYLIGHT
BEGIN:STANDARD
TZOFFSETFROM:+0200
TZOFFSETTO:+0100
TZNAME:CET
DTSTART:20241027T010000
END:STANDARD
END:VTIMEZONE
BEGIN:VTIMEZONE
TZID:Europe/Moscow
BEGIN:STANDARD
TZOFFSETFROM:+0300
TZOFFSETTO:+0300
TZNAME:MSK
DTSTART:20240101T000000
END:STANDARD
END:VTIMEZONE
BEGIN:VTIMEZONE
TZID:America/New_York
BEGIN:DAYLIGHT
TZOFFSETFROM:-0500
TZOFFSETTO:-0400
TZNAME:EDT
DTSTART:20240310T070000
END:DAYLIGHT
BEGIN:STANDARD
TZOFFSETFROM:-0400
TZOFFSETTO:-0500
TZNAME:EST
DTSTART:20241103T060000
END:STANDARD
END:VTIMEZONE
BEGIN:VEVENT
DTSTART;TZID=Europe/London:20240710T120000
DTEND;TZID=Europe/London:20240710T130000
DTSTAMP:20260424T002834
CREATED:20240430T081742Z
LAST-MODIFIED:20240617T093337Z
UID:17614-1720612800-1720616400@www.labourmobility.com
SUMMARY:BUILA CONFERENCE 2024: PERCEPTION MATTERS: BREAKING THE NARRATIVE
DESCRIPTION:Join Anne Marie Graham\,(Chief Executive\, UKCISA)\, Rhianna Skeates (International Careers Consultant\, Queen Mary University of London)\, Nannette Ripmeester (Expertise in Labour Mobility) for their BUILA  panel session  chaired by Ula Tang-Plowman (BUILA executive and UCLan\, Director of International Recruitment) on July 10th 2024\, at 12:00 – 13:00 (11:00 – 12:00 CET) at the Vox Conference Centre in Birmingham\, UK. \nSession Title: How do we integrate employability opportunities and outcomes into recruitment and marketing activity?  \n“Research shows 64% of students consider employment prospects as an influencing factor when choosing a university. And with UK universities marketing on an employability promise\, offering degrees with enhanced work skills and integrating career-focused activities into university life\, this is an opportunity that could put the UK on top. However\, in reality\, a high percentage of students say they are unprepared to achieve their careers goals after graduation\, which turns the opportunity into a threat.” \nThis session covers the importance of employability\, showcases activities that evidence eployability successes\, and cosiders how universities\, local government\, and emplyers can work collaboratively to meet our students’ employability expectations. \nThe British Universities’ International Liaison Association (BUILA) is a membership-led organization with a nationwide reach which suports the work and professional interests of staff members involved in international recruitment and liaison at UK higher education institutions. \nThe BUILA Conference\, scheduled on July 9-11th 2024\, will focus on the most important problems affecting the UK’s foreign student recruiting market\, with an emphasis on reputation and perception. Topics will include how UK HEIs may maintain their resilience in the face of political unpredictability and unfavorable media portrayals. Moreover\, the tactics that these institutions can use to prosper in the face of hardship as well as survive outside pressures will also be highlighted. For more information on the BUILA conference\, click here.
URL:https://www.labourmobility.com/events/buila-conference-2024-perception-matters-breaking-the-narrative/
LOCATION:Vox Conference Centre
CATEGORIES:2024 Events,Conference,Session
ATTACH;FMTTYPE=image/png:https://www.labourmobility.com/wp-content/uploads/2024/04/buila-conference-e1714465389107.png
END:VEVENT
BEGIN:VEVENT
DTSTART;TZID=Europe/Amsterdam:20240625T173000
DTEND;TZID=Europe/Amsterdam:20240625T183000
DTSTAMP:20260424T002834
CREATED:20240610T100357Z
LAST-MODIFIED:20240612T102158Z
UID:17684-1719336600-1719340200@www.labourmobility.com
SUMMARY:THE PIE WEBINAR 2024 | The Top 10 International Student Populations
DESCRIPTION:Join Robin Hallows\, and Nannette Ripmeester for their PIE LIVE webinar focused on the “Top 10 international student populations – How their Perceptions\, Motivations and Student Experiences Differ” on the 25th of June 2024 at 5:30pm CET. \nMore about the webinar: \n\nIn this webinar unique insights will be offered into the key decision factors influencing international students worldwide. The speakers will present pivotal findings from a comprehensive survey that gathered 125\,000 responses from individuals representing 200 different nationalities. With this fresh data and expert insights\, you’ll be equipped to make smarter decisions to improve the international student experience at your institution and boost your recruitment and marketing strategies. Whether looking to attract\, retain\, or diversify your international student body\, this webinar is a must-attend for global universities. Plus\, you’ll have the opportunity to ask questions and engage directly with our knowledgeable panelists.
URL:https://www.labourmobility.com/events/pie-chat-live-2024-the-top-10-international-student-populations/
LOCATION:Online
CATEGORIES:2024 Events,Webinar
ATTACH;FMTTYPE=image/png:https://www.labourmobility.com/wp-content/uploads/2024/06/pie-chat-image-2024.png
END:VEVENT
BEGIN:VEVENT
DTSTART;TZID=Europe/Moscow:20240603T090000
DTEND;TZID=Europe/Moscow:20240605T150000
DTSTAMP:20260424T002834
CREATED:20240527T110628Z
LAST-MODIFIED:20240527T110907Z
UID:17667-1717405200-1717599600@www.labourmobility.com
SUMMARY:ErasmusCareers Staff Training | Aristotle University of Thessaloniki (AUTH)
DESCRIPTION:Join Nannette Ripmeester at the ErasmusCareers staff training event about “Unlocking Opportunities: Internationalisation of Career Counseling”\, scheduled for June 3rd to 5th at Aristotle University of Thessaloniki (AUTH). \nThis pioneering training event is dedicated to the Internationalisation of Career Counseling\, and is catered to European University Careers Advisors that are keen to understand how to support their international students better. The training is designed to equip career advisors with the knowledge and tools necessary to support students at every stage of their Erasmus+  mobility experience. \nKey Highlights: \n🌍 Expand Your Toolkit: Gain valuable insights and strategies to effectively support students in 5 different stages (before\, pre-arrival\, during\, pre-departure and after) of their Erasmus mobility programmes.\n🤝 Foster Global Connections: Network with fellow career counselors\, exchange best practices\, and explore collaborative opportunities to enhance internationalisation efforts at your university.\n🔍 Stay Ahead of the Curve: Stay updated on the latest trends and innovations in career counseling within the context of international mobility\, ensuring you’re well-prepared to meet the evolving needs of your students. \nMore information can be found here. \n 
URL:https://www.labourmobility.com/events/erasmuscareers-staff-training-aristotle-university-of-thessaloniki-auth/
LOCATION:Aristotle University of Thessaloniki (AUTH)\, Thessaloniki\, Greece
CATEGORIES:2024 Events,Workshop
ATTACH;FMTTYPE=image/png:https://www.labourmobility.com/wp-content/uploads/2024/05/ELM-IMAGES-2-e1716807672327.png
END:VEVENT
BEGIN:VEVENT
DTSTART;TZID=America/New_York:20240529T103000
DTEND;TZID=America/New_York:20240529T120000
DTSTAMP:20260424T002834
CREATED:20240513T095827Z
LAST-MODIFIED:20240513T095827Z
UID:17648-1716978600-1716984000@www.labourmobility.com
SUMMARY:NAFSA 2024 POSTER PRESENTATION | ON THE MOVE: EXPLORING IMPACT OF MOBILITY ON CAREER OPPORTUNITIES
DESCRIPTION:Join Nannette Ripmeester (Expertise in Labour Mobility / i-graduate) and Kellie McMullin (NSCC) for an insightful NAFSA poster presentation about “On The Move: Exploring The Impact Of Mobility On Career Opportunities” on May 29th at 10.30 AM – 12:00 PM in New Orleans\, Louisiana at the Ernest N. Morial Convention Centre. \nThe NAFSA Annual Conference & Expo\, scheduled on May 28-31 2024\, will focus on the most diverse learning\, engagement\, and networking opportunities for international education professionals at all levels of experience and in every specialty. These opportunities will help develop the knowledge\, skills\, and ideas needed to better serve an organization or institution\, move forward in professional development\, and engage effectively with colleagues from around the globe. \nPoster Abstract: On The Move: Exploring The Impact Of Mobility On Career Opportunities \nIn an increasingly globalised world\, the importance of international mobility experiences seems obvious. This poster is about a GSO Innovation Fund project\, the Canadian equivalent of Erasmus+\, which seeks to shed light on a pivotal question: Do employers value international mobility and what’s the effect on the student’s career opportunities? \nLearning Objectives \n\n Assess the impact of international mobility experiences on students’ employability.\nIdentify the key skills and competencies valued by employers when hiring graduates with international mobility experience.\nUnderstand what employers deem important when assessing a candidate.\nPromote a holistic understanding of employability outcomes by involving employers as vital stakeholders in the discussion.\n\nMore Information can be found here. See you there!
URL:https://www.labourmobility.com/events/nafsa-2024-poster-presentation-on-the-move-exploring-impact-of-mobility-on-career-opportunities/
LOCATION:Ernest N. Morial Convention Centre\, New Orleans\, Lousiana\, United States
CATEGORIES:2024 Events,Conference,Poster Presentation
ATTACH;FMTTYPE=image/png:https://www.labourmobility.com/wp-content/uploads/2024/05/NAFSA-2024-Web-II-e1715594289846.png
END:VEVENT
BEGIN:VEVENT
DTSTART;TZID=America/New_York:20240529T103000
DTEND;TZID=America/New_York:20240529T120000
DTSTAMP:20260424T002834
CREATED:20240513T094625Z
LAST-MODIFIED:20240513T094625Z
UID:17641-1716978600-1716984000@www.labourmobility.com
SUMMARY:NAFSA 2024 POSTER PRESENTATION: THE INTERNATIONAL STUDENT EXPERIENCE CAPTURED IN DATA
DESCRIPTION:Join Nannette Ripmeester (Expertise in Labour Mobility / i-graduate) for an insightful NAFSA poster presentation about “The International Student Experience Captured In Data” on May 29th at 10.30 AM – 12:00 PM in New Orleans\, Louisiana at the Ernest N. Morial Convention Centre. \nThe NAFSA Annual Conference & Expo\, scheduled on May 28-31 2024\, will focus on the most diverse learning\, engagement\, and networking opportunities for international education professionals at all levels of experience and in every specialty. These opportunities will help develop the knowledge\, skills\, and ideas needed to better serve an organization or institution\, move forward in professional development\, and engage effectively with colleagues from around the globe. \nPoster Abstract: The International Student Experience Captured In Data \nBased on a large global dataset (>120\,000 international students)\, we follow the international student journey\, emphasizing the data points that are essential to current international students: \n\nWhat drives study choice?\nWhat makes students happy?\nWhat constitutes ‘good education’?\nWhat makes a student recommend their institutional experience?\n\nLearning Objectives \n\nUnderstand what matters to international students concerning institution choice\, recommendation and happiness.\nInterpret a large dataset into actionable insights for the student experience.\nRecognize the value of data for supporting the student journey concerning learning\, living and support services at an institution.\n\nMore Information can be found here. See you there! \n 
URL:https://www.labourmobility.com/events/nafsa-2024-poster-presentation-the-international-student-experience-captured-in-data/
LOCATION:Ernest N. Morial Convention Centre\, New Orleans\, Lousiana\, United States
CATEGORIES:2024 Events,Conference,Poster Presentation
ATTACH;FMTTYPE=image/png:https://www.labourmobility.com/wp-content/uploads/2024/05/NAFSA-2024-Web-I-e1715593492302.png
END:VEVENT
BEGIN:VEVENT
DTSTART;TZID=Europe/Amsterdam:20240424T131500
DTEND;TZID=Europe/Amsterdam:20240424T150000
DTSTAMP:20260424T002834
CREATED:20240131T162350Z
LAST-MODIFIED:20240131T162350Z
UID:17528-1713964500-1713970800@www.labourmobility.com
SUMMARY:WORKSHOP: LOOKING FOR WORK IN THE NETHERLANDS | LEIDEN UNIVERSITY
DESCRIPTION:Nannette Ripmeester will deliver the workshop ”Looking for work in The Netherlands” for LLM international students of Leiden University. This interactive workshop is aimed at bringing clarity to early career development for international students that are looking for work in the Netherlands. \nAfter the workshop\, participants will understand more about the Dutch labour market as well as the cultural differences in the Dutch application process and procedures. It will give international law students a better picture of what to expect and how to move forward with their career in the Netherlands. \nWe’ll answer questions such as what’s the best CV format for the Netherlands\, how to write a successful application letter\, what questions to expect in a Dutch job interview\, what to wear (or not to wear). But apart from the practicalities around job hunting\, we also look into intercultural differences in job searching and doing business around the globe with the help of the employability game\, CareerProfessor.works. \nKey learnings: \n\nWorking for an NGO/Law firm/Financial Organisation\nChallenges that COVID brings\, but also its opportunities\nInformation about recruitment culture in The Netherlands (Practical information about interviews such as the type of questions asked\, how to make a good CV\, assessments) and preparation for online interviews\nFinding work as an International student (without speaking the Dutch language)\nHow do I sell myself and the programme I’m following to an employer\nand Networking
URL:https://www.labourmobility.com/events/workshop-looking-for-work-in-the-netherlands-leiden-university-3/
LOCATION:Leiden University
CATEGORIES:2024 Events,Workshop
END:VEVENT
BEGIN:VEVENT
DTSTART;TZID=Europe/Amsterdam:20240405T130000
DTEND;TZID=Europe/Amsterdam:20240405T143000
DTSTAMP:20260424T002834
CREATED:20240325T102220Z
LAST-MODIFIED:20240325T102220Z
UID:17584-1712322000-1712327400@www.labourmobility.com
SUMMARY:ERASMUS GENERATION MEETING (EGM) | SEVILLE 2024
DESCRIPTION:With a focus on international mobility and youth participation\, The Erasmus Student Network (ESN) is excited to present the third edition of the Erasmus Generation Meeting (EGM)\, which is Europe’s leading gathering of educators\, students\, and other stakeholders. The Erasmus Generation Meeting (EGM) is the biggest conference where the Erasmus Generation meets to learn and discuss the future of mobility in Europe and beyond. EGM 2024 will be held from the 4th to the 7th of April 2024 at the Escuela Técnica Superior de Ingeniería\, University of Seville\, Spain. \nThis year’s edition of EGM\, the largest student-led conference of its kind\, is dedicated to addressing pressing issues in international mobility and youth engagement. With the central theme of “Removing barriers for active and equal participation”\, this unique event will bring together over 1000 participants from across Europe and beyond to foster dialogue\, exchange ideas\, and work collectively to enhance international experiences and promote equal participation. \nJoin Sava Dikov\, Jeroen van Lent\, Íñigo of “Ya Semos Europeos“\, Abbey Gordon\, Prof. Dr. Ángel Luis Trigo and Nannette Ripmeester for their EGM panel discussion about “How employers value international experiences” on the 5th of April 2024 at 1:00pm – 2:30pm CET. \nPanel discussion description: \n“Are you curious to know what gets students hired and what’s the value of international experience for your career? Take the chance to take your golden tip directly from the employers? Find out what are the most asked questions\, the desired skills and how employers try to uncover them during a job interview by navigating between your potential and proven capability. This panel discussion will be followed by a world café where you will get the opportunity to talk directly to employers.” \nMore information can be found here.
URL:https://www.labourmobility.com/events/erasmus-generation-meeting-egm-seville-2024/
LOCATION:University of Seville\, Spain
CATEGORIES:2024 Events,Conference,Panel discussion
ATTACH;FMTTYPE=image/png:https://www.labourmobility.com/wp-content/uploads/2024/03/egm_compressed.png
END:VEVENT
BEGIN:VEVENT
DTSTART;TZID=Europe/Amsterdam:20240319T161500
DTEND;TZID=Europe/Amsterdam:20240319T170000
DTSTAMP:20260424T002834
CREATED:20240205T113252Z
LAST-MODIFIED:20240205T113443Z
UID:17530-1710864900-1710867600@www.labourmobility.com
SUMMARY:THE PIE LIVE 2024 | SUSTAINABILITY ROUNDTABLE
DESCRIPTION:PIE Live Europe is a community conference that influences how attendees approach the future of international education. It is a place where executives in the industry\, educators\, researchers\, legislators\, and practitioners come together to learn about the newest trends\, develop meaningful connections\, and imagine the way forward. This year’s PIE Live Europe  will take place on 19-20 March 2024 at The Brewery\, in the heart London. \nJoin Mehwish Kareem\, Nick Pidgeon\, Will Archer\, and Nannette Ripmeester for their PIE LIVE roundtable session about “Sustainability” on the 19th of March 2024 at 3:15pm – 4:00pm GMT (4:15pm – 5:00pm CET). \nMore about Sustainability Roundtable session: \n“Join this open roundtable session\, led by CANIE\, to discuss the following topics with fellow delegates and leave with fresh ideas and clear actions that you can implement at your organisation”: \n\nIntled and climate emissions\nImplementing SDGs in Intled\nMeasuring SDGs in Intled\nSocial justice/climate justice\nStudent attitudes to sustainability \nSustainable careers and employability\n\nLocation: Upper Sugar Room – 1st floor. \n 
URL:https://www.labourmobility.com/events/the-pie-live-2024-sustainability-roundtable/
LOCATION:The Brewery\, London
CATEGORIES:2024 Events,Session
ATTACH;FMTTYPE=image/jpeg:https://www.labourmobility.com/wp-content/uploads/2024/02/pie-2024.jpg
END:VEVENT
BEGIN:VEVENT
DTSTART;TZID=Europe/Amsterdam:20240317T123000
DTEND;TZID=Europe/Amsterdam:20240322T123000
DTSTAMP:20260424T002834
CREATED:20231016T084108Z
LAST-MODIFIED:20231016T084254Z
UID:17328-1710678600-1711110600@www.labourmobility.com
SUMMARY:HUMANE 2024: WINTER SCHOOL PROGRAMME BARCELONA
DESCRIPTION:As part of HUMANE’s Winter School Programme 2024\,  Nannette Ripmeester will give a presentation about “Leveraging intercultural competences in diverse teams” as part of the Global Challenges of Higher Education Institution theme on March 18th\, 2024 at 14:30 – 15:30 CET. \nThe HUMANE Winter School develops the leadership capability of senior managers on the core theme of managing changes in strategy and policy. These themes are developed through strategic conversations with highly experienced leaders and managers in higher education\, practical casework and highly interactive team building sessions. The case material focuses on internationalisation strategy and policy choices and approaches\, and their implications for professional services across faculties\, schools\, and central support departments. \nThis Winter programme\, held in Barcelona from the 17th to the 22nd of March 2024\, will encourage discussion and debate\, incorporating insights from the host region and inspiration from participants. Innovative ideas and lingering questions are welcome! For more information on the Winter School programme\, click here.
URL:https://www.labourmobility.com/events/humane-2024-winter-school-programme-barcelona/
LOCATION:Barcelona
CATEGORIES:2024 Events,Session
ATTACH;FMTTYPE=image/jpeg:https://www.labourmobility.com/wp-content/uploads/2023/10/bandeau_wintershool_humane_2024-1024x318-1.jpg
END:VEVENT
BEGIN:VEVENT
DTSTART;TZID=Europe/Amsterdam:20240227T100000
DTEND;TZID=Europe/Amsterdam:20240227T110000
DTSTAMP:20260424T002834
CREATED:20240124T132937Z
LAST-MODIFIED:20240124T134546Z
UID:17505-1709028000-1709031600@www.labourmobility.com
SUMMARY:ISB FEEDBACK SESSION 2022 | DAAD
DESCRIPTION:The International Student Barometer™ (ISB) tracks and compares the decision-making\, expectations\, perceptions and intentions of international students from application to graduation. It enables institutions to make informed decisions to enhance the international student experience and drive successful recruitment and marketing strategies.  \nThis online invitation-only ISB Feedback Session of 2022 takes place on February 27th 2024 with German Academic Exchange Service (DAAD) at 10 AM-11 AM CET. Feel free to also have a look at DAAD’s report about “The International Study Experience In Germany.”
URL:https://www.labourmobility.com/events/isb-feedback-session-2024-daad-2/
LOCATION:Online
CATEGORIES:2024 Events,ISB feedback presentation
ATTACH;FMTTYPE=image/png:https://www.labourmobility.com/wp-content/uploads/2024/01/ISB-DAAD_2-e1705919229990.png
END:VEVENT
BEGIN:VEVENT
DTSTART;TZID=Europe/Amsterdam:20240219T200000
DTEND;TZID=Europe/Amsterdam:20240219T210000
DTSTAMP:20260424T002834
CREATED:20231206T115113Z
LAST-MODIFIED:20231206T150221Z
UID:17375-1708372800-1708376400@www.labourmobility.com
SUMMARY:AIEA 2024 | LISTENING TO STUDENT VOICES ENHANCES STRATEGIC DIRECTION FOR INTERNATIONALIZATION
DESCRIPTION:Join Fanshawe’s Wendy Curtis\, Centennial’s Virginia Macchiavello\, and Nannette Ripmeester for the AIEA session titled “Listening to student voices enhances strategic direction for internationalization” on the 19th of February 2024 at 2:00pm – 3:00pm EST (8:00pm – 9:00pm CET). \nAIEA is the Association of International Education Administrations annual conference and will take place on 18-21 February 2024 at the Marriott Marquis\, Washington DC. The Association of International Education Administrators (AIEA) is the only association dedicated exclusively to senior leaders in the field of international education. \nThe AIEA 2024’s theme is “Leading Internationalizaion at a Crossroads” which captures the dynamic and crucial role played by visionary university leaders in navigating the complexity of the post-pandemic era. This central theme emphasizes the urgent challenges and potential opportunities confronting higher education institutions as they strive to promote collaboration\, understanding\, and progress in our interconnected world. By urging international education leaders to think innovatively\, act decisively\, and foster positive change amid the complexities of globalization\,this theme underscores the paramount importance of visionary leadership. It also highlights the necessity of inclusive and collaborative approaches that acknowledge the unity of our shared humanity and foster a harmonious and prosperous future for all.
URL:https://www.labourmobility.com/events/aiea-2024-listening-to-student-voices-enhances-strategic-direction-for-internationalization/
LOCATION:Marriott Marquis\, Washington DC\, United States
CATEGORIES:2024 Events,Conference,Session
ATTACH;FMTTYPE=image/jpeg:https://www.labourmobility.com/wp-content/uploads/2023/12/aiea2024-e1701863258113.jpg
END:VEVENT
BEGIN:VEVENT
DTSTART;TZID=Europe/Amsterdam:20240129T100000
DTEND;TZID=Europe/Amsterdam:20240129T110000
DTSTAMP:20260424T002834
CREATED:20240124T132919Z
LAST-MODIFIED:20240124T134630Z
UID:17502-1706522400-1706526000@www.labourmobility.com
SUMMARY:ISB FEEDBACK SESSION 2022 | DAAD
DESCRIPTION:The International Student Barometer™ (ISB) tracks and compares the decision-making\, expectations\, perceptions and intentions of international students from application to graduation. It enables institutions to make informed decisions to enhance the international student experience and drive successful recruitment and marketing strategies.  \nThis online invitation-only ISB Feedback Session of 2022 takes place on February 27th 2024 with German Academic Exchange Service (DAAD) at 10 AM-11 AM CET. Feel free to also have a look at DAAD’s report about “The International Study Experience In Germany.”
URL:https://www.labourmobility.com/events/isb-feedback-session-2024-daad/
LOCATION:Online
CATEGORIES:2024 Events,ISB feedback presentation
ATTACH;FMTTYPE=image/png:https://www.labourmobility.com/wp-content/uploads/2024/01/ISB-DAAD_1-e1705918908103.png
END:VEVENT
BEGIN:VEVENT
DTSTART;TZID=Europe/Amsterdam:20231204T200000
DTEND;TZID=Europe/Amsterdam:20231204T220000
DTSTAMP:20260424T002834
CREATED:20231018T090103Z
LAST-MODIFIED:20231018T090103Z
UID:17336-1701720000-1701727200@www.labourmobility.com
SUMMARY:NAFSA | TRAINER CORPS VIRTUAL ENRICHMENT WORKSHOP
DESCRIPTION:Join Amanda Connolly\, Sarah Gonzalez\, Adilia Ross\, Helen Pearson\, Gwenyth A. Smith\, Linda Melville & Nannette Ripmeester for the Virtual Enrichment workshop taking place on December 4th\, 2023 at 2:00 – 4:00 PM EST (8:00 – 10:00 PM CET) and there will be 3 or 4 hours of additional virtual small group work. \nThroughout each aspect of the Enrichment Program\, networking\, professionalization\, and the best practices of teaching and training are featured. Some of the workshop objectives include learning the elements to consider when building a training team and deciding on roles\, exploring ways to prepare and adapt the training\, and understanding the strucuture required for delivery. These features of the Enrichment Program are carried over into the work that is done within each Trainer Corps involvement opportunity and are 100% transferable to the work you do on your campus or within your organization! \n 
URL:https://www.labourmobility.com/events/nafsa-trainer-corps-virtual-enrichment-workshop-2/
CATEGORIES:2024 Events,Session,Workshop
END:VEVENT
END:VCALENDAR