BEGIN:VCALENDAR
VERSION:2.0
PRODID:-//Expertise in Labour Mobility - ECPv6.13.2.1//NONSGML v1.0//EN
CALSCALE:GREGORIAN
METHOD:PUBLISH
X-WR-CALNAME:Expertise in Labour Mobility
X-ORIGINAL-URL:https://www.labourmobility.com
X-WR-CALDESC:Events for Expertise in Labour Mobility
REFRESH-INTERVAL;VALUE=DURATION:PT1H
X-Robots-Tag:noindex
X-PUBLISHED-TTL:PT1H
BEGIN:VTIMEZONE
TZID:America/New_York
BEGIN:DAYLIGHT
TZOFFSETFROM:-0500
TZOFFSETTO:-0400
TZNAME:EDT
DTSTART:20250309T070000
END:DAYLIGHT
BEGIN:STANDARD
TZOFFSETFROM:-0400
TZOFFSETTO:-0500
TZNAME:EST
DTSTART:20251102T060000
END:STANDARD
END:VTIMEZONE
BEGIN:VTIMEZONE
TZID:Europe/Amsterdam
BEGIN:DAYLIGHT
TZOFFSETFROM:+0100
TZOFFSETTO:+0200
TZNAME:CEST
DTSTART:20250330T010000
END:DAYLIGHT
BEGIN:STANDARD
TZOFFSETFROM:+0200
TZOFFSETTO:+0100
TZNAME:CET
DTSTART:20251026T010000
END:STANDARD
END:VTIMEZONE
BEGIN:VEVENT
DTSTART;TZID=America/New_York:20250303T101500
DTEND;TZID=America/New_York:20250303T111500
DTSTAMP:20260425T010452
CREATED:20241030T120859Z
LAST-MODIFIED:20241030T134312Z
UID:17828-1740996900-1741000500@www.labourmobility.com
SUMMARY:AIEA 2025 | Bridging the Employer Views' Gap on Global Skills gained through Mobility
DESCRIPTION:Join Kellie McMullin\, Andrew Champagne and Nannette Ripmeester for their AIEA session titled “Bridging the Employer Views’ Gap on Global Skills gained through Mobility” on March 3rd 2025 at 10:15AM – 11:15AM CDT (16:15PM – 17:15PM CET) at Marriott Marquis in Houston Texas. \nSession description: \n“The session will focus on presenting data gathered on employer perspectives regarding study abroad and the effect of mobility experiences on the employability of graduates. The session is built around the outputs of a research project of 5 higher education institutions in Canada. The focus is on the often-overlooked voice of the employer which provides evidence on how HEIs can help students to best articulate the skills gained through their international experiences to future employers.” \nAIEA is the Association of International Education Administrations annual conference and will take place on March 2-5  2025 at the Marriott Marquis\, Houston Texas. The Association of International Education Administrators (AIEA) is the only association dedicated exclusively to senior leaders in the field of international education. \nThe AIEA 2025’s theme is “Building Bridges: Internationalization in a Changing World” where conference attendees will embark on a journey of exploration and discovery\, navigating the complexities and nuances of leading internationalization efforts in an ever-changing world.  Keen to know more about the conference? Click here.
URL:https://www.labourmobility.com/events/aiea-2025-bridging-the-employer-views-gap-on-global-skills-gained-through-mobility/
LOCATION:Marriott Marquis\, Houston Texas
CATEGORIES:2025 Events,Conference,Session
ATTACH;FMTTYPE=image/jpeg:https://www.labourmobility.com/wp-content/uploads/2024/10/AIEA-2025-e1730290097712.jpg
END:VEVENT
BEGIN:VEVENT
DTSTART;TZID=America/New_York:20250304T091500
DTEND;TZID=America/New_York:20250304T101500
DTSTAMP:20260425T010452
CREATED:20241030T121538Z
LAST-MODIFIED:20241030T134733Z
UID:17833-1741079700-1741083300@www.labourmobility.com
SUMMARY:AIEA 2025 | Bridging the gap between student expectations and student services
DESCRIPTION:Join Katie Orr\, Margaret Y. Luévano and Nannette Ripmeester for their AIEA session titled “Bridging the gap between student expectations and student services”on March 4th 2025 at 9:15AM – 10:15AM CDT (15:15PM – 16:15PM CET) at Marriott Marquis in Houston Texas. \nSession description: \n“This session will delve into the latest results from the International Student Barometer (ISB) in North America\, exploring key trends in student satisfaction\, institutional reputation\, and employability. Participants will gain insights into how American and Canadian universities outperform global benchmarks\, particularly in Net Promoter Scores and overall satisfaction. Additionally\, the session will address the evolving expectations of international students\, highlighting crucial areas like mental health support and the importance of managing career service expectations.” \nAIEA is the Association of International Education Administrations annual conference and will take place on March 2-5  2025 at the Marriott Marquis\, Houston Texas. The Association of International Education Administrators (AIEA) is the only association dedicated exclusively to senior leaders in the field of international education. \nThe AIEA 2025’s theme is “Building Bridges: Internationalization in a Changing World” where conference attendees will embark on a journey of exploration and discovery\, navigating the complexities and nuances of leading internationalization efforts in an ever-changing world.  Keen to know more about the conference? Click here.
URL:https://www.labourmobility.com/events/aiea-2025-bridging-the-gap-between-student-expectations-and-student-services/
LOCATION:Marriott Marquis\, Houston Texas
CATEGORIES:2025 Events,Conference,Session
ATTACH;FMTTYPE=image/jpeg:https://www.labourmobility.com/wp-content/uploads/2024/10/AIEA-2025-e1730290097712.jpg
END:VEVENT
BEGIN:VEVENT
DTSTART;TZID=Europe/Amsterdam:20250311T120000
DTEND;TZID=Europe/Amsterdam:20250311T150000
DTSTAMP:20260425T010452
CREATED:20250204T103148Z
LAST-MODIFIED:20251118T091529Z
UID:17938-1741694400-1741705200@www.labourmobility.com
SUMMARY:WORKSHOP | Understanding employability data in a global context
DESCRIPTION:The Tampere University in Finland hosts a workshop titled “understanding employability data in a global context” on 11 March 2025 (13:00 – 16:00 EET). \nTampere University takes part in the International Student Barometer (ISB). Following the ISB feedback presentation on 11 March\, the 3-hour workshop on the next day will support the understanding of the data related to employability. Combining the observations from Tampere’s own ‘developmental assessment 2024’ with the outcomes of the International Student Barometer 2024\, we will work through the data and its implications. Bringing in examples of good practice and trying to find a common ground between the ‘developmental assessment observations and the ISB data\, the workshop will set the stage for Tampere University to be ready for the changing legislation in Finland and lead the way for a strong employability foundation for its international students.
URL:https://www.labourmobility.com/events/workshop-understanding-employability-data-in-a-global-context/
LOCATION:Tampere University\, Finland
CATEGORIES:2025 Events,Workshop
ATTACH;FMTTYPE=image/jpeg:https://www.labourmobility.com/wp-content/uploads/2024/09/Students-in-library-1800px-e1726179905553.jpg
END:VEVENT
BEGIN:VEVENT
DTSTART;TZID=Europe/Amsterdam:20250313T091500
DTEND;TZID=Europe/Amsterdam:20250313T171500
DTSTAMP:20260425T010452
CREATED:20240709T092921Z
LAST-MODIFIED:20240709T092921Z
UID:17735-1741857300-1741886100@www.labourmobility.com
SUMMARY:CAREER GUIDANCE FOR PhD’S AND POSTDOCS (DAY 1) | RADBOUD UNIVERSITY
DESCRIPTION:Goal: \nThis series of workshops is aimed at clarifying career development for both international and Dutch PhD’s or postdocs at the beginning of their career. After the workshops they will have an action plan for career development and will be able to act upon this plan to take their career to the next level. \nContent: \nPhD’s and postdocs often face questions concerning career development – you have to prepare for the next step in your career\, one that is not necessarily taking place in the academic world. To be able to make progress\, you may want some guidance. You need to know your strong and weak points. You need to understand the power of networking. You need an understanding of the job market in both academia and the profit sector. You should be aware of (international) employment opportunities. \nA (virtual) high-intensity workshop\, delivered by Nannette Ripmeester\, of two full days tailored to PhD and Postdoc candidates that provides participants with the necessary tools and tips to understand their career values and identify future career paths based on their interests and skills. \nParticipants will have the opportunity to create their own action plan for their next career step. Most importantly\, they will be able to act on that action plan and take their career towards the next level\, either within academia or beyond. Delegates will feel empowered to look for work in their research field\, inside and outside of the Netherlands. \nKey Learnings: \nAt the end of the workshop\, all participants will: \n\nCreate an insight into personal and career goals;\nProvide a systematic process for exploring career needs;\nFocus on current position\, desired goals\, and unique personal resources;\nEnhance practical career skills (in a global world);\nCompare career options to formulate an action plan.\n\nCourse Language: English
URL:https://www.labourmobility.com/events/career-guidance-for-phds-and-postdocs-day-1-radboud-university-2/
LOCATION:Online
CATEGORIES:2025 Events,Workshop
ATTACH;FMTTYPE=image/png:https://www.labourmobility.com/wp-content/uploads/2024/07/Career-Guidance-PhD-and-Postdoc-day-1--e1720516827827.png
END:VEVENT
BEGIN:VEVENT
DTSTART;TZID=Europe/Amsterdam:20250314T091500
DTEND;TZID=Europe/Amsterdam:20250314T171500
DTSTAMP:20260425T010452
CREATED:20240709T093113Z
LAST-MODIFIED:20240709T093113Z
UID:17737-1741943700-1741972500@www.labourmobility.com
SUMMARY:CAREER GUIDANCE FOR PhD’S AND POSTDOCS (DAY 2) | RADBOUD UNIVERSITY
DESCRIPTION:Goal: \nThis series of workshops is aimed at clarifying career development for both international and Dutch PhD’s or postdocs at the beginning of their career. After the workshops they will have an action plan for career development and will be able to act upon this plan to take their career to the next level. \nContent: \nPhD’s and postdocs often face questions concerning career development – you have to prepare for the next step in your career\, one that is not necessarily taking place in the academic world. To be able to make progress\, you may want some guidance. You need to know your strong and weak points. You need to understand the power of networking. You need an understanding of the job market in both academia and the profit sector. You should be aware of (international) employment opportunities. \nA (virtual) high-intensity workshop\, delivered by Nannette Ripmeester\, of two full days tailored to PhD and Postdoc candidates that provides participants with the necessary tools and tips to understand their career values and identify future career paths based on their interests and skills. \nParticipants will have the opportunity to create their own action plan for their next career step. Most importantly\, they will be able to act on that action plan and take their career towards the next level\, either within academia or beyond. Delegates will feel empowered to look for work in their research field\, inside and outside of the Netherlands. \nKey Learnings: \nAt the end of the workshop\, all participants will: \n\nCreate an insight into personal and career goals;\nProvide a systematic process for exploring career needs;\nFocus on current position\, desired goals\, and unique personal resources;\nEnhance practical career skills (in a global world);\nCompare career options to formulate an action plan.\n\nCourse Language: English
URL:https://www.labourmobility.com/events/career-guidance-for-phds-and-postdocs-day-2-radboud-university-2/
LOCATION:Online
CATEGORIES:2025 Events,Workshop
ATTACH;FMTTYPE=image/png:https://www.labourmobility.com/wp-content/uploads/2024/07/Career-Guidance-PhD-and-Postdoc-day-2--e1720517108298.png
END:VEVENT
BEGIN:VEVENT
DTSTART;TZID=Europe/Amsterdam:20250324T080000
DTEND;TZID=Europe/Amsterdam:20250324T170000
DTSTAMP:20260425T010452
CREATED:20240724T163858Z
LAST-MODIFIED:20240724T163922Z
UID:17766-1742803200-1742835600@www.labourmobility.com
SUMMARY:HUMANE 2025: WINTER SCHOOL PROGRAMME BARCELONA
DESCRIPTION:As part of HUMANE’s Winter School Programme 2025\,  Nannette Ripmeester will give a presentation about “Leveraging intercultural competences in diverse teams” as part of the Leading Chnage In Strategy And Policy – Internationalisation theme on March 24th\, 2025 at 14:30 – 15:30 CET. \nThe HUMANE Winter School develops the leadership capability of senior managers on the core theme of managing changes in strategy and policy. These themes are developed through strategic conversations with highly experienced leaders and managers in higher education\, practical casework and highly interactive team building sessions. The case material focuses on internationalisation strategy and policy choices and approaches\, and their implications for professional services across faculties\, schools\, and central support departments. \nThis Winter programme\, held in Barcelona from the 23th to the 28nd of March 2025\, will encourage discussion and debate\, incorporating insights from the host region and inspiration from participants. Innovative ideas and lingering questions are welcome!
URL:https://www.labourmobility.com/events/humane-2025-winter-school-programme-barcelona/
LOCATION:University Pompeu Fabra\, Barcelona
CATEGORIES:2025 Events,Session
ATTACH;FMTTYPE=image/jpeg:https://www.labourmobility.com/wp-content/uploads/2024/07/Barcelona-WS-2016_MEDIUM.jpg
END:VEVENT
END:VCALENDAR