BEGIN:VCALENDAR
VERSION:2.0
PRODID:-//Expertise in Labour Mobility - ECPv6.13.2.1//NONSGML v1.0//EN
CALSCALE:GREGORIAN
METHOD:PUBLISH
X-WR-CALNAME:Expertise in Labour Mobility
X-ORIGINAL-URL:https://www.labourmobility.com
X-WR-CALDESC:Events for Expertise in Labour Mobility
REFRESH-INTERVAL;VALUE=DURATION:PT1H
X-Robots-Tag:noindex
X-PUBLISHED-TTL:PT1H
BEGIN:VTIMEZONE
TZID:Europe/Amsterdam
BEGIN:DAYLIGHT
TZOFFSETFROM:+0100
TZOFFSETTO:+0200
TZNAME:CEST
DTSTART:20250330T010000
END:DAYLIGHT
BEGIN:STANDARD
TZOFFSETFROM:+0200
TZOFFSETTO:+0100
TZNAME:CET
DTSTART:20251026T010000
END:STANDARD
END:VTIMEZONE
BEGIN:VEVENT
DTSTART;TZID=Europe/Amsterdam:20250603T093000
DTEND;TZID=Europe/Amsterdam:20250603T163000
DTSTAMP:20260424T163009
CREATED:20250521T152118Z
LAST-MODIFIED:20250521T161621Z
UID:18021-1748943000-1748968200@www.labourmobility.com
SUMMARY:WORKSHOP: ONE-DAY WORKSHOP FOR PhD CANDIDATES | TU EINDHOVEN
DESCRIPTION:What is it like to work across borders? What if you’re entire team is international?  Nannette Ripmeester will give a dynamic and hands-on workshop for PhD candidates about “Working in an international team” on June 3rd\, 2025 at 9.30AM – 16.30PM CEST at TU Eindhoven Campus. \nThis interactive full-day event will explore how cultural differences effect the way one collaborates and communicates in a team and how this links to future careers. The goal of the workshop focuses on the areas of understanding how people approach work\, research\, and communication differently across cultures and why that matters\, learn how to build effective collaboration in diverse teams\, and participating in exercises to understand one’s own work style. This workshop will give PhD candidates the tools to understand cultural nuances and use them to their advantage in team settings.
URL:https://www.labourmobility.com/events/workshop-one-day-workshop-for-phd-candidates-tu-eindhoven/
LOCATION:TU Eindhoven
CATEGORIES:2025 Events,Workshop
ATTACH;FMTTYPE=image/jpeg:https://www.labourmobility.com/wp-content/uploads/2025/05/tue-1-2500x1225-1-e1747840847609.jpg
END:VEVENT
BEGIN:VEVENT
DTSTART;TZID=Europe/Amsterdam:20250616T093000
DTEND;TZID=Europe/Amsterdam:20250616T163000
DTSTAMP:20260424T163009
CREATED:20250616T133335Z
LAST-MODIFIED:20250616T133335Z
UID:18057-1750066200-1750091400@www.labourmobility.com
SUMMARY:CAREER DEVELOPMENT: ‘LOOKING FOR WORK IN THE NETHERLANDS’ FOR INTERNATIONAL PHD CANDIDATES | TU DELFT
DESCRIPTION:International PhD candidates looking for a job in the Netherlands often face questions around career development to prepare for their next career step\, a step that is not necessarily taking place in the academic world. This one-day workshop aims to deliver insights into balancing your career values with your career goals.  What job opportunities offer academia vs the profit sector in the Netherlands? What questions are raised during a job interview? What makes a Dutch employer tick? And what makes an international PhD candidate outstanding? \nThe Graduate School has chosen to deliver this workshop in person on the TU Delft premises. Stay connected\, stay positive\, and prepare for the future.    \nLecturer: Nannette Ripmeester
URL:https://www.labourmobility.com/events/career-development-looking-for-work-in-the-netherlands-for-international-phd-candidates-tu-delft-10/
LOCATION:TU Delft
CATEGORIES:2025 Events,Workshop
ATTACH;FMTTYPE=image/png:https://www.labourmobility.com/wp-content/uploads/2024/07/TU-DELFT-university-1-e1720527869867.png
END:VEVENT
BEGIN:VEVENT
DTSTART;TZID=Europe/Amsterdam:20250617T093000
DTEND;TZID=Europe/Amsterdam:20250617T163000
DTSTAMP:20260424T163009
CREATED:20240709T123056Z
LAST-MODIFIED:20240709T123056Z
UID:17761-1750152600-1750177800@www.labourmobility.com
SUMMARY:CAREER DEVELOPMENT: ‘LOOKING FOR WORK IN THE NETHERLANDS’ FOR INTERNATIONAL PHD CANDIDATES | TU DELFT
DESCRIPTION:International PhD candidates looking for a job in the Netherlands often face questions around career development to prepare for their next career step\, a step that is not necessarily taking place in the academic world. This one-day workshop aims to deliver insights into balancing your career values with your career goals.  What job opportunities offer academia vs the profit sector in the Netherlands? What questions are raised during a job interview? What makes a Dutch employer tick? And what makes an international PhD candidate outstanding? \nThe Graduate School has chosen to deliver this workshop in person on the TU Delft premises. Stay connected\, stay positive\, and prepare for the future.    \nLecturer: Nannette Ripmeester
URL:https://www.labourmobility.com/events/career-development-looking-for-work-in-the-netherlands-for-international-phd-candidates-tu-delft-4/
LOCATION:TU Delft
CATEGORIES:2025 Events,Workshop
ATTACH;FMTTYPE=image/png:https://www.labourmobility.com/wp-content/uploads/2024/07/TU-DELFT-university-1-e1720527869867.png
END:VEVENT
BEGIN:VEVENT
DTSTART;TZID=Europe/Amsterdam:20250626T120000
DTEND;TZID=Europe/Amsterdam:20250626T124500
DTSTAMP:20260424T163009
CREATED:20250527T151006Z
LAST-MODIFIED:20250604T085046Z
UID:18028-1750939200-1750941900@www.labourmobility.com
SUMMARY:LUNCH WEBINAR: HOW IS AI RESHAPING THE STUDENT EXPERIENCE ACROSS BORDERS? INSIGHTS FROM THE WORLD'S LARGEST STUDENT SURVEY.
DESCRIPTION:Join Nannette Ripmeester (Regional Director Surveys – Europe and N. America) for the lunch webinar about “How Is AI Reshaping the Student Experience Across Borders? Insights from the World’s Largest Student Survey.” on June 26th\, 2025 at 12.00 – 12.45 CEST. \nThe International Student Barometer (ISB) is the largest global survey of currently enrolled students and provides participating institutions with regional\, national and global benchmarks. During this lunch webinar\, Nannette Ripmeester will share data (100K+ international students) on how currently enrolled students perceive and interact with AI. Interested in knowing more? Have a look at etio and University World News’ related articles about how students perceive and use AI. \nThis webinar is for the European Digital Education Hub\, an EU-funded initiative about digital education.
URL:https://www.labourmobility.com/events/lunch-webinar-how-106-427-international-students-use-and-perceive-ai/
LOCATION:Online
CATEGORIES:2025 Events,Webinar
ATTACH;FMTTYPE=image/jpeg:https://www.labourmobility.com/wp-content/uploads/2025/05/steve-johnson-_0iV9LmPDn0-unsplash-scaled-e1747817390880.jpg
END:VEVENT
END:VCALENDAR