BEGIN:VCALENDAR
VERSION:2.0
PRODID:-//Expertise in Labour Mobility - ECPv6.13.2.1//NONSGML v1.0//EN
CALSCALE:GREGORIAN
METHOD:PUBLISH
X-ORIGINAL-URL:https://www.labourmobility.com
X-WR-CALDESC:Events for Expertise in Labour Mobility
REFRESH-INTERVAL;VALUE=DURATION:PT1H
X-Robots-Tag:noindex
X-PUBLISHED-TTL:PT1H
BEGIN:VTIMEZONE
TZID:Europe/Amsterdam
BEGIN:DAYLIGHT
TZOFFSETFROM:+0100
TZOFFSETTO:+0200
TZNAME:CEST
DTSTART:20250330T010000
END:DAYLIGHT
BEGIN:STANDARD
TZOFFSETFROM:+0200
TZOFFSETTO:+0100
TZNAME:CET
DTSTART:20251026T010000
END:STANDARD
END:VTIMEZONE
BEGIN:VEVENT
DTSTART;TZID=Europe/Amsterdam:20250904T110000
DTEND;TZID=Europe/Amsterdam:20250904T120000
DTSTAMP:20260424T072955
CREATED:20250723T152950Z
LAST-MODIFIED:20250907T185019Z
UID:18154-1756983600-1756987200@www.labourmobility.com
SUMMARY:WEBINAR | From Insight to Impact: Understanding the International Student Voice with the ISB
DESCRIPTION:Join Nannette Ripmeester (Regional Director Surveys – Europe and N. America) for the webinar about “From Insight to Impact: Understanding the International Student Voice with the ISB” on September 4th\, 2025 at 11.00AM – 12.00PM CET. \nThe International Student Barometer (ISB) is the largest global survey of currently enrolled students and provides participating institutions with regional\, national and global benchmarks. During this  webinar\, Nannette will illustrate how ISB data helps to interpret data around international student satisfaction across academic\, living\, and support services. Insights into student motivations\, decision-making\, and the factors driving happiness and recommendation will be delved into. Moreover\, some case studies of how ISB data is used in other countries (Germany\, Estonia\, Sweden\, Finland) to improve institutional performance and attract international students will also be shared. \nKey Takeaways\n1. Discover global trends in student satisfaction and decision-making.\n2. Learn how to benchmark and improve your institution’s performance.\n3. Gain actionable insights to strengthen your international recruitment and marketing strategies. \nThis webinar is for Spanish HEIs. You can register here.
URL:https://www.labourmobility.com/events/webinar-from-insight-to-impact-understanding-the-international-student-voice-with-the-isb/
LOCATION:Online
CATEGORIES:2025 Events,Webinar
ATTACH;FMTTYPE=image/png:https://www.labourmobility.com/wp-content/uploads/2025/07/webinar-e1753284572129.png
END:VEVENT
BEGIN:VEVENT
DTSTART;TZID=Europe/Amsterdam:20250904T151000
DTEND;TZID=Europe/Amsterdam:20250904T160000
DTSTAMP:20260424T072955
CREATED:20250902T101707Z
LAST-MODIFIED:20250902T101707Z
UID:18178-1756998600-1757001600@www.labourmobility.com
SUMMARY:KENCES WORKSHOP: "How can student housing help universities attract and care for students?”
DESCRIPTION:Join Henny Smit (VU\, Team Leader International Services)\, Kumi Tempels (Nuffic\, Senior policy advisor)\, Judith van Diepen (HotelSchool The Hague\, Manager Real Life Learning)\, Febe Piccinin (ESN NL\, President)\, and Nannette Ripmeester (Regional Director Surveys – Europe and N. America) for the workshop about “How can student housing help universities attract and care for students?” on September 4th\, 2025 at 11.00AM – 12.00PM CET. \nThe workshop is structured in two parts. It begins with a series of data-driven presentations highlighting key insights from international student surveys\, national statistics on international students in the Netherlands\, and research on how accommodation influences student well-being. This is followed by a discussion on the critical role of housing in attracting and supporting international students. Interested in knowing more? Register here and more information can be found here.
URL:https://www.labourmobility.com/events/kences-workshop-how-can-student-housing-help-universities-attract-and-care-for-students/
LOCATION:De Vasim
CATEGORIES:2025 Events,Workshop
ATTACH;FMTTYPE=image/png:https://www.labourmobility.com/wp-content/uploads/2025/09/landelijk-congres-e1756807961764.png
END:VEVENT
END:VCALENDAR