BEGIN:VCALENDAR
VERSION:2.0
PRODID:-//Expertise in Labour Mobility - ECPv6.13.2.1//NONSGML v1.0//EN
CALSCALE:GREGORIAN
METHOD:PUBLISH
X-WR-CALNAME:Expertise in Labour Mobility
X-ORIGINAL-URL:https://www.labourmobility.com
X-WR-CALDESC:Events for Expertise in Labour Mobility
REFRESH-INTERVAL;VALUE=DURATION:PT1H
X-Robots-Tag:noindex
X-PUBLISHED-TTL:PT1H
BEGIN:VTIMEZONE
TZID:Europe/Amsterdam
BEGIN:DAYLIGHT
TZOFFSETFROM:+0100
TZOFFSETTO:+0200
TZNAME:CEST
DTSTART:20260329T010000
END:DAYLIGHT
BEGIN:STANDARD
TZOFFSETFROM:+0200
TZOFFSETTO:+0100
TZNAME:CET
DTSTART:20261025T010000
END:STANDARD
END:VTIMEZONE
BEGIN:VEVENT
DTSTART;TZID=Europe/Amsterdam:20260302T090000
DTEND;TZID=Europe/Amsterdam:20260415T200000
DTSTAMP:20260423T180024
CREATED:20260309T100657Z
LAST-MODIFIED:20260311T122905Z
UID:18298-1772442000-1776283200@www.labourmobility.com
SUMMARY:ISB FEEDBACK SESSIONS 2026
DESCRIPTION:It is that time of the year again: Nannette Ripmeester (Director Surveys Europe\, Africa & North America for etio) will present the feedback results of Europe\, North America\, and Africa (Northern Hemisphere)\, based on the International Student Barometer™ (ISB) data. These invitation-only ISB feedback sessions for the northern hemisphere are taking place from March 2 until April 15\, 2026. \nThe International Student Barometer™ (ISB)\, the largest global benchmark survey on student satisfaction\, tracks and compares the decision-making\, expectations\, perceptions and intentions of international students from application to graduation. It enables institutions to make informed decisions to enhance the international student experience and drive successful recruitment and marketing strategies.  For some institutions\, we survey both international (ISB) and domestic (SB) students\, allowing strong indicators as to whether an issue is only relevant for your international student cohort or whether it is an issue that affects both international and domestic students. \nNext to Student Barometer for inbound students\, Etio has the iMPACT survey for outbound students.
URL:https://www.labourmobility.com/events/isb-feedback-sessions-2026/
LOCATION:Online
CATEGORIES:2026 Events,ISB feedback presentation,Session
ATTACH;FMTTYPE=image/jpeg:https://www.labourmobility.com/wp-content/uploads/2026/02/374089-shutterstock_739173778-1-scaled-e1770111569883.jpeg
END:VEVENT
BEGIN:VEVENT
DTSTART;TZID=Europe/Amsterdam:20260302T141500
DTEND;TZID=Europe/Amsterdam:20260302T151500
DTSTAMP:20260423T180024
CREATED:20260219T110225Z
LAST-MODIFIED:20260219T145957Z
UID:18292-1772460900-1772464500@www.labourmobility.com
SUMMARY:DONDERS CAREER DAY | NAVIGATING THE DUTCH JOB MARKET FOR PhDs AND Postdocs
DESCRIPTION:Join Nannette Ripmeester (Expertise in Labour Mobility) for her session about “Navigating the Dutch Job Market for PhDs and Postdocs” for Donders Career Day on 2 March  at 14:15-15:15 pm at the Donders Institute for Brain\, Cognition\, and behavior\, Radboud University. \nThis workshop aims to support participants who are keen to expand their career search\, with a clear focus on PhD candidates and postdocs who wish to stay in the Netherlands. Participants are encouraged to reflect on what drives their career decisions while gaining practical insight into the Dutch labour market. The session covers what motivates Dutch employers and the key dos and don’ts of Dutch application procedures\, helping participants approach their job search with greater confidence. More information can be found here. \nThis is an invitation-only event.
URL:https://www.labourmobility.com/events/donders-career-day-navigating-the-dutch-job-market-for-phds-and-postdocs/
LOCATION:Radboud University
CATEGORIES:2026 Events,Session
ATTACH;FMTTYPE=image/png:https://www.labourmobility.com/wp-content/uploads/2026/02/Donders-16-9.png
END:VEVENT
BEGIN:VEVENT
DTSTART;TZID=Europe/Amsterdam:20260310T093000
DTEND;TZID=Europe/Amsterdam:20260310T163000
DTSTAMP:20260423T180024
CREATED:20250909T093329Z
LAST-MODIFIED:20250909T093329Z
UID:18184-1773135000-1773160200@www.labourmobility.com
SUMMARY:CAREER DEVELOPMENT: ‘LOOKING FOR WORK IN THE NETHERLANDS’ FOR INTERNATIONAL PHD CANDIDATES | TU DELFT
DESCRIPTION:International PhD candidates looking for a job in the Netherlands often face questions around career development to prepare for their next career step\, a step that is not necessarily taking place in the academic world. This one-day workshop aims to deliver insights into balancing your career values with your career goals.  What job opportunities offer academia vs the profit sector in the Netherlands? What questions are raised during a job interview? What makes a Dutch employer tick? And what makes an international PhD candidate outstanding? \nThe Graduate School has chosen to deliver this workshop in person on the TU Delft premises. Stay connected\, stay positive\, and prepare for the future.    \nLecturer: Nannette Ripmeester
URL:https://www.labourmobility.com/events/career-development-looking-for-work-in-the-netherlands-for-international-phd-candidates-tu-delft-16/
LOCATION:TU Delft
CATEGORIES:2026 Events,Workshop
ATTACH;FMTTYPE=image/png:https://www.labourmobility.com/wp-content/uploads/2024/07/TU-DELFT-university-1-e1720527869867.png
END:VEVENT
END:VCALENDAR