BEGIN:VCALENDAR
VERSION:2.0
PRODID:-//Expertise in Labour Mobility - ECPv6.13.2.1//NONSGML v1.0//EN
CALSCALE:GREGORIAN
METHOD:PUBLISH
X-ORIGINAL-URL:https://www.labourmobility.com
X-WR-CALDESC:Events for Expertise in Labour Mobility
REFRESH-INTERVAL;VALUE=DURATION:PT1H
X-Robots-Tag:noindex
X-PUBLISHED-TTL:PT1H
BEGIN:VTIMEZONE
TZID:Europe/Amsterdam
BEGIN:DAYLIGHT
TZOFFSETFROM:+0100
TZOFFSETTO:+0200
TZNAME:CEST
DTSTART:20260329T010000
END:DAYLIGHT
BEGIN:STANDARD
TZOFFSETFROM:+0200
TZOFFSETTO:+0100
TZNAME:CET
DTSTART:20261025T010000
END:STANDARD
END:VTIMEZONE
BEGIN:VEVENT
DTSTART;TZID=Europe/Amsterdam:20260528T080000
DTEND;TZID=Europe/Amsterdam:20260528T170000
DTSTAMP:20260423T133355
CREATED:20260203T092521Z
LAST-MODIFIED:20260203T092602Z
UID:18270-1779955200-1779987600@www.labourmobility.com
SUMMARY:NAFSA 2026 POSTER | HOW DO STUDENTS USE AI? FINDINGS FROM >100K INTERNATIONAL STUDENTS
DESCRIPTION:Join Nannette Ripmeester (Expertise in Labour Mobility / etio) for an insightful NAFSA poster presentation about “How do students use AI? Frindings from >100k international students” in Orlando\, Florida USA. \nThe NAFSA Annual Conference & Expo\, scheduled on May 26-29 2026\, will focus on how to design the future of our field with purpose\, creativity\, and imagination. It will also examine how forward-thinking strategies\, cutting-edge approaches\, and creative partnerships can amplify impact and expand meaningful global experiences. \nPoster Information \nThe role and impact of Artificial Intelligence (AI) are paramount in our day-to-day lives; hence\, knowing how students use and perceive AI is key for educators. With a global survey of over 100K international students\, we are trying to understand how AI impacts study and career concerns\naccording to the students themselves. \nLearning Objectives \n\nDemonstrate how currently enrolled students interact with AI.\nMake insight-based and informed decisions around whether and how to incorporate AI tools.\nUnderstand the impact of AI on career outcomes for a generation that is ‘global by design’.\n\nMore Information can be found here. See you there!
URL:https://www.labourmobility.com/events/nafsa-2026-poster-how-do-students-use-ai-findings-from-100k-international-students/
CATEGORIES:2026 Events,Conference,Poster Presentation
ATTACH;FMTTYPE=image/png:https://www.labourmobility.com/wp-content/uploads/2026/02/Orlando-Banner-e1770110704196.png
END:VEVENT
BEGIN:VEVENT
DTSTART;TZID=Europe/Amsterdam:20260616T093000
DTEND;TZID=Europe/Amsterdam:20260616T163000
DTSTAMP:20260423T133355
CREATED:20250616T133754Z
LAST-MODIFIED:20250923T092637Z
UID:18061-1781602200-1781627400@www.labourmobility.com
SUMMARY:CAREER DEVELOPMENT: ‘LOOKING FOR WORK IN THE NETHERLANDS’ FOR INTERNATIONAL PHD CANDIDATES | TU DELFT
DESCRIPTION:International PhD candidates looking for a job in the Netherlands often face questions around career development to prepare for their next career step\, a step that is not necessarily taking place in the academic world. This one-day workshop aims to deliver insights into balancing your career values with your career goals.  What job opportunities offer academia vs the profit sector in the Netherlands? What questions are raised during a job interview? What makes a Dutch employer tick? And what makes an international PhD candidate outstanding? \nThe Graduate School has chosen to deliver this workshop in person on the TU Delft premises. Stay connected\, stay positive\, and prepare for the future.    \nLecturer: Nannette Ripmeester
URL:https://www.labourmobility.com/events/career-development-looking-for-work-in-the-netherlands-for-international-phd-candidates-tu-delft-12/
LOCATION:TU Delft
CATEGORIES:2026 Events,Workshop
ATTACH;FMTTYPE=image/png:https://www.labourmobility.com/wp-content/uploads/2024/07/TU-DELFT-university-1-e1720527869867.png
END:VEVENT
BEGIN:VEVENT
DTSTART;TZID=Europe/Amsterdam:20260618T091500
DTEND;TZID=Europe/Amsterdam:20260618T171500
DTSTAMP:20260423T133355
CREATED:20250630T114913Z
LAST-MODIFIED:20250630T114913Z
UID:18136-1781774100-1781802900@www.labourmobility.com
SUMMARY:CAREER GUIDANCE FOR PhD’S AND POSTDOCS (DAY 1) | RADBOUD UNIVERSITY
DESCRIPTION:Goal: \nThis series of workshops is aimed at clarifying career development for both international and Dutch PhD’s or postdocs at the beginning of their career. After the workshops they will have an action plan for career development and will be able to act upon this plan to take their career to the next level. \nContent: \nPhD’s and postdocs often face questions concerning career development – you have to prepare for the next step in your career\, one that is not necessarily taking place in the academic world. To be able to make progress\, you may want some guidance. You need to know your strong and weak points. You need to understand the power of networking. You need an understanding of the job market in both academia and the profit sector. You should be aware of (international) employment opportunities. \nA (virtual) high-intensity workshop\, delivered by Nannette Ripmeester\, of two full days tailored to PhD and Postdoc candidates that provides participants with the necessary tools and tips to understand their career values and identify future career paths based on their interests and skills. \nParticipants will have the opportunity to create their own action plan for their next career step. Most importantly\, they will be able to act on that action plan and take their career towards the next level\, either within academia or beyond. Delegates will feel empowered to look for work in their research field\, inside and outside of the Netherlands. \nKey Learnings: \nAt the end of the workshop\, all participants will: \n\nCreate an insight into personal and career goals;\nProvide a systematic process for exploring career needs;\nFocus on current position\, desired goals\, and unique personal resources;\nEnhance practical career skills (in a global world);\nCompare career options to formulate an action plan.\n\nCourse Language: English
URL:https://www.labourmobility.com/events/career-guidance-for-phds-and-postdocs-day-1-radboud-university-8/
LOCATION:Online
CATEGORIES:2026 Events,Workshop
ATTACH;FMTTYPE=image/png:https://www.labourmobility.com/wp-content/uploads/2024/06/Career-Guidance-PhD-and-Postdoc-1-1-e1718014867326.png
END:VEVENT
BEGIN:VEVENT
DTSTART;TZID=Europe/Amsterdam:20260619T091500
DTEND;TZID=Europe/Amsterdam:20260619T171500
DTSTAMP:20260423T133355
CREATED:20250630T115036Z
LAST-MODIFIED:20250630T115036Z
UID:18138-1781860500-1781889300@www.labourmobility.com
SUMMARY:CAREER GUIDANCE FOR PhD’S AND POSTDOCS (DAY 2) | RADBOUD UNIVERSITY
DESCRIPTION:Goal: \nThis series of workshops is aimed at clarifying career development for both international and Dutch PhD’s or postdocs at the beginning of their career. After the workshops they will have an action plan for career development and will be able to act upon this plan to take their career to the next level. \nContent: \nPhD’s and postdocs often face questions concerning career development – you have to prepare for the next step in your career\, one that is not necessarily taking place in the academic world. To be able to make progress\, you may want some guidance. You need to know your strong and weak points. You need to understand the power of networking. You need an understanding of the job market in both academia and the profit sector. You should be aware of (international) employment opportunities. \nA (virtual) high-intensity workshop\, delivered by Nannette Ripmeester\, of two full days tailored to PhD and Postdoc candidates that provides participants with the necessary tools and tips to understand their career values and identify future career paths based on their interests and skills. \nParticipants will have the opportunity to create their own action plan for their next career step. Most importantly\, they will be able to act on that action plan and take their career towards the next level\, either within academia or beyond. Delegates will feel empowered to look for work in their research field\, inside and outside of the Netherlands. \nKey Learnings: \nAt the end of the workshop\, all participants will: \n\nCreate an insight into personal and career goals;\nProvide a systematic process for exploring career needs;\nFocus on current position\, desired goals\, and unique personal resources;\nEnhance practical career skills (in a global world);\nCompare career options to formulate an action plan.\n\nCourse Language: English
URL:https://www.labourmobility.com/events/career-guidance-for-phds-and-postdocs-day-2-radboud-university-8/
LOCATION:Online
CATEGORIES:2026 Events,Workshop
ATTACH;FMTTYPE=image/png:https://www.labourmobility.com/wp-content/uploads/2024/06/Career-Guidance-PhD-and-Postdoc-2-e1718015067601.png
END:VEVENT
BEGIN:VEVENT
DTSTART;TZID=Europe/Amsterdam:20260709T093000
DTEND;TZID=Europe/Amsterdam:20260709T163000
DTSTAMP:20260423T133355
CREATED:20250616T133926Z
LAST-MODIFIED:20250616T134306Z
UID:18063-1783589400-1783614600@www.labourmobility.com
SUMMARY:CAREER DEVELOPMENT: ‘LOOKING FOR WORK IN THE NETHERLANDS’ FOR INTERNATIONAL PHD CANDIDATES | TU DELFT
DESCRIPTION:International PhD candidates looking for a job in the Netherlands often face questions around career development to prepare for their next career step\, a step that is not necessarily taking place in the academic world. This one-day workshop aims to deliver insights into balancing your career values with your career goals.  What job opportunities offer academia vs the profit sector in the Netherlands? What questions are raised during a job interview? What makes a Dutch employer tick? And what makes an international PhD candidate outstanding? \nThe Graduate School has chosen to deliver this workshop in person on the TU Delft premises. Stay connected\, stay positive\, and prepare for the future.    \nLecturer: Nannette Ripmeester
URL:https://www.labourmobility.com/events/career-development-looking-for-work-in-the-netherlands-for-international-phd-candidates-tu-delft-13/
LOCATION:TU Delft
CATEGORIES:2026 Events,Workshop
ATTACH;FMTTYPE=image/png:https://www.labourmobility.com/wp-content/uploads/2024/07/TU-DELFT-university-1-e1720527869867.png
END:VEVENT
BEGIN:VEVENT
DTSTART;TZID=Europe/Amsterdam:20260908T080000
DTEND;TZID=Europe/Amsterdam:20260911T170000
DTSTAMP:20260423T133355
CREATED:20260402T134311Z
LAST-MODIFIED:20260402T134311Z
UID:18321-1788854400-1789146000@www.labourmobility.com
SUMMARY:EAIE 2026 GLASGOW | THE RHYTHM OF REVOLUTION
DESCRIPTION:The European Association for International Education (EAIE) 2026 conference scheduled on September 8-11th will highlight the rhythm of revolution – a call to question\, collaborate and create lasting change. Set against the backdrop of a city that lives and breathes reinvention\, this conference invites bold thinkers and changemakers to step forward and shape the future of our field. For more information on the EAIE conference\, click here. \nMore information to follow.
URL:https://www.labourmobility.com/events/eaie-2026-glasgow-the-rhythm-of-revolution/
LOCATION:Glasgow\, Scotland
CATEGORIES:2026 Events,Conference,Session
ATTACH;FMTTYPE=image/jpeg:https://www.labourmobility.com/wp-content/uploads/2026/04/maxresdefault-e1775137362499.jpg
END:VEVENT
BEGIN:VEVENT
DTSTART;TZID=Europe/Amsterdam:20261001T091500
DTEND;TZID=Europe/Amsterdam:20261001T171500
DTSTAMP:20260423T133355
CREATED:20251218T111053Z
LAST-MODIFIED:20251218T111053Z
UID:18256-1790846100-1790874900@www.labourmobility.com
SUMMARY:CAREER GUIDANCE FOR PhD’S AND POSTDOCS (DAY 1) | RADBOUD UNIVERSITY
DESCRIPTION:Goal: \nThis series of workshops is aimed at clarifying career development for both international and Dutch PhD’s or postdocs at the beginning of their career. After the workshops they will have an action plan for career development and will be able to act upon this plan to take their career to the next level. \nContent: \nPhD’s and postdocs often face questions concerning career development – you have to prepare for the next step in your career\, one that is not necessarily taking place in the academic world. To be able to make progress\, you may want some guidance. You need to know your strong and weak points. You need to understand the power of networking. \nThis high-intensity (virtual) 2-day workshop\, delivered by Nannette Ripmeester\, tailored to PhD candidates and Postdocs will provide participants with the necessary tools and tips to understand their career values and identify future career paths based on their interests and skills. The workshop will help participants get to grips with their international career development and create their own action plan for their next career step\, whether that career will be in the Netherlands or elsewhere and whether it is taking place in the academic world or outside of it. Irrespective those choices\, to be able to make career progress\, candidates may want some guidance. They need an understanding of the job market in both academia and the profit sector\, being aware of (international) employment opportunities.  \nKey Learnings: \nWith a small group of PhD candidates and Postdocs\, we will work in interactive (virtual) sessions. Our approach focuses the attention on strengths and possibilities. \n\ncreating an insight into personal and career goals\nproviding a systematic process for exploring career needs\nfocusing on current position\, desired goals\, and unique personal resources\nenhancing practical career skills (in a global world)\ncomparing career options to formulate an action plan.\n\nCourse Language: English
URL:https://www.labourmobility.com/events/career-guidance-for-phds-and-postdocs-day-1-radboud-university-9/
LOCATION:Online
CATEGORIES:2026 Events,Online Workshop,PhD Workshop,Workshop
ATTACH;FMTTYPE=image/png:https://www.labourmobility.com/wp-content/uploads/2024/07/Career-Guidance-PhD-and-Postdoc-day-1--e1720516827827.png
END:VEVENT
BEGIN:VEVENT
DTSTART;TZID=Europe/Amsterdam:20261002T091500
DTEND;TZID=Europe/Amsterdam:20261002T171500
DTSTAMP:20260423T133355
CREATED:20251218T111226Z
LAST-MODIFIED:20251218T111226Z
UID:18258-1790932500-1790961300@www.labourmobility.com
SUMMARY:CAREER GUIDANCE FOR PhD’S AND POSTDOCS (DAY 2) | RADBOUD UNIVERSITY
DESCRIPTION:Goal: \nThis series of workshops is aimed at clarifying career development for both international and Dutch PhD’s or postdocs at the beginning of their career. After the workshops they will have an action plan for career development and will be able to act upon this plan to take their career to the next level. \nContent: \nPhD’s and postdocs often face questions concerning career development – you have to prepare for the next step in your career\, one that is not necessarily taking place in the academic world. To be able to make progress\, you may want some guidance. You need to know your strong and weak points. You need to understand the power of networking. \nThis high-intensity (virtual) 2-day workshop\, delivered by Nannette Ripmeester\, tailored to PhD candidates and Postdocs will provide participants with the necessary tools and tips to understand their career values and identify future career paths based on their interests and skills. The workshop will help participants get to grips with their international career development and create their own action plan for their next career step\, whether that career will be in the Netherlands or elsewhere and whether it is taking place in the academic world or outside of it. Irrespective those choices\, to be able to make career progress\, candidates may want some guidance. They need an understanding of the job market in both academia and the profit sector\, being aware of (international) employment opportunities.  \nKey Learnings: \nWith a small group of PhD candidates and Postdocs\, we will work in interactive (virtual) sessions. Our approach focuses the attention on strengths and possibilities. \n\ncreating an insight into personal and career goals\nproviding a systematic process for exploring career needs\nfocusing on current position\, desired goals\, and unique personal resources\nenhancing practical career skills (in a global world)\ncomparing career options to formulate an action plan.\n\nCourse Language: English
URL:https://www.labourmobility.com/events/career-guidance-for-phds-and-postdocs-day-2-radboud-university-9/
LOCATION:Online
CATEGORIES:2026 Events,Online Workshop,PhD Workshop,Workshop
ATTACH;FMTTYPE=image/png:https://www.labourmobility.com/wp-content/uploads/2024/07/Career-Guidance-PhD-and-Postdoc-day-2--e1720517108298.png
END:VEVENT
BEGIN:VEVENT
DTSTART;TZID=Europe/Amsterdam:20261006T093000
DTEND;TZID=Europe/Amsterdam:20261006T163000
DTSTAMP:20260423T133355
CREATED:20250616T134118Z
LAST-MODIFIED:20250616T134118Z
UID:18065-1791279000-1791304200@www.labourmobility.com
SUMMARY:CAREER DEVELOPMENT: ‘LOOKING FOR WORK IN THE NETHERLANDS’ FOR INTERNATIONAL PHD CANDIDATES | TU DELFT
DESCRIPTION:International PhD candidates looking for a job in the Netherlands often face questions around career development to prepare for their next career step\, a step that is not necessarily taking place in the academic world. This one-day workshop aims to deliver insights into balancing your career values with your career goals.  What job opportunities offer academia vs the profit sector in the Netherlands? What questions are raised during a job interview? What makes a Dutch employer tick? And what makes an international PhD candidate outstanding? \nThe Graduate School has chosen to deliver this workshop in person on the TU Delft premises. Stay connected\, stay positive\, and prepare for the future.    \nLecturer: Nannette Ripmeester
URL:https://www.labourmobility.com/events/career-development-looking-for-work-in-the-netherlands-for-international-phd-candidates-tu-delft-14/
LOCATION:TU Delft
CATEGORIES:2026 Events,Workshop
ATTACH;FMTTYPE=image/png:https://www.labourmobility.com/wp-content/uploads/2024/07/TU-DELFT-university-1-e1720527869867.png
END:VEVENT
BEGIN:VEVENT
DTSTART;TZID=Europe/Amsterdam:20261012T114500
DTEND;TZID=Europe/Amsterdam:20261012T124500
DTSTAMP:20260423T133355
CREATED:20260414T113855Z
LAST-MODIFIED:20260415T094100Z
UID:18338-1791805500-1791809100@www.labourmobility.com
SUMMARY:CIGL Lisbon 2026 | Framework First: Competency Models for Global Learning
DESCRIPTION:Join  Kate Moore  (Principal and Founder\, Global Career Centre) and Nannette Ripmeester (Director\, Expertise in Labour Mobility/etio) for their session about “Framework First: Competency Models for Global Learning” on October 12th 2026\, at 10:45 – 11:15 AM WEST (11:45 – 12:45 CET) at Reitoria da Universidade de Lisboa\, Portugal. \nSession description: \nThis session examines competency frameworks across multiple domains—professional development\,\nintercultural awareness\, geographic contexts\, and industry-specific applications—and demonstrates their practical use in global learning. \nThe content emphasizes a key principle: using a structured framework matters more than selecting a specific model. Participants learn to evaluate diverse competency frameworks based on their professional context\, then apply them confidently across program development\, coaching\, and assessment. The session includes interactive exercises to identify relevant competencies\, examples from different contexts\, and practical application strategies. This approach addresses the growing need to demonstrate ROI and relevance in competency-based terms. Rather than prescribing a single solution\, the session aims to equip participants as they select and implement frameworks appropriate to their institutional needs and professional goals. \nThe Forum’s Careers\, Internships\, and Global Learning (CIGL) conference scheduled on October 11-13th will will bring together leaders in career services\, international education\, and industry to reimagine how we prepare students for a rapidly evolving global workforce. Additionally\, this conference will explore how immersive international experiences cultivate career readiness and spark innovation.  For more information on the CIGL conference\, click here.
URL:https://www.labourmobility.com/events/cigl-lisbon-2026/
LOCATION:Reitoria da Universidade de Lisboa\, Portugal
CATEGORIES:2026 Events,Conference,Session
ATTACH;FMTTYPE=image/png:https://www.labourmobility.com/wp-content/uploads/2026/04/Screenshot-2026-04-14-133659-e1776166714225.png
END:VEVENT
BEGIN:VEVENT
DTSTART;TZID=Europe/Amsterdam:20261119T093000
DTEND;TZID=Europe/Amsterdam:20261119T163000
DTSTAMP:20260423T133355
CREATED:20250616T134236Z
LAST-MODIFIED:20250616T134236Z
UID:18067-1795080600-1795105800@www.labourmobility.com
SUMMARY:CAREER DEVELOPMENT: ‘LOOKING FOR WORK IN THE NETHERLANDS’ FOR INTERNATIONAL PHD CANDIDATES | TU DELFT
DESCRIPTION:International PhD candidates looking for a job in the Netherlands often face questions around career development to prepare for their next career step\, a step that is not necessarily taking place in the academic world. This one-day workshop aims to deliver insights into balancing your career values with your career goals.  What job opportunities offer academia vs the profit sector in the Netherlands? What questions are raised during a job interview? What makes a Dutch employer tick? And what makes an international PhD candidate outstanding? \nThe Graduate School has chosen to deliver this workshop in person on the TU Delft premises. Stay connected\, stay positive\, and prepare for the future.    \nLecturer: Nannette Ripmeester
URL:https://www.labourmobility.com/events/career-development-looking-for-work-in-the-netherlands-for-international-phd-candidates-tu-delft-15/
LOCATION:TU Delft
CATEGORIES:2026 Events,Workshop
ATTACH;FMTTYPE=image/png:https://www.labourmobility.com/wp-content/uploads/2024/07/TU-DELFT-university-1-e1720527869867.png
END:VEVENT
BEGIN:VEVENT
DTSTART;TZID=Europe/Amsterdam:20261210T091500
DTEND;TZID=Europe/Amsterdam:20261210T171500
DTSTAMP:20260423T133355
CREATED:20251218T111353Z
LAST-MODIFIED:20251218T111353Z
UID:18260-1796894100-1796922900@www.labourmobility.com
SUMMARY:CAREER GUIDANCE FOR PhD’S AND POSTDOCS (DAY 1) | RADBOUD UNIVERSITY
DESCRIPTION:Goal: \nThis series of workshops is aimed at clarifying career development for both international and Dutch PhD’s or postdocs at the beginning of their career. After the workshops they will have an action plan for career development and will be able to act upon this plan to take their career to the next level. \nContent: \nPhD’s and postdocs often face questions concerning career development – you have to prepare for the next step in your career\, one that is not necessarily taking place in the academic world. To be able to make progress\, you may want some guidance. You need to know your strong and weak points. You need to understand the power of networking. \nThis high-intensity (virtual) 2-day workshop\, delivered by Nannette Ripmeester\, tailored to PhD candidates and Postdocs will provide participants with the necessary tools and tips to understand their career values and identify future career paths based on their interests and skills. The workshop will help participants get to grips with their international career development and create their own action plan for their next career step\, whether that career will be in the Netherlands or elsewhere and whether it is taking place in the academic world or outside of it. Irrespective those choices\, to be able to make career progress\, candidates may want some guidance. They need an understanding of the job market in both academia and the profit sector\, being aware of (international) employment opportunities.  \nKey Learnings: \nWith a small group of PhD candidates and Postdocs\, we will work in interactive (virtual) sessions. Our approach focuses the attention on strengths and possibilities. \n\ncreating an insight into personal and career goals\nproviding a systematic process for exploring career needs\nfocusing on current position\, desired goals\, and unique personal resources\nenhancing practical career skills (in a global world)\ncomparing career options to formulate an action plan.\n\nCourse Language: English
URL:https://www.labourmobility.com/events/career-guidance-for-phds-and-postdocs-day-1-radboud-university-10/
LOCATION:Online
CATEGORIES:2026 Events,Online Workshop,PhD Workshop,Workshop
ATTACH;FMTTYPE=image/png:https://www.labourmobility.com/wp-content/uploads/2024/07/Career-Guidance-PhD-and-Postdoc-day-1--e1720516827827.png
END:VEVENT
BEGIN:VEVENT
DTSTART;TZID=Europe/Amsterdam:20261211T091500
DTEND;TZID=Europe/Amsterdam:20261211T171500
DTSTAMP:20260423T133355
CREATED:20251218T111514Z
LAST-MODIFIED:20251218T111514Z
UID:18262-1796980500-1797009300@www.labourmobility.com
SUMMARY:CAREER GUIDANCE FOR PhD’S AND POSTDOCS (DAY 2) | RADBOUD UNIVERSITY
DESCRIPTION:Goal: \nThis series of workshops is aimed at clarifying career development for both international and Dutch PhD’s or postdocs at the beginning of their career. After the workshops they will have an action plan for career development and will be able to act upon this plan to take their career to the next level. \nContent: \nPhD’s and postdocs often face questions concerning career development – you have to prepare for the next step in your career\, one that is not necessarily taking place in the academic world. To be able to make progress\, you may want some guidance. You need to know your strong and weak points. You need to understand the power of networking. \nThis high-intensity (virtual) 2-day workshop\, delivered by Nannette Ripmeester\, tailored to PhD candidates and Postdocs will provide participants with the necessary tools and tips to understand their career values and identify future career paths based on their interests and skills. The workshop will help participants get to grips with their international career development and create their own action plan for their next career step\, whether that career will be in the Netherlands or elsewhere and whether it is taking place in the academic world or outside of it. Irrespective those choices\, to be able to make career progress\, candidates may want some guidance. They need an understanding of the job market in both academia and the profit sector\, being aware of (international) employment opportunities.  \nKey Learnings: \nWith a small group of PhD candidates and Postdocs\, we will work in interactive (virtual) sessions. Our approach focuses the attention on strengths and possibilities. \n\ncreating an insight into personal and career goals\nproviding a systematic process for exploring career needs\nfocusing on current position\, desired goals\, and unique personal resources\nenhancing practical career skills (in a global world)\ncomparing career options to formulate an action plan.\n\nCourse Language: English
URL:https://www.labourmobility.com/events/career-guidance-for-phds-and-postdocs-day-2-radboud-university-10/
LOCATION:Online
CATEGORIES:2026 Events,Online Workshop,PhD Workshop,Workshop
ATTACH;FMTTYPE=image/png:https://www.labourmobility.com/wp-content/uploads/2024/07/Career-Guidance-PhD-and-Postdoc-day-2--e1720517108298.png
END:VEVENT
END:VCALENDAR