BEGIN:VCALENDAR
VERSION:2.0
PRODID:-//Expertise in Labour Mobility - ECPv6.13.2.1//NONSGML v1.0//EN
CALSCALE:GREGORIAN
METHOD:PUBLISH
X-ORIGINAL-URL:https://www.labourmobility.com
X-WR-CALDESC:Events for Expertise in Labour Mobility
REFRESH-INTERVAL;VALUE=DURATION:PT1H
X-Robots-Tag:noindex
X-PUBLISHED-TTL:PT1H
BEGIN:VTIMEZONE
TZID:Europe/Amsterdam
BEGIN:DAYLIGHT
TZOFFSETFROM:+0100
TZOFFSETTO:+0200
TZNAME:CEST
DTSTART:20260329T010000
END:DAYLIGHT
BEGIN:STANDARD
TZOFFSETFROM:+0200
TZOFFSETTO:+0100
TZNAME:CET
DTSTART:20261025T010000
END:STANDARD
END:VTIMEZONE
BEGIN:VEVENT
DTSTART;TZID=Europe/Amsterdam:20260218T190000
DTEND;TZID=Europe/Amsterdam:20260218T200000
DTSTAMP:20260423T194650
CREATED:20251209T131408Z
LAST-MODIFIED:20251209T144614Z
UID:18249-1771441200-1771444800@www.labourmobility.com
SUMMARY:AIEA 2026 | In data we trust: Pragmatic leadership for international Higher Ed
DESCRIPTION:Join Chad Hoseth\, GianMario Besana\, and Nannette Ripmeester for their AIEA session titled “In data we trust: Pragmatic leadership for international Higher Ed”on February 18th 2026 at 13:00PM – 14:00PM CDT (19:00PM – 20:00PM CET) at Marriott Marquis in Washington DC\, USA. \nSession description: \nSenior international leaders must do more than run programs—they must unite their campus\, focus on what matters most\, and ensure their achievements are recognized. This interactive session will share and discuss practical strategies around data-informed pragmatic leadership that turn surveys\, benchmarks\, and feedback into targeted action. We will ask (the audience and ourselves) How are you doing? How do you know? to embed candid feedback loops through external partners and comparative data. \nKey Discussion Points: \n\nTurning data into decisions that unite the campus and influence senior leadership.\nBuilding credibility through transparent\, candid assessments of progress and challenges.\nUsing external markers of success to elevate institutional reputation and secure resources.\nOvercoming resistance and aligning diverse stakeholders around shared goals.\n\nAIEA is the Association of International Education Administrations annual conference and will take place on 16-19 February  2026 at the Marriott Marquis\, Washington DC. The Association of International Education Administrators (AIEA) is the only association dedicated exclusively to senior leaders in the field of international education. Keen to know more about the conference? Click here.
URL:https://www.labourmobility.com/events/aiea-2026-in-data-we-trust-pragmatic-leadership-for-international-higher-ed/
LOCATION:Marriott Marquis\, Washington DC\, United States
CATEGORIES:2026 Events,Conference,Session
ATTACH;FMTTYPE=image/jpeg:https://www.labourmobility.com/wp-content/uploads/2025/12/AIEA-2026.jpg
END:VEVENT
BEGIN:VEVENT
DTSTART;TZID=Europe/Amsterdam:20260224T080000
DTEND;TZID=Europe/Amsterdam:20260224T170000
DTSTAMP:20260423T194650
CREATED:20250930T141136Z
LAST-MODIFIED:20250930T152529Z
UID:18199-1771920000-1771952400@www.labourmobility.com
SUMMARY:APAIE 2026 POSTER PRESENTATION | BEYOND BORDERS\, WITHIN REACH: GLOBAL APPROACHES TO BETTER THE INTERNATIONAL STUDENT JOURNEY RELEVANT FOR ASIA-PACIFIC HEI'S
DESCRIPTION:Join Nannette Ripmeester (Expertise in Labour Mobility / etio) for an insightful APAIE poster presentation about “Beyond Borders\, Within Reach: Global approaches on to better the international student journey relevant for Asia-Pacific HEI’s” at the Hong Kong Convention and Exhibition Centre. \nPoster Information \nThis poster explores how insights from the International Student Barometer (ISB)—a global large scale dataset of currently enrolled international students—can be used by Higher Education Institutions in the Asia-Pacific region to improve the international student journey. Through a comparative lens\, we showcase how institutions across the globe are using ISB data leveraging international benchmarking to design stronger student journeys\, delivering the ROI that currently enrolled (and future generations of!) students are expecting from their institutions of choice. We will showcase Good Practice examples that reflect international student needs. Through case studies and visualised data comparisons\, the poster will support Asia-Pacific Higher Education Institutions in being active contributors to a global community of good practice. \nThe Asia-Pacific Association for International Education (APAIE) 2026 conference scheduled on February 23-27th will foster collaboration\, innovation\, and knowledge-sharing to shape the future of international higher education as we explore the theme\, Asia-Pacific Partnerships for the Global Good\, from diverse perspectives. For more information on the APAIE conference\, click here.
URL:https://www.labourmobility.com/events/apaie-2026-poster-presentation-beyond-borders-within-reach-global-approaches-to-better-the-international-student-journey-relevant-for-asia-pacific-heis/
LOCATION:Hong Kong Convention and Exhibition Centre
CATEGORIES:2026 Events,Conference,Poster Presentation
ATTACH;FMTTYPE=image/png:https://www.labourmobility.com/wp-content/uploads/2025/09/apaie-2026.png
END:VEVENT
END:VCALENDAR