BEGIN:VCALENDAR
VERSION:2.0
PRODID:-//Expertise in Labour Mobility - ECPv6.13.2.1//NONSGML v1.0//EN
CALSCALE:GREGORIAN
METHOD:PUBLISH
X-ORIGINAL-URL:https://www.labourmobility.com
X-WR-CALDESC:Events for Expertise in Labour Mobility
REFRESH-INTERVAL;VALUE=DURATION:PT1H
X-Robots-Tag:noindex
X-PUBLISHED-TTL:PT1H
BEGIN:VTIMEZONE
TZID:Europe/Amsterdam
BEGIN:DAYLIGHT
TZOFFSETFROM:+0100
TZOFFSETTO:+0200
TZNAME:CEST
DTSTART:20240331T010000
END:DAYLIGHT
BEGIN:STANDARD
TZOFFSETFROM:+0200
TZOFFSETTO:+0100
TZNAME:CET
DTSTART:20241027T010000
END:STANDARD
END:VTIMEZONE
BEGIN:VEVENT
DTSTART;TZID=Europe/Amsterdam:20240301T091500
DTEND;TZID=Europe/Amsterdam:20240301T171500
DTSTAMP:20260426T003835
CREATED:20230905T072916Z
LAST-MODIFIED:20230905T072916Z
UID:17235-1709284500-1709313300@www.labourmobility.com
SUMMARY:WORKSHOP: 2-DAY PHD CAREER GUIDANCE FOR DUTCH PHD CANDIDATES (DAY 2) -‘EEN PHD EN DAN? SOLLICITEREN\, NETWERKEN\, EN JE LOOPBAAN ONDER DE LOEP’| RADBOUD UNIVERSITY
DESCRIPTION:PhD candidates often face questions around career development\, which differ from the issues ‘regular’ university employees are confronted with. To be able to move ahead and to prepare for their next career step\, a step that is not necessarily taking place in the academic world.  \nA (virtual) high-intensity workshop\, delivered by Nannette Ripmeester\, of two full days tailored to Dutch PhD candidates that provides participants with the necessary tools and tips to understand their career values and identify future career paths based on their interests and skills. \nParticipants will have the opportunity to create their own action plan for their next career step. Most importantly\, they will be able to act on that action plan and take their career towards the next level\, either within academia or beyond. Delegates will feel empowered to look for work in their research field\, inside and outside of the Netherlands. \nKey Learnings: \nAt the end of the workshop\, all participants will: \n\n\nHave a clear picture of their main career values \n\n\nIdentify their strong personal & professional traits \n\n\nKnow how to ‘manage their reputation’ effectively \n\n\nFeel more empowered to create a better fit between career decisions & personal goals \n\n\nGain a better understanding of what career options & opportunities they have with their PhD degree in academia\, the corporate and/or the not-for-profit sector \n\n\nUnderstand the differences in a research and professional job applications as well as get some of the basics regarding tailoring their job search to a specific work culture \n\n\nHave improved their CV\, their LinkedIn profile\, their elevator pitch\, and their interview skills \n\n\nComprehend the cultural differences that accompany looking for work across the globe \n\n\nCourse Language: Dutch
URL:https://www.labourmobility.com/events/workshop-2-day-phd-career-guidance-for-dutch-phd-candidates-day-2-een-phd-en-dan-solliciteren-netwerken-en-je-loopbaan-onder-de-loep-radboud-university-3/
LOCATION:Online
CATEGORIES:2023 Events,Online Workshop,PhD Workshop,Workshop
END:VEVENT
END:VCALENDAR