BEGIN:VCALENDAR
VERSION:2.0
PRODID:-//Expertise in Labour Mobility - ECPv6.13.2.1//NONSGML v1.0//EN
CALSCALE:GREGORIAN
METHOD:PUBLISH
X-ORIGINAL-URL:https://www.labourmobility.com
X-WR-CALDESC:Events for Expertise in Labour Mobility
REFRESH-INTERVAL;VALUE=DURATION:PT1H
X-Robots-Tag:noindex
X-PUBLISHED-TTL:PT1H
BEGIN:VTIMEZONE
TZID:Europe/Amsterdam
BEGIN:DAYLIGHT
TZOFFSETFROM:+0100
TZOFFSETTO:+0200
TZNAME:CEST
DTSTART:20250330T010000
END:DAYLIGHT
BEGIN:STANDARD
TZOFFSETFROM:+0200
TZOFFSETTO:+0100
TZNAME:CET
DTSTART:20251026T010000
END:STANDARD
END:VTIMEZONE
BEGIN:VEVENT
DTSTART;TZID=Europe/Amsterdam:20251111T190000
DTEND;TZID=Europe/Amsterdam:20251111T200000
DTSTAMP:20260424T050728
CREATED:20260316T122135Z
LAST-MODIFIED:20260316T122135Z
UID:18304-1762887600-1762891200@www.labourmobility.com
SUMMARY:Looking for work around the Globe for ISSO Glass - Columbia University
DESCRIPTION:Join Nannette Ripmeester for her  workshop session titled “Looking for Work Around the Globe” on November 11 2025\, at 1:00PM – 2:00PM EST (7:00PM – 8:00PM CET) with Columbia University ISSO GLASS programme. \nSession description:  \nThis workshop focuses on understanding the role cultural differences play in job hunting. How to deal with national differences in CV/resume writing? Gaining insight into being able to apply in a foreign country\, knowing what is favoured by employers in that country\, which application methods work best\, what skill sets make employers tick\, what to mention in your CV/resume\, whether it is for a job in Shanghai\, Stockholm or Sydney. \nAimed at: students and recent graduates interested in starting an international career.
URL:https://www.labourmobility.com/events/looking-for-work-around-the-globe-for-isso-glass-columbia-university/
LOCATION:Online
CATEGORIES:2025 Events,Online Workshop,Workshop
ATTACH;FMTTYPE=image/jpeg:https://www.labourmobility.com/wp-content/uploads/2025/02/ISSO-e1739441130100.jpg
END:VEVENT
END:VCALENDAR