BEGIN:VCALENDAR
VERSION:2.0
PRODID:-//Expertise in Labour Mobility - ECPv6.13.2.1//NONSGML v1.0//EN
CALSCALE:GREGORIAN
METHOD:PUBLISH
X-ORIGINAL-URL:https://www.labourmobility.com
X-WR-CALDESC:Events for Expertise in Labour Mobility
REFRESH-INTERVAL;VALUE=DURATION:PT1H
X-Robots-Tag:noindex
X-PUBLISHED-TTL:PT1H
BEGIN:VTIMEZONE
TZID:Europe/Athens
BEGIN:DAYLIGHT
TZOFFSETFROM:+0200
TZOFFSETTO:+0300
TZNAME:EEST
DTSTART:20240331T010000
END:DAYLIGHT
BEGIN:STANDARD
TZOFFSETFROM:+0300
TZOFFSETTO:+0200
TZNAME:EET
DTSTART:20241027T010000
END:STANDARD
END:VTIMEZONE
BEGIN:VEVENT
DTSTART;TZID=Europe/Athens:20241015T090000
DTEND;TZID=Europe/Athens:20241015T103000
DTSTAMP:20260425T231950
CREATED:20240422T081411Z
LAST-MODIFIED:20240422T081411Z
UID:17603-1728982800-1728988200@www.labourmobility.com
SUMMARY:CIGL CONFERENCE 2024: “EMPLOYABILITY TRENDS WORTH DISCUSSING”
DESCRIPTION:Join Kate Moore & Nannette Ripmeester for their CIGL session about “Employability Trends Worth Discussing” on October 15th 2024\, at 9:00 – 10:30 AM (8:00 – 9:30 AM CET) at the Athens Conservatoire in Greece. \nMore about the session: \n“What are the trends worth discussing and knowing about in our field? What must we know to move our sector to the next level? In this highly interactive session two experts in this field quiz each other about trends and developments they’ve noticed and what is worth highlighting. The presenters have a wide overview of the field\, spanning wide areas of expertise as well as geographical areas.” \nThe Forum’s Careers\, Internships\, and Global Learning (CIGL) conference scheduled on October 13-15th will focus on preparing future professionals through international internships\, consulting projects\, co-ops\, community-engaged global learning\, and other forms of globally-focused career preparation. This conference will encourage discussion and debate\, incorporating insights from the host region and inspiration from participants. Innovative ideas and lingering questions are welcome! For more information on the CIGL conference\, click here.
URL:https://www.labourmobility.com/events/cigl-conference-2024-employability-trends-worth-discussing/
LOCATION:Athens Conservatoire
CATEGORIES:2024 Events,Conference,Session
ATTACH;FMTTYPE=image/png:https://www.labourmobility.com/wp-content/uploads/2024/04/cigl-2024.png
END:VEVENT
END:VCALENDAR