BEGIN:VCALENDAR
VERSION:2.0
PRODID:-//Expertise in Labour Mobility - ECPv6.13.2.1//NONSGML v1.0//EN
CALSCALE:GREGORIAN
METHOD:PUBLISH
X-WR-CALNAME:Expertise in Labour Mobility
X-ORIGINAL-URL:https://www.labourmobility.com
X-WR-CALDESC:Events for Expertise in Labour Mobility
REFRESH-INTERVAL;VALUE=DURATION:PT1H
X-Robots-Tag:noindex
X-PUBLISHED-TTL:PT1H
BEGIN:VTIMEZONE
TZID:Asia/Shanghai
BEGIN:STANDARD
TZOFFSETFROM:+0800
TZOFFSETTO:+0800
TZNAME:CST
DTSTART:20240101T000000
END:STANDARD
END:VTIMEZONE
BEGIN:VEVENT
DTSTART;TZID=Asia/Shanghai:20241029T120000
DTEND;TZID=Asia/Shanghai:20241029T170000
DTSTAMP:20260425T130150
CREATED:20241023T123443Z
LAST-MODIFIED:20241023T123443Z
UID:17824-1730203200-1730221200@www.labourmobility.com
SUMMARY:Tunghai University: "Preparing for the Global World of Work"
DESCRIPTION:Join Nannette Ripmeester (Director Expertise in Labour Mobility\, Etio) for her session about “Preparing for the Global World of Work – a perspective from Europe and Canada” on October 29th\, 12:00 PM to 17:00 PM\, at Tunghai University in Taiwan. \nAbout the session: \n“The world of work is undergoing major shifts. This session will look at key trends impacting young people across the globe. Nannette Ripmeester will share the outcomes of research conducted in Europe (Erasmus+ projects) and Canada (funded by the Canadian government) to help us understand the impact of student mobility on skills. Understanding the importance of employability skills is critical for students as it will help to understand what skills will get them hired. However\, it is also imperative for higher education institutions as it helps to understand study choice and student recommendation better. Based on a global data set of over 122\,500 students\, Nannette will showcase the importance of creating a ‘line of sight’ between education and future jobs. Return on investment (ROI) is fundamental for this generation of students\, who make choices based on how well it prepares them for the (future) job market. Highlighting what other countries are doing in this respect is the stepping stone for a Q&A session between speaker and audience.” \nInterested in knowing more? Have a look here.
URL:https://www.labourmobility.com/events/tunghai-university-preparing-for-the-global-world-of-work/
CATEGORIES:2024 Events,Session
ATTACH;FMTTYPE=image/jpeg:https://www.labourmobility.com/wp-content/uploads/2024/10/tunghai-university-e1729686711610.jpg
END:VEVENT
END:VCALENDAR