BEGIN:VCALENDAR
VERSION:2.0
PRODID:-//Expertise in Labour Mobility - ECPv6.13.2.1//NONSGML v1.0//EN
CALSCALE:GREGORIAN
METHOD:PUBLISH
X-ORIGINAL-URL:https://www.labourmobility.com
X-WR-CALDESC:Events for Expertise in Labour Mobility
REFRESH-INTERVAL;VALUE=DURATION:PT1H
X-Robots-Tag:noindex
X-PUBLISHED-TTL:PT1H
BEGIN:VTIMEZONE
TZID:America/Chicago
BEGIN:DAYLIGHT
TZOFFSETFROM:-0600
TZOFFSETTO:-0500
TZNAME:CDT
DTSTART:20250309T080000
END:DAYLIGHT
BEGIN:STANDARD
TZOFFSETFROM:-0500
TZOFFSETTO:-0600
TZNAME:CST
DTSTART:20251102T070000
END:STANDARD
END:VTIMEZONE
BEGIN:VEVENT
DTSTART;TZID=America/Chicago:20251016T113000
DTEND;TZID=America/Chicago:20251016T123000
DTSTAMP:20260424T071838
CREATED:20250818T124841Z
LAST-MODIFIED:20251009T140531Z
UID:18158-1760614200-1760617800@www.labourmobility.com
SUMMARY:CAIE2025 | Transforming knowledge into development: Sharing best practice about managing international student expectations.
DESCRIPTION:Join  Katie Orr\, Margaret Y. Luévano\, and Nannette Ripmeester for their CAEI session about “Transforming knowledge into development: Sharing best practice about managing international student expectations ” at the Costa Rica Convention Center (CCCR) in San José\, Costa Rica. \nAbout the session: \nThis session explores key trends from a major global student satisfaction survey (100K+ international students). It highlights how North American institutions excel in satisfaction and reputation while identifying areas for improvement. We will focus on best practice around evolving student expectations\, mental health support\, and career service management. The session will share data from the largest global data set under currently enrolled students and best practice stories from HEIs interacting with the data. However\, we will not shy away from sharing where there is room for improvement and what institutions can do to better support their international students. \nThe Conference of the Americas on International Education (CAIE) has established itself as the main forum dedicated to international higher education in the Americas and is scheduled for 15 – 17 October\, 2025. In keeping with its mandate\, CAEI offers a platform where all participants can engage in a broad conversation about higher education in the hemisphere and build networks and strategic alliances at the bilateral\, regional\, or multilateral levels. For more information about the CAEI program\, click here.
URL:https://www.labourmobility.com/events/caie2025-transforming-knowledge-into-development-sharing-best-practice-about-managing-international-student-expectations/
LOCATION:Costa Rica Convention Center (CCCR)\, San Jose\, Costa Rica
CATEGORIES:2025 Events,Conference,Session
ATTACH;FMTTYPE=image/png:https://www.labourmobility.com/wp-content/uploads/2025/08/caei-img-web-oui-01.png
END:VEVENT
END:VCALENDAR