BEGIN:VCALENDAR
VERSION:2.0
PRODID:-//Expertise in Labour Mobility - ECPv6.13.2.1//NONSGML v1.0//EN
CALSCALE:GREGORIAN
METHOD:PUBLISH
X-WR-CALNAME:Expertise in Labour Mobility
X-ORIGINAL-URL:https://www.labourmobility.com
X-WR-CALDESC:Events for Expertise in Labour Mobility
REFRESH-INTERVAL;VALUE=DURATION:PT1H
X-Robots-Tag:noindex
X-PUBLISHED-TTL:PT1H
BEGIN:VTIMEZONE
TZID:Europe/Amsterdam
BEGIN:DAYLIGHT
TZOFFSETFROM:+0100
TZOFFSETTO:+0200
TZNAME:CEST
DTSTART:20250330T010000
END:DAYLIGHT
BEGIN:STANDARD
TZOFFSETFROM:+0200
TZOFFSETTO:+0100
TZNAME:CET
DTSTART:20251026T010000
END:STANDARD
END:VTIMEZONE
BEGIN:VEVENT
DTSTART;TZID=Europe/Amsterdam:20250122T170000
DTEND;TZID=Europe/Amsterdam:20250122T175000
DTSTAMP:20260425T020247
CREATED:20241121T114255Z
LAST-MODIFIED:20241121T114255Z
UID:17879-1737565200-1737568200@www.labourmobility.com
SUMMARY:WEBINAR | HOW DO EMPLOYERS RECOGNISE COMPETENCIES GAINED DURING MOBILITY?  
DESCRIPTION:Join Nannette Ripmeester for her ErasmusCareers Webinar titled “How Do Employers Recognise Competencies Gained During Mobility?” on January 22nd 2025 at 17:00 – 17:50 CET. This webinar is the third out of the three webinars of ErasmusCareers project\, where participants will learn about the value employers give to competences gained during mobility\, and how it is recognised in the recruitment and onboarding processes. \nMeasuring the impact of mobility abroad on students’ career development remains challenging and the support they receive from universities in identifying and assessing competences is modest. The Erasmus Careers project aims to ensure that the competencies gained on mobility are recognized by students and employers and contribute to the career prospects of Erasmus+ participants. Keen to know more about the project? Click here. \n 
URL:https://www.labourmobility.com/events/webinar-how-do-employers-recognise-competencies-gained-during-mobility/
CATEGORIES:2025 Events,Webinar
ATTACH;FMTTYPE=image/png:https://www.labourmobility.com/wp-content/uploads/2024/11/Visual_3_Webinars-e1732189350154.png
END:VEVENT
END:VCALENDAR