BEGIN:VCALENDAR
VERSION:2.0
PRODID:-//Expertise in Labour Mobility - ECPv6.13.2.1//NONSGML v1.0//EN
CALSCALE:GREGORIAN
METHOD:PUBLISH
X-ORIGINAL-URL:https://www.labourmobility.com
X-WR-CALDESC:Events for Expertise in Labour Mobility
REFRESH-INTERVAL;VALUE=DURATION:PT1H
X-Robots-Tag:noindex
X-PUBLISHED-TTL:PT1H
BEGIN:VTIMEZONE
TZID:Europe/Amsterdam
BEGIN:DAYLIGHT
TZOFFSETFROM:+0100
TZOFFSETTO:+0200
TZNAME:CEST
DTSTART:20200329T010000
END:DAYLIGHT
BEGIN:STANDARD
TZOFFSETFROM:+0200
TZOFFSETTO:+0100
TZNAME:CET
DTSTART:20201025T010000
END:STANDARD
BEGIN:DAYLIGHT
TZOFFSETFROM:+0100
TZOFFSETTO:+0200
TZNAME:CEST
DTSTART:20210328T010000
END:DAYLIGHT
BEGIN:STANDARD
TZOFFSETFROM:+0200
TZOFFSETTO:+0100
TZNAME:CET
DTSTART:20211031T010000
END:STANDARD
END:VTIMEZONE
BEGIN:VEVENT
DTSTART;TZID=Europe/Amsterdam:20210302T140000
DTEND;TZID=Europe/Amsterdam:20210302T151500
DTSTAMP:20260424T015717
CREATED:20210208T100659Z
LAST-MODIFIED:20210216T125504Z
UID:15347-1614693600-1614698100@www.labourmobility.com
SUMMARY:Erasmus Skills Webinar: The role of internationalisation of the curriculum as a stimulant for mobility
DESCRIPTION:The Erasmus Skills team is organising an online post-conference webinar on March 2nd 2021; this webinar will dig deeper into the topic of internationalisation of the curriculum.\nDr. Jos Beelen will introduce the topic of Internationalisation at home and the internationalisation of the curriculum in order to set the scene for a more competence development-oriented approach for internationalisation. Frederik De Decker will shed more light on how universities can embed these learning objectives and skills gained through mobility in the curriculum and give examples from the University of Ghent. \nBoth speakers will conclude the event with a short Q&A where they will reflect on how these processes can be used to improve student mobility experiences. \nPLEASE REGISTER HERE: https://attendee.gotowebinar.com/register/6673663259017262607 \nThe Erasmus Skills project has been funded with support from the European Commission. This publication reflects the views only of the author\, and the Commission cannot be held responsible for any use which may be made of the information contained therein.\n \n  \n 
URL:https://www.labourmobility.com/events/webinar-1-the-role-of-internationalisation-of-the-curriculum-as-a-stimulant-for-mobility/
CATEGORIES:2021 Events,Webinar
END:VEVENT
BEGIN:VEVENT
DTSTART;TZID=Europe/Amsterdam:20210219T133000
DTEND;TZID=Europe/Amsterdam:20210219T150000
DTSTAMP:20260424T015717
CREATED:20201221T131841Z
LAST-MODIFIED:20201221T131841Z
UID:15168-1613741400-1613746800@www.labourmobility.com
SUMMARY:Webinar: Looking for work in The Netherlands (Leiden University)
DESCRIPTION:Webinar: Looking for work in The Netherlands (Leiden University) \nAfter theis webinar\, law students and graduates from Leiden University will feel more at ease when looking for a job in the Netherlands. The focus is on job-hunting in the Netherlands and the information is geared towards cultural differences\, how to deal with the Dutch and the do’s and don’ts of Dutch application procedures. \nPresenter: Nannette Ripmeester
URL:https://www.labourmobility.com/events/webinar-looking-for-work-in-the-netherlands-leiden-university/
CATEGORIES:2021 Events,Webinar
END:VEVENT
BEGIN:VEVENT
DTSTART;TZID=Europe/Amsterdam:20210129T180000
DTEND;TZID=Europe/Amsterdam:20210129T193000
DTSTAMP:20260424T015717
CREATED:20201218T113435Z
LAST-MODIFIED:20210107T154623Z
UID:15146-1611943200-1611948600@www.labourmobility.com
SUMMARY:NSCC Webinar | Employability Lab: Preparing for a Virtual Exchange
DESCRIPTION:Employability Lab Webinar: Preparing for a Virtual Exchange \nAs the world is adjusting to a remote reality amid the COVID-19 pandemic\, students are also invited to give virtual exchange programs a go. \nThis webinar is aimed at prospective NSCC students who will be joining a virtual exchange programme to help them understand the value of a virtual exchange on their professional development and learn how to best prepare tomake the best of this unique experience.  Participants will get practical tips and useful information for working effectively in remote\, intercultural teams – now & in the future. You will learn how to: \n– Conceptualize the benefits of a virtual experience\n– Work remotely with different cultures: do’s and don’ts\n– Build intercultural competence while staying at home \nThis webinar is brought to you by Expertise in Labour Mobility supported by the international office of Nova Scotia Community College (NSCC) and will be presented by international mobility expert\, Nannette Ripmeester.
URL:https://www.labourmobility.com/events/nscc-webinar-employability-lab-preparing-for-a-virtual-exchange/
CATEGORIES:2021 Events,Webinar
END:VEVENT
BEGIN:VEVENT
DTSTART;TZID=Europe/Amsterdam:20201208T160000
DTEND;TZID=Europe/Amsterdam:20201208T170000
DTSTAMP:20260424T015717
CREATED:20201127T142411Z
LAST-MODIFIED:20201201T122708Z
UID:15091-1607443200-1607446800@www.labourmobility.com
SUMMARY:InnoEnergy Webinar: Looking for work around the globe
DESCRIPTION:A webinar aimed at InnoEnergy students and recent graduates interested in starting an international career. Participants will understand the role cultural differences play in CV writing\, how to apply in a foreign country knowing what is required by employers in other countries\, which application methods work best\, what skill sets make employers tick\, what to mention in your CV whether it is for a job in Sweden\, Germany or Spain. \n 
URL:https://www.labourmobility.com/events/innoenergy-webinar-looking-for-work-around-the-globe/
CATEGORIES:2020 Events,Webinar
END:VEVENT
BEGIN:VEVENT
DTSTART;TZID=Europe/Amsterdam:20201112T160000
DTEND;TZID=Europe/Amsterdam:20201112T170000
DTSTAMP:20260424T015717
CREATED:20210115T133337Z
LAST-MODIFIED:20210115T133337Z
UID:15236-1605196800-1605200400@www.labourmobility.com
SUMMARY:Webinar: How do we deliver career outcomes in COVID-19 times?
DESCRIPTION:How do we deliver career outcomes in COVID-19 times?\nJoin us for a thorough discussion on supporting students’ employability in times of uncertainty\, looking at how to better equip them for a job market during and after the COVID-19 crisis. \nAt this very moment\, a common struggle among international higher educators is continuing to provide students with mobility and employability opportunities during the ongoing COVID-19 pandemic. Research shows that students are anxious about their future and seek employability skills to best navigate a global society that is constantly changing. When universities teach students employability skills\, they don’t just equip them with the skills that employers are looking for but most importantly\, they are giving them the skills and knowledge they need to become the best versions of themselves in life and at work. And while providing those skills is only one part of the equation\, helping students understand how to leverage those skills in real-life situations is the second and sometimes overlooked part. Training and unpacking employability skills have never been more relevant. \nIn this webinar\, we will hear from career and mobility experts working for universities in Europe and North America\, about what they are currently doing at their institutions to support students in gaining employability skills and preparing them for the world of work. \nRegister here:  https://register.gotowebinar.com/register/2193579984057153547   \nThe event is brought to you by CareerProfessor.works  – the employability app that trains intercultural competence and prepares students for a global world of work – and is organised by Expertise in Labour Mobility. For more information feel free to contact Sevi Christoforou via s.christoforou@labourmobility.com with your questions. \nLooking forward to meeting you online and finding out together ‘How do we deliver career outcomes in COVID-19 times’?
URL:https://www.labourmobility.com/events/webinar-how-do-we-deliver-career-outcomes-in-covid-19-times/
CATEGORIES:2020 Events,Webinar
END:VEVENT
BEGIN:VEVENT
DTSTART;TZID=Europe/Amsterdam:20201104T160000
DTEND;TZID=Europe/Amsterdam:20201104T173000
DTSTAMP:20260424T015717
CREATED:20210115T134837Z
LAST-MODIFIED:20210115T134837Z
UID:15243-1604505600-1604511000@www.labourmobility.com
SUMMARY:Webinar: Value your international virtual experience – employers do! - Karolinska Institutet
DESCRIPTION:Value your international virtual experience – employers do!\nIn a non-mobile world where travelling is limited by a pandemic\, international skills are more important than ever. Join us for this webinar and learn how to transfer your international virtual experiences\, past or future ones onto your CV for successful job hunting. The webinar is open to KI-students as well as partner universities students. \nThis webinar focuses on encouraging students to value an international ‘virtual’ experience\, providing tips and ideas for making the best out of their participation in virtual programs. Students will learn about the impact of virtual activities on their employability skills and their cultural awareness and practical examples will illustrate how to translate a virtual experience into professional skills that match the requirements in a global\, post-pandemic job market. \n\n\n\n\nThe webinar will cover: \n\nhow the post-pandemic job market will look like\nemployability benefits of a virtual experience\nhow to work remotely with different cultures: do’s and don’ts\nhow to build intercultural competence while staying at home\ntranslating a virtual experience into future career success – with examples\nQ&A\n\nRegister here: https://register.gotowebinar.com/register/3127717365794018316 \nPresenters: Nannette Ripmeester & Sevi Christoforou \nThe duration of the webinar is 1 hour\, the Q&A session will last for 30 mins and the capacity is for maximum 100 students.
URL:https://www.labourmobility.com/events/webinar-value-your-international-virtual-experience-employers-do-karolinska-institutet/
CATEGORIES:2020 Events,Webinar
END:VEVENT
BEGIN:VEVENT
DTSTART;TZID=Europe/Amsterdam:20201103T160000
DTEND;TZID=Europe/Amsterdam:20201103T174500
DTSTAMP:20260424T015717
CREATED:20210115T134031Z
LAST-MODIFIED:20210115T134031Z
UID:15238-1604419200-1604425500@www.labourmobility.com
SUMMARY:Webinar: Improving student experience\, satisfaction & recommendation of your institution (North America)
DESCRIPTION:Improving the student experience\, satisfaction and recommendation of your institution\nThis 45-minute webinar looks at how leading Higher Education Institutions use the world’s largest benchmark of student experience\, the International Student Barometer (ISB)\, to ensure their strategies improve the student experience and the reputation of their institution. \n\n\n\n\n\n\n\n\n\nGain fresh insight from the latest survey findings\, contextualising the current HE environment\nSee for yourself how the ISB informs improvement in the areas of recruitment and retention\, communication\, resource allocation\, investment\, and student recommendation.\nHear from St. Francis Xavier University University and Memorial University of Newfoundland how they are using the ISB to improve their processes that help them drive operational excellence and give their students the best possible educational experience.\n\nThe session is presented by:\n\nNannette Ripmeester (Director\, i-graduate N. America)\nSonja Knutson (Director\, Internationalization Office\, Memorial University of Newfoundland)\nLarissa Strong (Director of Internationalization\, St Francis Xavier University)\n\n\n–11/03/2002 at 11:00 AM – 11:45 AM (AST)
URL:https://www.labourmobility.com/events/webinar-improving-student-experience-satisfaction-recommendation-of-your-institution-north-america/
CATEGORIES:2020 Events,Webinar
END:VEVENT
BEGIN:VEVENT
DTSTART;TZID=Europe/Amsterdam:20201103T140000
DTEND;TZID=Europe/Amsterdam:20201103T144500
DTSTAMP:20260424T015717
CREATED:20210115T134259Z
LAST-MODIFIED:20210115T134259Z
UID:15240-1604412000-1604414700@www.labourmobility.com
SUMMARY:Webinar: Improving the student experience\, satisfaction and recommendation of your institution (EU)
DESCRIPTION:Improving the student experience\, satisfaction and recommendation of your institution\nThis 45-minute webinar looks at how leading Higher Education Institutions use the world’s largest benchmark of student experience\, the International Student Barometer (ISB)\, to ensure their strategies improve the student experience and the reputation of their institution. \n\n\n\n\n\n\n\n\n\nGain fresh insight from the latest survey findings\, contextualising the current HE environment\nSee for yourself how the ISB informs improvement in the areas of recruitment and retention\, communication\, resource allocation\, investment\, and student recommendation.\nHear from Università Cattolica del Sacro Cuore and Twente University how they are using the ISB to improve their processes that help them drive operational excellence and give their students the best possible educational experience.\n\nThe session is presented by:\n\nNannette Ripmeester (Director i-graduate Europe)\nSenn Lea Dominique (Università Cattolica del Sacro Cuore)\nRob Schepers (Universiteit Twente)\n\n\n–11/03/2020 at 2:00 PM – 2:45 PM (CET)
URL:https://www.labourmobility.com/events/webinar-improving-the-student-experience-satisfaction-and-recommendation-of-your-institution-eu/
CATEGORIES:2020 Events,Webinar
END:VEVENT
BEGIN:VEVENT
DTSTART;TZID=Europe/Amsterdam:20201029T160000
DTEND;TZID=Europe/Amsterdam:20201029T170000
DTSTAMP:20260424T015717
CREATED:20210115T132214Z
LAST-MODIFIED:20210115T132214Z
UID:15234-1603987200-1603990800@www.labourmobility.com
SUMMARY:The PIE Webinar - The shift online: What do students think about their disrupted learning?
DESCRIPTION:The coronavirus wrought havoc on learning-as-usual and education institutions around the world have had to pivot quickly\, rethinking how they communicate with their students and cater for their online learning. \nJoin The PIE’s global panel of commentators to discuss what best practice might look like\, how to engage student communities and understand their concerns. \nWe’ll hear how various educators navigated the turbulent year so far and learn insights from i-graduate’s extensive survey into student experience in 2020. \nPanellists: \nKatie Orr\, Nova Scotia Community College\, Canada \nProf. Osama Khan\, University of Surrey\, UK\, \nProf. Perry Hobson\, Sunway University\, Malaysia \nNannette Ripmeester\, i-graduate\, Netherlands
URL:https://www.labourmobility.com/events/the-pie-webinar-the-shift-online-what-do-students-think-about-their-disrupted-learning/
CATEGORIES:2020 Events,Panel discussion,Webinar
END:VEVENT
BEGIN:VEVENT
DTSTART;TZID=Europe/Amsterdam:20201008T130000
DTEND;TZID=Europe/Amsterdam:20201008T170000
DTSTAMP:20260424T015717
CREATED:20210115T135130Z
LAST-MODIFIED:20210115T135130Z
UID:15245-1602162000-1602176400@www.labourmobility.com
SUMMARY:Humane Webinar | Diversity and Inclusion: fostering institutional happiness and preventing harassment
DESCRIPTION:Nannette Ripmeester will be part of a webinar to talk about ‘Diversity and Inclusion: fostering institutional happiness and preventing harassment’ on October 8th\, as part of HUMANE’s Annual Conference Webinars. \n  \nDiversity and Inclusion: fostering institutional happiness and preventing harassment\nThursday October 8th 13.00-17.00 CEST  \nThis year’s annual conference will now be delivered as part of our autumn webinar series\, over two half days. Future-focussed institutions have shifted the discussion about equality\, diversity and inclusion away from a compliance mindset to one that emphasises the practical benefits of diversity. Yet HE workforces often do not match the diversity of their student bodies and as the Me Too Campaign has shown\, tackling harassment is definitely unfinished business.
URL:https://www.labourmobility.com/events/humane-webinar-diversity-and-inclusion-fostering-institutional-happiness-and-preventing-harassment/
CATEGORIES:2020 Events,Conference,Webinar
END:VEVENT
BEGIN:VEVENT
DTSTART;TZID=Europe/Amsterdam:20200629T150000
DTEND;TZID=Europe/Amsterdam:20200629T163000
DTSTAMP:20260424T015717
CREATED:20210118T152513Z
LAST-MODIFIED:20210118T152513Z
UID:15265-1593442800-1593448200@www.labourmobility.com
SUMMARY:WEBINAR: Getting a virtual internship: benefits of working remotely for your future career
DESCRIPTION:A webinar by CareerProfessor.works – the employability app that brings you closer to your global dream career – and the international office of Università Cattolica del Sacro Cuore. The webinar will be presented by international mobility expert\, Nannette Ripmeester and careers advisor\, Sevi Christoforou. \nAs the world is adjusting to remote working amid the COVID-19 pandemic\, students are also invited to give virtual internships a go. But why should you consider a virtual internship and how will that experience benefit your professional skills and future career prospects? This webinar will give you all the tips you need to make the best of a global ‘virtual’ internship and provide you with useful information for working effectively in remote\, intercultural teams – now & in the future. \nIn this webinar\, you will learn how to:\n• Conceptualize the perks of working remotely\n• Organize your time effectively at home\n• Build professional skills & a global career portfolio whilst working from home\n• Gain the skills employers will be looking for in a post-pandemic job market \n 
URL:https://www.labourmobility.com/events/webinar-getting-a-virtual-internship-benefits-of-working-remotely-for-your-future-career/
CATEGORIES:2020 Events,Webinar
END:VEVENT
BEGIN:VEVENT
DTSTART;TZID=Europe/Amsterdam:20200528T150000
DTEND;TZID=Europe/Amsterdam:20200528T183000
DTSTAMP:20260424T015717
CREATED:20210118T153045Z
LAST-MODIFIED:20210118T153045Z
UID:15271-1590678000-1590690600@www.labourmobility.com
SUMMARY:UCSC Webinar: Turning your ‘Covid-19 lockdown’ experience into future career success
DESCRIPTION:In the midst of the new coronavirus pandemic\, many of you have already canceled your plans for starting a summer internship abroad. That means lots of you will either deal with the challenge of staying at home during the summer or will soon be starting your Virtual Internship. In each scenario\, there are a lot of lessons to be taught through this unusual situation and many skills to be gained. This webinar will give you all the tips you need to make the best of your time during a lockdown or while working from home and provide you with useful information for turning your ‘lockdown’ experience into future career success. \nIn this webinar\, you will learn how to: \n\nOrganizing your ‘lockdown’ time effectively for future career success\nGetting ahead of the game: career preparation steps to follow right now\nBuilding your global career portfolio whilst staying home\n\nThis webinar is brought to you by CareerProfessor.works – the employability app that brings you closer to your dream global career – and the international office of Università Cattolica del Sacro Cuore. The webinar will be presented by international mobility expert\, Nannette Ripmeester and careers advisor\, Sevi Christoforou.
URL:https://www.labourmobility.com/events/ucsc-webinar-turning-your-covid-19-lockdown-experience-into-future-career-success/
CATEGORIES:2020 Events,Webinar
END:VEVENT
BEGIN:VEVENT
DTSTART;TZID=Europe/Amsterdam:20200526T150000
DTEND;TZID=Europe/Amsterdam:20200526T163000
DTSTAMP:20260424T015717
CREATED:20210118T152839Z
LAST-MODIFIED:20210118T152839Z
UID:15269-1590505200-1590510600@www.labourmobility.com
SUMMARY:UCSC Webinar: Building intercultural competence and professional skills during a Covid-19 lockdown
DESCRIPTION:In the midst of the new coronavirus pandemic\, many of you have already canceled your plans for starting a summer internship abroad. That means lots of you will either deal with the challenge of staying at home during the summer or will soon be starting your Virtual Internship. In each scenario\, there are a lot of lessons to be taught through this unusual situation and many skills to be gained. This webinar will give you all the tips you need to make the best of your time during a lockdown or while working from home and provide you with useful information for turning your ‘lockdown’ experience into future career success. \nIn this webinar\, you will learn how to:\n• Turning your ‘Covid-19 lockdown’ experience into future career success\n• Build your intercultural competence at home\n• Get ahead of the game with career preparation steps to follow right now \nThis webinar is brought to you by CareerProfessor.works – the employability app that brings you closer to your dream global career – and the international office of Università Cattolica del Sacro Cuore. The webinar will be presented by international mobility expert\, Nannette Ripmeester and careers advisor\, Sevi Christoforou.
URL:https://www.labourmobility.com/events/ucsc-webinar-building-intercultural-competence-and-professional-skills-during-a-covid-19-lockdown/
CATEGORIES:2020 Events,Webinar
END:VEVENT
BEGIN:VEVENT
DTSTART;TZID=Europe/Amsterdam:20200519T160000
DTEND;TZID=Europe/Amsterdam:20200519T170000
DTSTAMP:20260424T015717
CREATED:20210118T153712Z
LAST-MODIFIED:20210118T153712Z
UID:15280-1589904000-1589907600@www.labourmobility.com
SUMMARY:Webinar: Translating your international experience into a successfull CV | Karolinska Institutet
DESCRIPTION:A webinar tailored to Karolinska Institutet international & domestic students who have international experience and want to effectively present it to potential employers. After the webinar\, students will understand the value of their study abroad experience. They will also be able to see their international experience through the interviewer’s eyes\, and know how to market it during their job hunt and job interview.
URL:https://www.labourmobility.com/events/webinar-translating-your-international-experience-into-a-successfull-cv-karolinska-institutet/
CATEGORIES:2020 Events,Webinar
END:VEVENT
BEGIN:VEVENT
DTSTART;TZID=Europe/Amsterdam:20200428T110000
DTEND;TZID=Europe/Amsterdam:20200428T120000
DTSTAMP:20260424T015717
CREATED:20210118T153246Z
LAST-MODIFIED:20210118T153246Z
UID:15273-1588071600-1588075200@www.labourmobility.com
SUMMARY:UCSC Webinar | Turning your ‘COVID-19 lockdown’ experience into future career success
DESCRIPTION:In the midst of the new coronavirus pandemic\, many of you have already canceled your plans for starting a summer internship abroad. That means lots of you will either deal with the challenge of staying at home during the summer or will soon be starting your Virtual Internship. In each scenario\, there are a lot of lessons to be taught through this unusual situation and many skills to be gained. This webinar will give you all the tips you need to make the best of your time during a lockdown or while working from home and provide you with useful information for turning your ‘lockdown’ experience into future career success. \nIn this webinar\, you will learn how to:\n• Organize your ‘lockdown’ time effectively for future career success\n• Build your intercultural competence at home\n• Get ahead of the game with career preparation steps to follow right now \nThis webinar is brought to you by CareerProfessor.works – the employability app that brings you closer to your dream global career – and the international office of Università Cattolica del Sacro Cuore. The webinar will be presented by international mobility expert\, Nannette Ripmeester and careers advisor\, Sevi Christoforou.
URL:https://www.labourmobility.com/events/ucsc-webinar-turning-your-covid-19-lockdown-experience-into-future-career-success-2/
CATEGORIES:2020 Events,Webinar
END:VEVENT
BEGIN:VEVENT
DTSTART;TZID=Europe/Amsterdam:20200416T110000
DTEND;TZID=Europe/Amsterdam:20200416T120000
DTSTAMP:20260424T015717
CREATED:20210118T155005Z
LAST-MODIFIED:20210118T155005Z
UID:15285-1587034800-1587038400@www.labourmobility.com
SUMMARY:Webinar: The International Student Barometer (ISB) in Sweden in 2020
DESCRIPTION:Webinar: The International Student Barometer (ISB) in Sweden in 2020\nWednesday 18th March\, 11.00 – 12.00 (Stockholm time) \nWhat does your high education institution gain by participating in the International Student Barometer (ISB)? \nIn the past many Swedish institutions have participated in the ISB\, but to others it may be new. But even if you have participated previously\, you may have some questions\, hence we have organised this webinar for you to get your questions answered. Nannette Ripmeester will take you through the process and answer your questions such as: \n\nWhat’s the process?\nHow do we use the ISB results?\nWhat’s new in the ISB process?\nAre there any changes to the ISB questionnaire?\nWhat’s the advantage of taking part with multiple Swedish institutions in this wave?\nCan we ask additional questions?\nCan we compare year-on-year results?\nCan we distinguish between full degree students and exchange students?\n\nPresented by: Nannette Ripmeester\, Client Services Director Europe for i-graduate
URL:https://www.labourmobility.com/events/webinar-the-international-student-barometer-isb-in-sweden-in-2020/
CATEGORIES:2020 Events,Webinar
END:VEVENT
BEGIN:VEVENT
DTSTART;TZID=Europe/Amsterdam:20200415T140000
DTEND;TZID=Europe/Amsterdam:20200415T150000
DTSTAMP:20260424T015717
CREATED:20210118T155407Z
LAST-MODIFIED:20210118T155407Z
UID:15287-1586959200-1586962800@www.labourmobility.com
SUMMARY:Webinar: Employability solutions for your Institution
DESCRIPTION:Expertise in Labour Moblity in collaboration with CareerProfessor.works are organizing a webinar on ‘Exploring Employability solutions for your Institution’\, presented by Nannette Ripmeester. \nDescription \nJoin Nannette Ripmeester in a thorough discussion on employability as a key driver for international student attraction\, integration\, and retention. Global student mobility has been at the heart of internationalisation of education for many years\, with an intensified global demand\, and current competition for attracting international talent. The ROI of employability is causing a paradigm shift in higher education across the globe\, highlighting the importance of preparing students for an interconnected and global world of work. During this webinar\, Nannette Ripmeester will provide key global employability trends\, while looking into the kind of support international students expect and what they need to prepare for and thrive in the workplace of the future. Employability is key in this respect. She will also look into the reasons that make employability the number one influential element in student satisfaction globally and how technology gives us a tremendous advantage in developing innovative practices to harness the benefits of global mobility. \nFor further information contact Sevi Christoforou at s.christoforou@labourmobility.com \nRegister now: https://register.gotowebinar.com/register/3067022120136766221
URL:https://www.labourmobility.com/events/webinar-employability-solutions-for-your-institution/
CATEGORIES:2020 Events,Webinar
END:VEVENT
END:VCALENDAR