BEGIN:VCALENDAR
VERSION:2.0
PRODID:-//Expertise in Labour Mobility - ECPv6.13.2.1//NONSGML v1.0//EN
CALSCALE:GREGORIAN
METHOD:PUBLISH
X-WR-CALNAME:Expertise in Labour Mobility
X-ORIGINAL-URL:https://www.labourmobility.com
X-WR-CALDESC:Events for Expertise in Labour Mobility
REFRESH-INTERVAL;VALUE=DURATION:PT1H
X-Robots-Tag:noindex
X-PUBLISHED-TTL:PT1H
BEGIN:VTIMEZONE
TZID:Europe/Amsterdam
BEGIN:DAYLIGHT
TZOFFSETFROM:+0100
TZOFFSETTO:+0200
TZNAME:CEST
DTSTART:20250330T010000
END:DAYLIGHT
BEGIN:STANDARD
TZOFFSETFROM:+0200
TZOFFSETTO:+0100
TZNAME:CET
DTSTART:20251026T010000
END:STANDARD
END:VTIMEZONE
BEGIN:VEVENT
DTSTART;TZID=Europe/Amsterdam:20250115T123000
DTEND;TZID=Europe/Amsterdam:20250115T180000
DTSTAMP:20260425T050049
CREATED:20241210T154921Z
LAST-MODIFIED:20241210T155500Z
UID:17885-1736944200-1736964000@www.labourmobility.com
SUMMARY:DETAS CO-CREATION WORKSHOP: HOW TO GET FROM INTERNSHIP RECRUITMENT TO TALENT RETENTION.
DESCRIPTION:Companies and hosting organisations play a vital role in providing valuable internships for young Europeans. Does your organisation host international interns or trainees? Then maybe you want to take part in this co-creation workshop on the 15th of January 2025 in Rotterdam. Join us and be part of the journey as the DETAS will boost how companies and hosting organisations engage with interns. \nExpress your interest at DETAS@labourmobility.com and/or fill out this form\, and we’ll inform you if you’re chosen to participate at the event on the 15th of January.
URL:https://www.labourmobility.com/events/detas-co-creation-workshop-how-to-get-from-internship-recruitment-to-talent-retention/
CATEGORIES:2025 Events,Workshop
ATTACH;FMTTYPE=image/png:https://www.labourmobility.com/wp-content/uploads/2024/12/DETAS_cocreation-workshop-e1733845839853.png
END:VEVENT
BEGIN:VEVENT
DTSTART;TZID=Europe/Amsterdam:20250116T091500
DTEND;TZID=Europe/Amsterdam:20250116T171500
DTSTAMP:20260425T050049
CREATED:20240709T092100Z
LAST-MODIFIED:20240709T092100Z
UID:17729-1737018900-1737047700@www.labourmobility.com
SUMMARY:CAREER GUIDANCE FOR PhD’S AND POSTDOCS (DAY 1) | RADBOUD UNIVERSITY
DESCRIPTION:Goal: \nThis series of workshops is aimed at clarifying career development for both international and Dutch PhD’s or postdocs at the beginning of their career. After the workshops they will have an action plan for career development and will be able to act upon this plan to take their career to the next level. \nContent: \nPhD’s and postdocs often face questions concerning career development – you have to prepare for the next step in your career\, one that is not necessarily taking place in the academic world. To be able to make progress\, you may want some guidance. You need to know your strong and weak points. You need to understand the power of networking. You need an understanding of the job market in both academia and the profit sector. You should be aware of (international) employment opportunities. \nA (virtual) high-intensity workshop\, delivered by Nannette Ripmeester\, of two full days tailored to PhD and Postdoc candidates that provides participants with the necessary tools and tips to understand their career values and identify future career paths based on their interests and skills. \nParticipants will have the opportunity to create their own action plan for their next career step. Most importantly\, they will be able to act on that action plan and take their career towards the next level\, either within academia or beyond. Delegates will feel empowered to look for work in their research field\, inside and outside of the Netherlands. \nKey Learnings: \nAt the end of the workshop\, all participants will: \n\nCreate an insight into personal and career goals;\nProvide a systematic process for exploring career needs;\nFocus on current position\, desired goals\, and unique personal resources;\nEnhance practical career skills (in a global world);\nCompare career options to formulate an action plan.\n\nCourse Language: English
URL:https://www.labourmobility.com/events/career-guidance-for-phds-and-postdocs-day-1-radboud-university/
LOCATION:Online
CATEGORIES:2025 Events,Workshop
ATTACH;FMTTYPE=image/png:https://www.labourmobility.com/wp-content/uploads/2024/07/Career-Guidance-PhD-and-Postdoc-day-1--e1720516827827.png
END:VEVENT
BEGIN:VEVENT
DTSTART;TZID=Europe/Amsterdam:20250117T091500
DTEND;TZID=Europe/Amsterdam:20250117T171500
DTSTAMP:20260425T050050
CREATED:20240709T092533Z
LAST-MODIFIED:20240709T092533Z
UID:17732-1737105300-1737134100@www.labourmobility.com
SUMMARY:CAREER GUIDANCE FOR PhD’S AND POSTDOCS (DAY 2) | RADBOUD UNIVERSITY
DESCRIPTION:Goal: \nThis series of workshops is aimed at clarifying career development for both international and Dutch PhD’s or postdocs at the beginning of their career. After the workshops they will have an action plan for career development and will be able to act upon this plan to take their career to the next level. \nContent: \nPhD’s and postdocs often face questions concerning career development – you have to prepare for the next step in your career\, one that is not necessarily taking place in the academic world. To be able to make progress\, you may want some guidance. You need to know your strong and weak points. You need to understand the power of networking. You need an understanding of the job market in both academia and the profit sector. You should be aware of (international) employment opportunities. \nA (virtual) high-intensity workshop\, delivered by Nannette Ripmeester\, of two full days tailored to PhD and Postdoc candidates that provides participants with the necessary tools and tips to understand their career values and identify future career paths based on their interests and skills. \nParticipants will have the opportunity to create their own action plan for their next career step. Most importantly\, they will be able to act on that action plan and take their career towards the next level\, either within academia or beyond. Delegates will feel empowered to look for work in their research field\, inside and outside of the Netherlands. \nKey Learnings: \nAt the end of the workshop\, all participants will: \n\nCreate an insight into personal and career goals;\nProvide a systematic process for exploring career needs;\nFocus on current position\, desired goals\, and unique personal resources;\nEnhance practical career skills (in a global world);\nCompare career options to formulate an action plan.\n\nCourse Language: English
URL:https://www.labourmobility.com/events/career-guidance-for-phds-and-postdocs-day-2-radboud-university/
LOCATION:Online
CATEGORIES:2025 Events,Workshop
ATTACH;FMTTYPE=image/png:https://www.labourmobility.com/wp-content/uploads/2024/07/Career-Guidance-PhD-and-Postdoc-day-2--e1720517108298.png
END:VEVENT
END:VCALENDAR