BEGIN:VCALENDAR
VERSION:2.0
PRODID:-//Expertise in Labour Mobility - ECPv6.13.2.1//NONSGML v1.0//EN
CALSCALE:GREGORIAN
METHOD:PUBLISH
X-ORIGINAL-URL:https://www.labourmobility.com
X-WR-CALDESC:Events for Expertise in Labour Mobility
REFRESH-INTERVAL;VALUE=DURATION:PT1H
X-Robots-Tag:noindex
X-PUBLISHED-TTL:PT1H
BEGIN:VTIMEZONE
TZID:Europe/Amsterdam
BEGIN:DAYLIGHT
TZOFFSETFROM:+0100
TZOFFSETTO:+0200
TZNAME:CEST
DTSTART:20240331T010000
END:DAYLIGHT
BEGIN:STANDARD
TZOFFSETFROM:+0200
TZOFFSETTO:+0100
TZNAME:CET
DTSTART:20241027T010000
END:STANDARD
END:VTIMEZONE
BEGIN:VEVENT
DTSTART;TZID=Europe/Amsterdam:20240915T154500
DTEND;TZID=Europe/Amsterdam:20240915T164500
DTSTAMP:20260425T151002
CREATED:20240529T093151Z
LAST-MODIFIED:20240529T093151Z
UID:17679-1726415100-1726418700@www.labourmobility.com
SUMMARY:HUMANE 2024: SUMMER SCHOOL PROGRAMME BERLIN
DESCRIPTION:As part of HUMANE’s Summer School Programme 2024\,  Nannette Ripmeester will give a workshop session about “Acquiring and leveraging intercultural competence” on September 15th\, 2024 at 15:45 – 16:45 CEST at the Freie Universitat Berlin. \nThe HUMANE Summer School focuses on transformation and change management and develops the leadership capability of senior managers in higher education by exposing them to different management practices from higher education as well as other sectors.  The School is designed for the next generation of senior managers of professional services.  The typical candidate will be someone with the potential to become a head of administration in the foreseeable future\, or they may be an expert or a specialist who has the potential to broaden responsibility and move in due course to a senior management position. We will send you the list of participants in due time. \nThis Summer programme\, held in Berlin from the 15th to the 20th of September 2024\, will encourage discussion and debate\, incorporating insights from the host region and inspiration from participants. For more information on the Summer School programme\, click here.
URL:https://www.labourmobility.com/events/humane-2024-summer-school-programme-berlin/
LOCATION:Freie Universität Berlin\, Germany
CATEGORIES:2024 Events,Session,Workshop
ATTACH;FMTTYPE=image/jpeg:https://www.labourmobility.com/wp-content/uploads/2024/05/summer-school-humane.jpg
END:VEVENT
END:VCALENDAR