BEGIN:VCALENDAR
VERSION:2.0
PRODID:-//Expertise in Labour Mobility - ECPv6.13.2.1//NONSGML v1.0//EN
CALSCALE:GREGORIAN
METHOD:PUBLISH
X-ORIGINAL-URL:https://www.labourmobility.com
X-WR-CALDESC:Events for Expertise in Labour Mobility
REFRESH-INTERVAL;VALUE=DURATION:PT1H
X-Robots-Tag:noindex
X-PUBLISHED-TTL:PT1H
BEGIN:VTIMEZONE
TZID:Europe/Amsterdam
BEGIN:DAYLIGHT
TZOFFSETFROM:+0100
TZOFFSETTO:+0200
TZNAME:CEST
DTSTART:20250330T010000
END:DAYLIGHT
BEGIN:STANDARD
TZOFFSETFROM:+0200
TZOFFSETTO:+0100
TZNAME:CET
DTSTART:20251026T010000
END:STANDARD
END:VTIMEZONE
BEGIN:VEVENT
DTSTART;TZID=Europe/Amsterdam:20250218T171500
DTEND;TZID=Europe/Amsterdam:20250218T184500
DTSTAMP:20260425T051027
CREATED:20241217T090740Z
LAST-MODIFIED:20241217T090740Z
UID:17906-1739898900-1739904300@www.labourmobility.com
SUMMARY:WORKSHOP | LOOKING FOR WORK IN THE NETHERLANDS
DESCRIPTION:Description: \nWorkshop Looking for Work In The Netherlands (Ms. Nannette Ripmeester)  \nFor International students interested in starting a career in the Netherlands. After the workshop\, you will feel more at ease when looking for a job in the Netherlands. The focus is on job-hunting in the Netherlands and the information is geared towards cultural differences\, understanding what makes Dutch employers tick and the dos and don’ts of Dutch application procedures. \nTime: \n17:15 – 18:45 CET \nLocation: \nUniversity of Leiden\, Leiden Law School
URL:https://www.labourmobility.com/events/workshop-looking-for-work-in-the-netherlands/
LOCATION:Leiden University
CATEGORIES:2025 Events,Workshop
ATTACH;FMTTYPE=image/png:https://www.labourmobility.com/wp-content/uploads/2024/12/leiden-university-e1734426432797.png
END:VEVENT
END:VCALENDAR