BEGIN:VCALENDAR
VERSION:2.0
PRODID:-//Expertise in Labour Mobility - ECPv6.13.2.1//NONSGML v1.0//EN
CALSCALE:GREGORIAN
METHOD:PUBLISH
X-ORIGINAL-URL:https://www.labourmobility.com
X-WR-CALDESC:Events for Expertise in Labour Mobility
REFRESH-INTERVAL;VALUE=DURATION:PT1H
X-Robots-Tag:noindex
X-PUBLISHED-TTL:PT1H
BEGIN:VTIMEZONE
TZID:Europe/Amsterdam
BEGIN:DAYLIGHT
TZOFFSETFROM:+0100
TZOFFSETTO:+0200
TZNAME:CEST
DTSTART:20260329T010000
END:DAYLIGHT
BEGIN:STANDARD
TZOFFSETFROM:+0200
TZOFFSETTO:+0100
TZNAME:CET
DTSTART:20261025T010000
END:STANDARD
END:VTIMEZONE
BEGIN:VEVENT
DTSTART;TZID=Europe/Amsterdam:20260204T171500
DTEND;TZID=Europe/Amsterdam:20260204T190000
DTSTAMP:20260423T213618
CREATED:20251118T090424Z
LAST-MODIFIED:20251118T093156Z
UID:18216-1770225300-1770231600@www.labourmobility.com
SUMMARY:WORKSHOP: LOOKING FOR WORK IN THE NETHERLANDS | LEIDEN UNIVERSITY
DESCRIPTION:Nannette Ripmeester will deliver the workshop “Looking for work in The Netherlands” for LLM international students of Leiden University. This interactive workshop is aimed at bringing clarity to early career development for international students that are looking for work in the Netherlands. \nAfter the workshop\, participants will understand more about the Dutch labour market as well as the cultural differences in the Dutch application process and procedures. It will give international law students a better picture of what to expect and how to move forward with their career in the Netherlands. \nWe’ll answer questions such as what’s the best CV format for the Netherlands\, how to write a successful application letter\, what questions to expect in a Dutch job interview\, what to wear (or not to wear). But apart from the practicalities around job hunting\, we also look into intercultural differences in job searching and doing business around the globe with the help of the employability game\, CareerProfessor.works. \nKey learnings: \n\nWorking for an NGO/Law firm/Financial Organisation\nChallenges that COVID brings\, but also its opportunities\nInformation about recruitment culture in The Netherlands (Practical information about interviews such as the type of questions asked\, how to make a good CV\, assessments) and preparation for online interviews\nFinding work as an International student (without speaking the Dutch language)\nHow do I sell myself and the programme I’m following to an employer\nand Networking\n\nLocation: KOG\, A0.51
URL:https://www.labourmobility.com/events/career-development-looking-for-work-in-the-netherlands-for-international-phd-candidates-tu-delft-17/
LOCATION:Leiden University
CATEGORIES:2026 Events,Workshop
ATTACH;FMTTYPE=image/png:https://www.labourmobility.com/wp-content/uploads/2024/12/leiden-university-e1734426432797.png
END:VEVENT
END:VCALENDAR