BEGIN:VCALENDAR
VERSION:2.0
PRODID:-//Expertise in Labour Mobility - ECPv6.13.2.1//NONSGML v1.0//EN
CALSCALE:GREGORIAN
METHOD:PUBLISH
X-WR-CALNAME:Expertise in Labour Mobility
X-ORIGINAL-URL:https://www.labourmobility.com
X-WR-CALDESC:Events for Expertise in Labour Mobility
REFRESH-INTERVAL;VALUE=DURATION:PT1H
X-Robots-Tag:noindex
X-PUBLISHED-TTL:PT1H
BEGIN:VTIMEZONE
TZID:Europe/Amsterdam
BEGIN:DAYLIGHT
TZOFFSETFROM:+0100
TZOFFSETTO:+0200
TZNAME:CEST
DTSTART:20260329T010000
END:DAYLIGHT
BEGIN:STANDARD
TZOFFSETFROM:+0200
TZOFFSETTO:+0100
TZNAME:CET
DTSTART:20261025T010000
END:STANDARD
END:VTIMEZONE
BEGIN:VEVENT
DTSTART;TZID=Europe/Amsterdam:20260417T150000
DTEND;TZID=Europe/Amsterdam:20260417T163000
DTSTAMP:20260423T174847
CREATED:20260414T112116Z
LAST-MODIFIED:20260415T093725Z
UID:18335-1776438000-1776443400@www.labourmobility.com
SUMMARY:EGM Split 2026 | Unpacking the digitalisation of Erasmus traineeship application & support (location F401)
DESCRIPTION:Join Sabri Ben Rommane (ESN)\, Erika Maria Rodriguez Somlyay (LLLP)\, Anna Sijbrands (ELM)\,  Alexandru Dobrescu (UVT)\, and Olga O’Sullivan (UL-IE) for the session about “Unpacking the digitalisation of Erasmus traineeship application & support” on the 17th of April 2026 at 15:00 – 16:30. \nThe fifth edition of the Erasmus Generation Meeting\, Europe’s largest student-led conference on the Internationalisation of Higher Education\, focuses on Shaping Skills through Student Mobility. The event amplifies the Erasmus Generation’s role in shaping how competences are built through volunteering and student-led mobility\, while advancing the impact and recognition of student engagement among key stakeholders. EGM 2026 will be held from the 16th to the 19th of April 2026 at the University of Split\, Croatia. \nMore about the session: \nThis session focuses on the challenges students face when transitioning from academia to the workplace\, particularly in finding high-quality traineeships. Through a fun and interactive Shark Tank-style activity\, participants will explore the work of the European Commission sponsored DETAS project and learn about its Quality Labels. By the end of the session\, they will have a broader understanding of traineeship challenges\, be familiar with the new Erasmus Intern website\, and have practised their creativity\, communication\, and pitching skills. \nMore information can be found here.
URL:https://www.labourmobility.com/events/egm-split-2026-unpacking-the-digitalisation-of-erasmus-traineeship-application-support-location-f401/
LOCATION:University of Split
CATEGORIES:2026 Events,Conference,Session
ATTACH;FMTTYPE=image/png:https://www.labourmobility.com/wp-content/uploads/2026/03/egm-split-2026-program-e1773740926891.png
END:VEVENT
END:VCALENDAR