BEGIN:VCALENDAR
VERSION:2.0
PRODID:-//Expertise in Labour Mobility - ECPv6.13.2.1//NONSGML v1.0//EN
CALSCALE:GREGORIAN
METHOD:PUBLISH
X-ORIGINAL-URL:https://www.labourmobility.com
X-WR-CALDESC:Events for Expertise in Labour Mobility
REFRESH-INTERVAL;VALUE=DURATION:PT1H
X-Robots-Tag:noindex
X-PUBLISHED-TTL:PT1H
BEGIN:VTIMEZONE
TZID:Europe/Amsterdam
BEGIN:DAYLIGHT
TZOFFSETFROM:+0100
TZOFFSETTO:+0200
TZNAME:CEST
DTSTART:20250330T010000
END:DAYLIGHT
BEGIN:STANDARD
TZOFFSETFROM:+0200
TZOFFSETTO:+0100
TZNAME:CET
DTSTART:20251026T010000
END:STANDARD
END:VTIMEZONE
BEGIN:VEVENT
DTSTART;TZID=Europe/Amsterdam:20250515T091500
DTEND;TZID=Europe/Amsterdam:20250515T171500
DTSTAMP:20260424T133809
CREATED:20240709T093413Z
LAST-MODIFIED:20240709T093413Z
UID:17739-1747300500-1747329300@www.labourmobility.com
SUMMARY:CAREER GUIDANCE FOR PhD’S AND POSTDOCS (DAY 1) | RADBOUD UNIVERSITY
DESCRIPTION:Goal: \nThis series of workshops is aimed at clarifying career development for both international and Dutch PhD’s or postdocs at the beginning of their career. After the workshops they will have an action plan for career development and will be able to act upon this plan to take their career to the next level. \nContent: \nPhD’s and postdocs often face questions concerning career development – you have to prepare for the next step in your career\, one that is not necessarily taking place in the academic world. To be able to make progress\, you may want some guidance. You need to know your strong and weak points. You need to understand the power of networking. You need an understanding of the job market in both academia and the profit sector. You should be aware of (international) employment opportunities. \nA (virtual) high-intensity workshop\, delivered by Nannette Ripmeester\, of two full days tailored to PhD and Postdoc candidates that provides participants with the necessary tools and tips to understand their career values and identify future career paths based on their interests and skills. \nParticipants will have the opportunity to create their own action plan for their next career step. Most importantly\, they will be able to act on that action plan and take their career towards the next level\, either within academia or beyond. Delegates will feel empowered to look for work in their research field\, inside and outside of the Netherlands. \nKey Learnings: \nAt the end of the workshop\, all participants will: \n\nCreate an insight into personal and career goals;\nProvide a systematic process for exploring career needs;\nFocus on current position\, desired goals\, and unique personal resources;\nEnhance practical career skills (in a global world);\nCompare career options to formulate an action plan.\n\nCourse Language: English
URL:https://www.labourmobility.com/events/career-guidance-for-phds-and-postdocs-day-1-radboud-university-3/
LOCATION:Online
CATEGORIES:2025 Events,Workshop
ATTACH;FMTTYPE=image/png:https://www.labourmobility.com/wp-content/uploads/2024/07/Career-Guidance-PhD-and-Postdoc-day-1--e1720516827827.png
END:VEVENT
BEGIN:VEVENT
DTSTART;TZID=Europe/Amsterdam:20250516T091500
DTEND;TZID=Europe/Amsterdam:20250516T171500
DTSTAMP:20260424T133809
CREATED:20240709T093548Z
LAST-MODIFIED:20240709T093548Z
UID:17741-1747386900-1747415700@www.labourmobility.com
SUMMARY:CAREER GUIDANCE FOR PhD’S AND POSTDOCS (DAY 2) | RADBOUD UNIVERSITY
DESCRIPTION:Goal: \nThis series of workshops is aimed at clarifying career development for both international and Dutch PhD’s or postdocs at the beginning of their career. After the workshops they will have an action plan for career development and will be able to act upon this plan to take their career to the next level. \nContent: \nPhD’s and postdocs often face questions concerning career development – you have to prepare for the next step in your career\, one that is not necessarily taking place in the academic world. To be able to make progress\, you may want some guidance. You need to know your strong and weak points. You need to understand the power of networking. You need an understanding of the job market in both academia and the profit sector. You should be aware of (international) employment opportunities. \nA (virtual) high-intensity workshop\, delivered by Nannette Ripmeester\, of two full days tailored to PhD and Postdoc candidates that provides participants with the necessary tools and tips to understand their career values and identify future career paths based on their interests and skills. \nParticipants will have the opportunity to create their own action plan for their next career step. Most importantly\, they will be able to act on that action plan and take their career towards the next level\, either within academia or beyond. Delegates will feel empowered to look for work in their research field\, inside and outside of the Netherlands. \nKey Learnings: \nAt the end of the workshop\, all participants will: \n\nCreate an insight into personal and career goals;\nProvide a systematic process for exploring career needs;\nFocus on current position\, desired goals\, and unique personal resources;\nEnhance practical career skills (in a global world);\nCompare career options to formulate an action plan.\n\nCourse Language: English
URL:https://www.labourmobility.com/events/career-guidance-for-phds-and-postdocs-day-2-radboud-university-3/
LOCATION:Online
CATEGORIES:2025 Events,Workshop
ATTACH;FMTTYPE=image/png:https://www.labourmobility.com/wp-content/uploads/2024/07/Career-Guidance-PhD-and-Postdoc-day-2--e1720517108298.png
END:VEVENT
BEGIN:VEVENT
DTSTART;TZID=Europe/Amsterdam:20250520T093000
DTEND;TZID=Europe/Amsterdam:20250520T163000
DTSTAMP:20260424T133809
CREATED:20240709T122941Z
LAST-MODIFIED:20240709T122941Z
UID:17759-1747733400-1747758600@www.labourmobility.com
SUMMARY:CAREER DEVELOPMENT: ‘LOOKING FOR WORK IN THE NETHERLANDS’ FOR INTERNATIONAL PHD CANDIDATES | TU DELFT
DESCRIPTION:International PhD candidates looking for a job in the Netherlands often face questions around career development to prepare for their next career step\, a step that is not necessarily taking place in the academic world. This one-day workshop aims to deliver insights into balancing your career values with your career goals.  What job opportunities offer academia vs the profit sector in the Netherlands? What questions are raised during a job interview? What makes a Dutch employer tick? And what makes an international PhD candidate outstanding? \nThe Graduate School has chosen to deliver this workshop in person on the TU Delft premises. Stay connected\, stay positive\, and prepare for the future.    \nLecturer: Nannette Ripmeester
URL:https://www.labourmobility.com/events/career-development-looking-for-work-in-the-netherlands-for-international-phd-candidates-tu-delft-3/
LOCATION:TU Delft
CATEGORIES:2025 Events,Workshop
ATTACH;FMTTYPE=image/png:https://www.labourmobility.com/wp-content/uploads/2024/07/TU-DELFT-university-1-e1720527869867.png
END:VEVENT
BEGIN:VEVENT
DTSTART;TZID=Europe/Amsterdam:20250528T161500
DTEND;TZID=Europe/Amsterdam:20250531T170500
DTSTAMP:20260424T133809
CREATED:20241120T102906Z
LAST-MODIFIED:20250313T121206Z
UID:17868-1748448900-1748711100@www.labourmobility.com
SUMMARY:NAFSA 2025 | GETTING THE PURPOSE RIGHT
DESCRIPTION:Join Katie Orr\, Margaret Y. Luévano\, and Nannette Ripmeester for their insightful NAFSA presentation about “Getting the Purpose Right: Manage Expectations for International Student Services” on May 28th at 8:15 AM – 9:05 AM PT (16:15 PM – 17:05 PM) in San Diego\, California at the San Diego Convention Centre. \nSession description: \nThis NAFSA session explores key trends from a major student satisfaction survey (120K+ international students) in North America. It highlights how U.S. and Canadian universities excel in satisfaction & reputation while identifying areas for improvement. Focus areas include evolving student expectations\, mental health support\, & career service management. \nThe NAFSA Annual Conference & Expo\, scheduled on May 27-30 2025\, will focus on the most diverse learning\, engagement\, and networking opportunities for international education professionals at all levels of experience and in every specialty. These opportunities will help develop the knowledge\, skills\, and ideas needed to better serve an organization or institution\, move forward in professional development\, and engage effectively with colleagues from around the globe. \nMore Information can be found here. See you there!
URL:https://www.labourmobility.com/events/nafsa-2025-getting-the-purpose-right/
CATEGORIES:2025 Events,Conference
ATTACH;FMTTYPE=image/png:https://www.labourmobility.com/wp-content/uploads/2024/11/nafsa-2025-e1732098510511.png
END:VEVENT
BEGIN:VEVENT
DTSTART;TZID=Europe/Amsterdam:20250529T080000
DTEND;TZID=Europe/Amsterdam:20250529T170000
DTSTAMP:20260424T133809
CREATED:20250204T105043Z
LAST-MODIFIED:20250410T110316Z
UID:17943-1748505600-1748538000@www.labourmobility.com
SUMMARY:NAFSA 2025 POSTER PRESENTATION | UNPACKING THE INTERNSHIP ABROAD EXPERIENCE: DATA-DRIVEN INSIGHTS FROM 250 EMPLOYERS
DESCRIPTION:Join Nannette Ripmeester (Expertise in Labour Mobility / etio) for an insightful NAFSA poster presentation about “Unpacking the internship abroad experience: Data-driven insigths from 250 employers” in San Diego\, California at the San Diego Convention Centre. \nThe NAFSA Annual Conference & Expo\, scheduled on May 27-30 2025\, will focus on the most diverse learning\, engagement\, and networking opportunities for international education professionals at all levels of experience and in every specialty. These opportunities will help develop the knowledge\, skills\, and ideas needed to better serve an organization or institution\, move forward in professional development\, and engage effectively with colleagues from around the globe. \nPoster Information \nFindings from an Erasmus+ project DETAS (Digitalising Erasmus Traineeship Application & Support)\, analysing responses from 250 companies. The data sheds light on challenges and opportunities identified by employers when hosting interns\, aiming to improve future study-abroad internships and the impact on employability and skill development. \nThis Erasmus+ project is carried out by 7 partners\, bringing together organisations from Belgium\, Ireland\, Latvia\, The Netherlands and Romania. The research findings will provide employer insights regarding international internships\, a stakeholder voice often missing in the debate around the value of mobility experiences. Although the research focuses on European employers the findings seem to shed light on employer findings in general\, making the findings of interest to the NAFSA audience. \nLearning Objectives \n\nUnderstand the primary challenges companies face when hosting international interns.\nDemonstrate which resources possibly influence the success of internships at different stages. – Identify key challenges and solutions at each phase of the internship abroad process.\nProvide tools and strategies to align the skills of mobile students with host organisation needs.\n\nMore Information can be found here. See you there!
URL:https://www.labourmobility.com/events/nafsa-2025-poster-presentation-unpacking-the-internship-abroad-experience-data-driven-insights-from-250-employers/
CATEGORIES:2025 Events,Conference,Poster Presentation
ATTACH;FMTTYPE=image/png:https://www.labourmobility.com/wp-content/uploads/2024/11/nafsa-2025-e1732098510511.png
END:VEVENT
END:VCALENDAR