BEGIN:VCALENDAR
VERSION:2.0
PRODID:-//Expertise in Labour Mobility - ECPv6.13.2.1//NONSGML v1.0//EN
CALSCALE:GREGORIAN
METHOD:PUBLISH
X-WR-CALNAME:Expertise in Labour Mobility
X-ORIGINAL-URL:https://www.labourmobility.com
X-WR-CALDESC:Events for Expertise in Labour Mobility
REFRESH-INTERVAL;VALUE=DURATION:PT1H
X-Robots-Tag:noindex
X-PUBLISHED-TTL:PT1H
BEGIN:VTIMEZONE
TZID:Europe/Amsterdam
BEGIN:DAYLIGHT
TZOFFSETFROM:+0100
TZOFFSETTO:+0200
TZNAME:CEST
DTSTART:20240331T010000
END:DAYLIGHT
BEGIN:STANDARD
TZOFFSETFROM:+0200
TZOFFSETTO:+0100
TZNAME:CET
DTSTART:20241027T010000
END:STANDARD
END:VTIMEZONE
BEGIN:VEVENT
DTSTART;TZID=Europe/Amsterdam:20240507T091500
DTEND;TZID=Europe/Amsterdam:20240507T171500
DTSTAMP:20260425T130417
CREATED:20230905T141332Z
LAST-MODIFIED:20230905T141332Z
UID:17246-1715073300-1715102100@www.labourmobility.com
SUMMARY:ONLINE WORKSHOP: CAREER GUIDANCE FOR INTERNATIONAL PHD CANDIDATES (DAY 1) | RADBOUD UNIVERSITY
DESCRIPTION:During the three-day PhD Career Guidance workshops\, one full-day and two half-day (virtual) workshop sessions aimed at international PhD candidates will help participants get a grip on their international career development and cultural differences in looking for work in the Netherlands and beyond. \nThe international workshop focuses the attention on strengths and possibilities and is aimed at bringing clarity to career development for non-Dutch PhD candidates. Participants will have the opportunity to create their own action plan for their next career step.  Most importantly\, they will be able to act on that action plan and take their career towards the next level\, either within academia or beyond\, and either within the Netherlands or elsewhere. \nKEY LEARNINGS:\nPhD candidates will work in interactive (virtual) sessions: \n\nCreating an insight into personal and career goals\nProviding a systematic process for exploring career needs\nFocusing on the current position\, desired destination\, and unique personal resources (based on career interest\, skills\, values\, and personal style)\nEnhancing practical career skills (in a global world)\nComprehending the cultural differences that accompany looking for work in the Netherlands & beyond\nComparing career options for formulating an action plan
URL:https://www.labourmobility.com/events/online-workshop-career-guidance-for-international-phd-candidates-day-1-radboud-university-6/
LOCATION:Online
CATEGORIES:2023 Events,Online Workshop,PhD Workshop,Workshop
END:VEVENT
END:VCALENDAR