BEGIN:VCALENDAR
VERSION:2.0
PRODID:-//Expertise in Labour Mobility - ECPv6.13.2.1//NONSGML v1.0//EN
CALSCALE:GREGORIAN
METHOD:PUBLISH
X-WR-CALNAME:Expertise in Labour Mobility
X-ORIGINAL-URL:https://www.labourmobility.com
X-WR-CALDESC:Events for Expertise in Labour Mobility
REFRESH-INTERVAL;VALUE=DURATION:PT1H
X-Robots-Tag:noindex
X-PUBLISHED-TTL:PT1H
BEGIN:VTIMEZONE
TZID:America/Halifax
BEGIN:DAYLIGHT
TZOFFSETFROM:-0400
TZOFFSETTO:-0300
TZNAME:ADT
DTSTART:20240310T060000
END:DAYLIGHT
BEGIN:STANDARD
TZOFFSETFROM:-0300
TZOFFSETTO:-0400
TZNAME:AST
DTSTART:20241103T050000
END:STANDARD
END:VTIMEZONE
BEGIN:VEVENT
DTSTART;TZID=America/Halifax:20241106T094500
DTEND;TZID=America/Halifax:20241106T100400
DTSTAMP:20260425T171457
CREATED:20240910T093606Z
LAST-MODIFIED:20240910T093606Z
UID:17794-1730886300-1730887440@www.labourmobility.com
SUMMARY:CBIE2024: Beyond The Horizon
DESCRIPTION:Join Katie Orr (Director\, NSCC)\, Wendy Curtis (Dean of International Strategy\, Partnerships\, and Market Development\, Fanshawe College) and Nannette Ripmeester (Director Expertise in Labour Mobility\, Etio) for their CBIE session about Beyond the Horizon: Make Sure You Keep Listening to the Student Voice on November 6th\, 09:45 AM to 10:04 AM\, at the Westin Hotel and the Shaw Centre. \nAbout the session: \n“In this interactive session\, globally benchmarked research data will be presented to understand how two institutions use data to ensure their strategies improve the student experience and their institution’s reputation. An analysis of student satisfaction\, the importance of employability\, and the strengths and weaknesses of both institutions\, as compared to global and North American benchmarks\, will be discussed. Two experienced SIOs will share their experiences of evidence-based improvements in international education. Presenters will then discuss how these survey results can help to inform quality assurance measures that are becoming increasingly important for Canadian colleges and universities.” \nCBIE2024 is Canada’s International Education conference and will take place on 3-6 November 2024. This year’s conference will focus on innovation and recalibration in international education looking further into the future than ever before. The theme – Beyond The Horizon – underscores the commitment to convening IE practitioners\, policymakers\, and stakeholders for collaborative and constructive dialogue and thought leadership that carefully considers students\,  campuses\, communities\, and role in the global landscape. \nInterested in knowing more? Have a look here. \n 
URL:https://www.labourmobility.com/events/cbie2024-beyond-the-horizon/
LOCATION:Westin Hotel and Shaw Centre
CATEGORIES:2024 Events,Conference,Session
ATTACH;FMTTYPE=image/jpeg:https://www.labourmobility.com/wp-content/uploads/2024/09/CBIE2024-Ottawa-logo.jpg
END:VEVENT
END:VCALENDAR