BEGIN:VCALENDAR
VERSION:2.0
PRODID:-//Expertise in Labour Mobility - ECPv6.13.2.1//NONSGML v1.0//EN
CALSCALE:GREGORIAN
METHOD:PUBLISH
X-WR-CALNAME:Expertise in Labour Mobility
X-ORIGINAL-URL:https://www.labourmobility.com
X-WR-CALDESC:Events for Expertise in Labour Mobility
REFRESH-INTERVAL;VALUE=DURATION:PT1H
X-Robots-Tag:noindex
X-PUBLISHED-TTL:PT1H
BEGIN:VTIMEZONE
TZID:America/Costa_Rica
BEGIN:STANDARD
TZOFFSETFROM:-0600
TZOFFSETTO:-0600
TZNAME:CST
DTSTART:20250101T000000
END:STANDARD
END:VTIMEZONE
BEGIN:VEVENT
DTSTART;TZID=America/Costa_Rica:20251020T111500
DTEND;TZID=America/Costa_Rica:20251020T123000
DTSTAMP:20260424T053309
CREATED:20250623T131843Z
LAST-MODIFIED:20251002T133745Z
UID:18080-1760958900-1760963400@www.labourmobility.com
SUMMARY:CIGL CONFERENCE 2025: “BRIDGING THE GAP: HOW EMPLOYERS VIEW SKILLS GAINED THROUGH STUDENT MOBILITY”
DESCRIPTION:Join Kellie McMullin\, Andrew Champagne and Nannette Ripmeester (etio) for their CIGL session about “Bridging the gap: How employers view skills gained through student mobility” on October 20th 2025\, at 11:15 – 12:30 AM CST (18:15 – 17:30 AM CET) at DoubleTree by Hilton Hotel Cariari in San Jose\, Costa Rica. \nMore about the session: \nThe session will focus on presenting data gathered on employer perspectives regarding study abroad and the effect of mobility experiences on the employability of graduates. The session is built around the outputs of a research project of 5 higher education institutions in Canada. The focus is on the employer’s often-overlooked voice\, which provides evidence of how HEIs can help students best articulate the skills gained through their international experiences to future employers. \nThe Forum’s Careers\, Internships\, and Global Learning (CIGL) conference scheduled on October 19-21st will explore explore how globally-focused career preparation—through international internships\, consulting projects\, co-ops\, and community-engaged global learning—shapes the next generation of professionals. From fostering career competencies through immersive experiences to addressing challenges in creating impactful global learning opportunities\, this conference invites innovative ideas\, emerging research\, and diverse perspectives. For more information on the CIGL conference\, click here.
URL:https://www.labourmobility.com/events/cigl-conference-2025-bridging-the-gap-how-employers-view-skills-gained-through-student-mobility/
LOCATION:DoubleTree by Hilton Hotel Cariari\, Costa Rica
CATEGORIES:2025 Events,Conference
ATTACH;FMTTYPE=image/png:https://www.labourmobility.com/wp-content/uploads/2025/06/Screenshot-2025-06-23-151536-e1750684646771.png
END:VEVENT
END:VCALENDAR