BEGIN:VCALENDAR
VERSION:2.0
PRODID:-//Expertise in Labour Mobility - ECPv6.13.2.1//NONSGML v1.0//EN
CALSCALE:GREGORIAN
METHOD:PUBLISH
X-WR-CALNAME:Expertise in Labour Mobility
X-ORIGINAL-URL:https://www.labourmobility.com
X-WR-CALDESC:Events for Expertise in Labour Mobility
REFRESH-INTERVAL;VALUE=DURATION:PT1H
X-Robots-Tag:noindex
X-PUBLISHED-TTL:PT1H
BEGIN:VTIMEZONE
TZID:Europe/Berlin
BEGIN:DAYLIGHT
TZOFFSETFROM:+0100
TZOFFSETTO:+0200
TZNAME:CEST
DTSTART:20230326T010000
END:DAYLIGHT
BEGIN:STANDARD
TZOFFSETFROM:+0200
TZOFFSETTO:+0100
TZNAME:CET
DTSTART:20231029T010000
END:STANDARD
END:VTIMEZONE
BEGIN:VTIMEZONE
TZID:Europe/Amsterdam
BEGIN:DAYLIGHT
TZOFFSETFROM:+0100
TZOFFSETTO:+0200
TZNAME:CEST
DTSTART:20230326T010000
END:DAYLIGHT
BEGIN:STANDARD
TZOFFSETFROM:+0200
TZOFFSETTO:+0100
TZNAME:CET
DTSTART:20231029T010000
END:STANDARD
END:VTIMEZONE
BEGIN:VEVENT
DTSTART;TZID=Europe/Berlin:20230910T143000
DTEND;TZID=Europe/Berlin:20230914T123000
DTSTAMP:20260426T035946
CREATED:20230425T074929Z
LAST-MODIFIED:20230428T123142Z
UID:17104-1694356200-1694694600@www.labourmobility.com
SUMMARY:HUMANE Summer School at FU Berlin
DESCRIPTION:The Humane Summer School aims to enhance the leadership skills of high-level managers working in higher education who are leading significant transformation initiatives. It achieves this by exposing them to diverse management practices and case studies from both higher education and other sectors. The Humane Summer School at the Free Universität Berlin is set to commence with an opening keynote by Nannette Ripmeester. This fun kick-off helps to set the tone for the entire program\, providing attendees with valuable insights and inspiration. Attendees will have the opportunity to engage with like-minded professionals and gain a deeper understanding of the latest developments and trends in the HigherEd field.
URL:https://www.labourmobility.com/events/17104/
LOCATION:Freie Universität Berlin\, Germany
CATEGORIES:2023 Events
END:VEVENT
BEGIN:VEVENT
DTSTART;TZID=Europe/Amsterdam:20230925T153000
DTEND;TZID=Europe/Amsterdam:20230925T183000
DTSTAMP:20260426T035946
CREATED:20230425T100745Z
LAST-MODIFIED:20230428T174057Z
UID:17114-1695655800-1695666600@www.labourmobility.com
SUMMARY:30th Year Anniversary of Expertise in Labour Mobility
DESCRIPTION:Expertise in Labour Mobility is celebrating its 30th year anniversary with a special invitation-only event on the 25th of September at the start of the EAIE conference in Rotterdam\, ELM’s hometown. \nTo celebrate 30 years of Expertise in Labour Mobility\, we want to dive into the value and impact of mobility. The internationalisation of higher education has played an evolving role in those 30 years. Looking ahead\, what is the need for mobility? We have asked a group of international experts to shed their light on the future of mobility because\, in an ever-changing world\, education has to prepare the ‘talent of the future’ to ensure our global society benefits the most. What’s required to make that happen? \nSpeakers include:\nProf Dr John Hudzik\, Emeritus Professor & Vice President Michigan State University\nDr Laura Rumley\, Associate Director Research EAIE\nDr Arnim Heinemann\, International Director Bayreuth University & President SGroup\nStuart Jehan\, Vice President\, JPMorgan Chase & Co\nDr Darla Deardorff\, Executive Director AIEA\nDr Joep Hofhuis\, Erasmus University Rotterdam\nKatie Orr\, Director NSCC International\nNannette Ripmeester\, Founder Expertise in Labour Mobility \nWe look forward to welcoming our guests.\nInterested in knowing more about Rotterdam? Have a look at our Rotterdam Digital Map for the best spots in ELM’s hometown!
URL:https://www.labourmobility.com/events/elm-30th-year-anniversary/
LOCATION:KRZV De Maas\, Rotterdam\, Netherlands
ATTACH;FMTTYPE=image/png:https://www.labourmobility.com/wp-content/uploads/2023/04/D9048917356D4DBEA23DCC2A5B9DD07E.png
END:VEVENT
BEGIN:VEVENT
DTSTART;TZID=Europe/Amsterdam:20230928T113000
DTEND;TZID=Europe/Amsterdam:20230928T123000
DTSTAMP:20260426T035946
CREATED:20230425T121252Z
LAST-MODIFIED:20230612T151634Z
UID:17122-1695900600-1695904200@www.labourmobility.com
SUMMARY:EAIE Session: "We're in need of global citizens: Supporting our students to navigate the currents of our complex world"
DESCRIPTION:Join Chris Ziguras\, Omolabake Fakunle and Nannette Ripmeester during the EAIE 2023 for an exciting session on global citizens!\nThe world that will be waiting for our students after they graduate is changing at an unprecedented rate. As educators\, it is our responsibility to assist the next generation in comprehending the intricate and ever-changing global work environment that they will be entering. This session‘s objective is to explore the connection between the internationalisation of education\, employability\, equality\, diversity\, and inclusion (EDI). Through research findings and extensive discussion\, we aim to bring our sector closer to recognizing the significance of global citizenship. \nThe session speakers:\nDr Omolabake Fakunle is Director\, Equality\, Diversity and Inclusion (EDI) at the University of Edinburgh. Her research examines connections between internationalisation and employability\, at the conceptual level\, in policy\, and experientially.\nProf Chris Ziguras is Associate Dean\, Global and Language Studies at RMIT University. His research focuses on the globalisation of education\, particularly the ways in which various actors shape cross-border provision of higher education. He will consider the ways in which EDI issues associated with internationalisation are understood by governments\, institutions and educators and the practical steps that are undertaken in response.\nNannette Ripmeester is the director of Expertise in Labour Mobility (ELM) and director for Europe & North America for i-graduate. Pivotal in Nannette’s work is the understanding of employability and supporting people & organisations’ ability to study and work across borders and between cultures. \nThe theme for the 2023 EAIE Conference is ‘Connecting currents’\, which pays tribute to Rotterdam’s rich maritime heritage and recognizes the vital role that water plays in the city\, both as a source of economic opportunity and a potential danger. Rotterdam is known as the gateway to Europe\, where the river meets the sea\, and people from all walks of life converge. In a similar way\, international education facilitates connections between various areas of knowledge\, expertise\, cultures\, and ideas. The issues that international educators tackle are diverse and dynamic\, ranging from virtual learning to climate change\, multilingualism to geopolitics. ‘Connecting currents’ is an invitation to explore and comprehend the complex world we live in\, drawing inspiration and learning from our diverse and thriving community. \nAnd for all EAIE delegates interested in knowing more about Rotterdam? Have a look at our Rotterdam Digital Map for the best spots in ELM’s hometown!
URL:https://www.labourmobility.com/events/live-conference-session-were-in-need-of-global-citizens-supporting-our-students-to-navigate-the-currents-of-our-complex-world/
LOCATION:Rotterdam Ahoy
CATEGORIES:2023 Events,Conference,Session
ATTACH;FMTTYPE=image/png:https://www.labourmobility.com/wp-content/uploads/2023/04/2023-Rotterdam_ImSpeaking.png
END:VEVENT
BEGIN:VEVENT
DTSTART;TZID=Europe/Amsterdam:20230929T140000
DTEND;TZID=Europe/Amsterdam:20230929T170000
DTSTAMP:20260426T035946
CREATED:20230425T125927Z
LAST-MODIFIED:20230612T152102Z
UID:17129-1695996000-1696006800@www.labourmobility.com
SUMMARY:EAIE session: "What Makes Students Happy - A global deep-dive"
DESCRIPTION:Over the last 20 years\, there has been a significant surge in the number of international students across the globe\, and this trend is expected to continue. It is crucial to comprehend the factors that contribute to the satisfaction of such students as it plays a crucial role in shaping their well-being\, mental health\, and academic progress. To explore this further\, we will be combining global research data from the International Student Barometer (ISB) with the experience gained from two very distinct higher education institutions in Europe and Canada\, both using the ISB as a tool for informed data-driven decision-making. The goal of our session is to gain a deeper understanding of what makes students happy and its implications on future recommendations to prospective international students. \nNext to Nannette Ripmeester\, this pre-recorded EAIE 2023 session will feature two other speakers who will share their expertise. Kellie McMullin has been managing outbound mobility programs at Nova Scotia Community College (NSCC) for the past 10 years and in this role works with students directly and witnesses the impact their mobility programmes have on their life. Eeva Liinamo-Liukku is a skilled business and marketing professional experienced in the ‘export’ of education\, commercialisation of university services\, partnership management as well as product and service marketing at Aalto University in Finland. \nAnd for all EAIE delegates interested in knowing more about Rotterdam? Have a look at our Rotterdam Digital Map for the best spots in ELM’s hometown! \nThe theme for the 2023 EAIE Conference is ‘Connecting currents’\, which pays tribute to Rotterdam’s rich maritime heritage and recognizes the vital role that water plays in the city\, both as a source of economic opportunity and a potential danger. Rotterdam is known as the gateway to Europe\, where the river meets the sea\, and people from all walks of life converge. In a similar way\, international education facilitates connections between various areas of knowledge\, expertise\, cultures\, and ideas. The issues that international educators tackle are diverse and dynamic\, ranging from virtual learning to climate change\, multilingualism to geopolitics. ‘Connecting currents’ is an invitation to explore and comprehend the complex world we live in\, drawing inspiration and learning from our diverse and thriving community.
URL:https://www.labourmobility.com/events/recorded-session-at-the-eaie-what-makes-students-happy-a-global-deep-dive/
LOCATION:Rotterdam Ahoy
CATEGORIES:2023 Events,Conference,Session
ATTACH;FMTTYPE=image/png:https://www.labourmobility.com/wp-content/uploads/2023/04/2023-Rotterdam_ImSpeaking.png
END:VEVENT
END:VCALENDAR