BEGIN:VCALENDAR
VERSION:2.0
PRODID:-//Expertise in Labour Mobility - ECPv6.13.2.1//NONSGML v1.0//EN
CALSCALE:GREGORIAN
METHOD:PUBLISH
X-ORIGINAL-URL:https://www.labourmobility.com
X-WR-CALDESC:Events for Expertise in Labour Mobility
REFRESH-INTERVAL;VALUE=DURATION:PT1H
X-Robots-Tag:noindex
X-PUBLISHED-TTL:PT1H
BEGIN:VTIMEZONE
TZID:Europe/Amsterdam
BEGIN:DAYLIGHT
TZOFFSETFROM:+0100
TZOFFSETTO:+0200
TZNAME:CEST
DTSTART:20240331T010000
END:DAYLIGHT
BEGIN:STANDARD
TZOFFSETFROM:+0200
TZOFFSETTO:+0100
TZNAME:CET
DTSTART:20241027T010000
END:STANDARD
END:VTIMEZONE
BEGIN:VEVENT
DTSTART;TZID=Europe/Amsterdam:20240918T090000
DTEND;TZID=Europe/Amsterdam:20240918T100000
DTSTAMP:20260425T161926
CREATED:20240529T091635Z
LAST-MODIFIED:20240529T091635Z
UID:17674-1726650000-1726653600@www.labourmobility.com
SUMMARY:EAIE TOULOUSE 2024: FROM THERE TO WHERE? WHAT TODAY'S DATA TELLS US ABOUT TOMORROW'S INTERNATIONAL STUDENTS
DESCRIPTION:Join Léa Senn\, Matt Greig & Nannette Ripmeester for their EAIE panel session about “From there to where? What today’s data tells us about tomorrow’s international students” on September 18th 2024\, at 9:00 – 10:00 AM CEST at the MEETT venue in Toulouse\, France. \nMore about the session: \n“How do students decide to study at a higher education institution abroad? What are their expectations for life after their degree and what support do they expect from their institution? In this session\, we will take a deep dive into a large global dataset on international student satisfaction\, supported by two best practice examples highlighting how to make data-driven decisions to be prepared for the next generation of students.” \nThe European Association for International Education (EAIE) 2024 conference scheduled on September 17-20th will\, with the conference theme ‘En Route!’\, highlight the hard work that propels our community towards a brighter future. This work involves exploring the possibilities of digital technologies\, implementing sustainable practices\, developing innovative ways to support our wonderfully diverse community and so much more. For more information on the EAIE conference\, click here.
URL:https://www.labourmobility.com/events/eaie-toulouse-2024-from-there-to-where-what-todays-data-tells-us-about-tomorrows-international-students/
LOCATION:MEETT Venue\, Toulouse\, France
CATEGORIES:2024 Events,Conference,Panel discussion,Session
ATTACH;FMTTYPE=image/jpeg:https://www.labourmobility.com/wp-content/uploads/2024/05/eaie-2024.jpg
END:VEVENT
END:VCALENDAR