BEGIN:VCALENDAR
VERSION:2.0
PRODID:-//Expertise in Labour Mobility - ECPv6.13.2.1//NONSGML v1.0//EN
CALSCALE:GREGORIAN
METHOD:PUBLISH
X-ORIGINAL-URL:https://www.labourmobility.com
X-WR-CALDESC:Events for Expertise in Labour Mobility
REFRESH-INTERVAL;VALUE=DURATION:PT1H
X-Robots-Tag:noindex
X-PUBLISHED-TTL:PT1H
BEGIN:VTIMEZONE
TZID:Europe/Athens
BEGIN:DAYLIGHT
TZOFFSETFROM:+0200
TZOFFSETTO:+0300
TZNAME:EEST
DTSTART:20240331T010000
END:DAYLIGHT
BEGIN:STANDARD
TZOFFSETFROM:+0300
TZOFFSETTO:+0200
TZNAME:EET
DTSTART:20241027T010000
END:STANDARD
END:VTIMEZONE
BEGIN:VEVENT
DTSTART;TZID=Europe/Athens:20241015T153000
DTEND;TZID=Europe/Athens:20241015T161500
DTSTAMP:20260425T124624
CREATED:20240912T094415Z
LAST-MODIFIED:20240912T094720Z
UID:17805-1729006200-1729008900@www.labourmobility.com
SUMMARY:A Fireside Chat with NACE: Navigating Global Pathways of Higher Education\, Labor Mobility\, and Career Readiness
DESCRIPTION:Join Joshua Kahn\, Ph.D. (Associate Director of Research and Public Policy\, NACE)\, Nannette Ripmeester (Director Expertise in Labour Mobility & founder CareerProfessor.works)\, and moderator Melissa Comiskey (Executive Director of Internship Programming\, IES Abroad and CIGL Conference Chair) for the Closing Plenary Panel of the CIGL Conference 2024 focused on “A Fireside Chat with NACE: Navigating Global Pathways of Higher Education\, Labor Mobility\, and Career Readiness” on the 15th of October 2024 at 3:30 PM – 4:15 PM (2:30 PM – 3:15 PM CET) at Athens\, Greece. \nAbout the Panel: \nThe Closing Plenary Panel will be a dynamic discussion on the intersection of higher education and labor mobility. During this closing plenary session\, there will be discussions about where international careers\, internships\, and global learning fits in on a global scale in today’s competitive workforce. \nWant to know more? Click here.
URL:https://www.labourmobility.com/events/a-fireside-chat-with-nace-navigating-global-pathways-of-higher-education-labor-mobility-and-career-readiness/
CATEGORIES:2024 Events,Conference,Panel discussion
ATTACH;FMTTYPE=image/png:https://www.labourmobility.com/wp-content/uploads/2024/09/CIGL-2024-closing-image-1-e1726134417744.png
END:VEVENT
END:VCALENDAR