BEGIN:VCALENDAR
VERSION:2.0
PRODID:-//Expertise in Labour Mobility - ECPv6.13.2.1//NONSGML v1.0//EN
CALSCALE:GREGORIAN
METHOD:PUBLISH
X-ORIGINAL-URL:https://www.labourmobility.com
X-WR-CALDESC:Events for Expertise in Labour Mobility
REFRESH-INTERVAL;VALUE=DURATION:PT1H
X-Robots-Tag:noindex
X-PUBLISHED-TTL:PT1H
BEGIN:VTIMEZONE
TZID:Europe/Amsterdam
BEGIN:DAYLIGHT
TZOFFSETFROM:+0100
TZOFFSETTO:+0200
TZNAME:CEST
DTSTART:20240331T010000
END:DAYLIGHT
BEGIN:STANDARD
TZOFFSETFROM:+0200
TZOFFSETTO:+0100
TZNAME:CET
DTSTART:20241027T010000
END:STANDARD
END:VTIMEZONE
BEGIN:VEVENT
DTSTART;TZID=Europe/Amsterdam:20240219T200000
DTEND;TZID=Europe/Amsterdam:20240219T210000
DTSTAMP:20260426T022549
CREATED:20231206T115113Z
LAST-MODIFIED:20231206T150221Z
UID:17375-1708372800-1708376400@www.labourmobility.com
SUMMARY:AIEA 2024 | LISTENING TO STUDENT VOICES ENHANCES STRATEGIC DIRECTION FOR INTERNATIONALIZATION
DESCRIPTION:Join Fanshawe’s Wendy Curtis\, Centennial’s Virginia Macchiavello\, and Nannette Ripmeester for the AIEA session titled “Listening to student voices enhances strategic direction for internationalization” on the 19th of February 2024 at 2:00pm – 3:00pm EST (8:00pm – 9:00pm CET). \nAIEA is the Association of International Education Administrations annual conference and will take place on 18-21 February 2024 at the Marriott Marquis\, Washington DC. The Association of International Education Administrators (AIEA) is the only association dedicated exclusively to senior leaders in the field of international education. \nThe AIEA 2024’s theme is “Leading Internationalizaion at a Crossroads” which captures the dynamic and crucial role played by visionary university leaders in navigating the complexity of the post-pandemic era. This central theme emphasizes the urgent challenges and potential opportunities confronting higher education institutions as they strive to promote collaboration\, understanding\, and progress in our interconnected world. By urging international education leaders to think innovatively\, act decisively\, and foster positive change amid the complexities of globalization\,this theme underscores the paramount importance of visionary leadership. It also highlights the necessity of inclusive and collaborative approaches that acknowledge the unity of our shared humanity and foster a harmonious and prosperous future for all.
URL:https://www.labourmobility.com/events/aiea-2024-listening-to-student-voices-enhances-strategic-direction-for-internationalization/
LOCATION:Marriott Marquis\, Washington DC\, United States
CATEGORIES:2024 Events,Conference,Session
ATTACH;FMTTYPE=image/jpeg:https://www.labourmobility.com/wp-content/uploads/2023/12/aiea2024-e1701863258113.jpg
END:VEVENT
END:VCALENDAR