BEGIN:VCALENDAR
VERSION:2.0
PRODID:-//Expertise in Labour Mobility - ECPv6.13.2.1//NONSGML v1.0//EN
CALSCALE:GREGORIAN
METHOD:PUBLISH
X-WR-CALNAME:Expertise in Labour Mobility
X-ORIGINAL-URL:https://www.labourmobility.com
X-WR-CALDESC:Events for Expertise in Labour Mobility
REFRESH-INTERVAL;VALUE=DURATION:PT1H
X-Robots-Tag:noindex
X-PUBLISHED-TTL:PT1H
BEGIN:VTIMEZONE
TZID:Europe/Amsterdam
BEGIN:DAYLIGHT
TZOFFSETFROM:+0100
TZOFFSETTO:+0200
TZNAME:CEST
DTSTART:20250330T010000
END:DAYLIGHT
BEGIN:STANDARD
TZOFFSETFROM:+0200
TZOFFSETTO:+0100
TZNAME:CET
DTSTART:20251026T010000
END:STANDARD
END:VTIMEZONE
BEGIN:VEVENT
DTSTART;TZID=Europe/Amsterdam:20250401T110000
DTEND;TZID=Europe/Amsterdam:20250401T120000
DTSTAMP:20260424T141556
CREATED:20250113T092601Z
LAST-MODIFIED:20250331T133034Z
UID:17915-1743505200-1743508800@www.labourmobility.com
SUMMARY:SiG Webinar Series 2025 | From Insight to Impact: Understanding the International Student Voice with Etio Global
DESCRIPTION:Join Nannette Ripmeester for the SiG webinar session titled “From Insight to Impact: Understanding the International Student Voice with Etio Global” on April 1st 2025 at 12:00PM – 13:00PM EEST (11:00AM – 12:00PM CET). \nSession description: \nThe topic will be about capacity building and understanding of internationalisation for the Greek higher education sector. This presentation will explore the power of the International Student Barometer (ISB) as a global benchmark for student satisfaction\, providing insights into the complete student journey. It will begin by sharing key global ISB data\, then delve into Etio’s work in Germany\, highlighting how ISB data has been utilized at both national and institutional levels to understand and enhance the student experience. \nKey discussion points: \n\nHow ISB data benchmarks international student satisfaction across academic\, living\, and support services.\nInsights into student motivations\, decision-making\, and the factors driving happiness and recommendations.\nCase studies on how ISB data is used in Germany to improve institutional performance and attract international students.\nStrategies for leveraging ISB data to enhance recruitment\, marketing\, and student experience.\nTools to quantify the impact of student experience improvement initiatives.\n\nThe ISB survey captures critical insights into why students choose specific institutions\, their satisfaction with academic\, living\, and support services\, and the factors that drive happiness and recommendations. The audience will learn how ISB data empowers higher education institutions to make data-driven decisions\, improve student satisfaction\, and strengthen their competitive edge. More information can be found here.
URL:https://www.labourmobility.com/events/sig-webinar-series-2025-understanding-the-international-student-voice/
LOCATION:Online
CATEGORIES:2025 Events,Webinar
ATTACH;FMTTYPE=image/jpeg:https://www.labourmobility.com/wp-content/uploads/2025/01/sig-e1736760336449.jpg
END:VEVENT
BEGIN:VEVENT
DTSTART;TZID=Europe/Amsterdam:20250408T140000
DTEND;TZID=Europe/Amsterdam:20250408T153000
DTSTAMP:20260424T141556
CREATED:20241210T160145Z
LAST-MODIFIED:20250402T133102Z
UID:17891-1744120800-1744126200@www.labourmobility.com
SUMMARY:ISB CO-CREATION WORKSHOP FOR EUROPEAN HEIs: HOW TO UNDERSTAND THE IMPACT OF THE STUDENT VOICE
DESCRIPTION:The International Student Barometer (ISB) has over the years given thousands of students the chance to disclose the upsides and downsides of their university experience – just check the 2024 International Student Experience report. This Spring\, we are inviting ISB participants from Higher Education Institutions in Europe (8 April 2025) and North-America (9 April 2025) to join a co-creation workshop on best practices\, looking into both the challenges and successes with the International Student Barometer. In times of change\, making informed decisions grounded in data is essential to better understand student needs and address their experiences and pain points. Together\, we can identify meaningful ways to enhance the student experience.  With this event\, hosted by Nannette Ripmeester for Etio\, we do not only aim to strengthen our ISB partnership\,  we want to work towards co-creating ways to improve the student experience across our institution. Interested in enhancing the student experience? Then register here! \n  \n 
URL:https://www.labourmobility.com/events/isb-co-creation-workshop-for-european-heis-how-to-understand-the-impact-of-the-student-voice/
LOCATION:Online
CATEGORIES:2025 Events,Workshop
ATTACH;FMTTYPE=image/png:https://www.labourmobility.com/wp-content/uploads/2024/12/Schermafbeelding-2024-12-10-160542-e1733846647372.png
END:VEVENT
BEGIN:VEVENT
DTSTART;TZID=Europe/Amsterdam:20250409T180000
DTEND;TZID=Europe/Amsterdam:20250409T193000
DTSTAMP:20260424T141556
CREATED:20241210T160334Z
LAST-MODIFIED:20250402T133625Z
UID:17894-1744221600-1744227000@www.labourmobility.com
SUMMARY:ISB CO-CREATION WORKSHOP FOR NORTH-AMERICAN HEIs: HOW TO UNDERSTAND THE IMPACT OF THE STUDENT VOICE
DESCRIPTION:The International Student Barometer (ISB) has over the years given thousands of students the chance to disclose the upsides and downsides of their university experience – just check the 2024 International Student Experience report. This Spring\, we are inviting ISB participants from Higher Education Institutions in Europe (8 April 2025) and North-America (9 April 2025) to join a co-creation workshop on best practices\, looking into both the challenges and successes with the International Student Barometer. In times of change\, making informed decisions grounded in data is essential to better understand student needs and address their experiences and pain points. Together\, we can identify meaningful ways to enhance the student experience.  With this event\, hosted by Nannette Ripmeester for Etio\, we do not only aim to strengthen our ISB partnership\,  we want to work towards co-creating ways to improve the student experience across our institution. Interested in enhancing the student experience? Then register here!
URL:https://www.labourmobility.com/events/isb-co-creation-workshop-for-north-american-heis-how-to-understand-the-impact-of-the-student-voice/
LOCATION:Online
CATEGORIES:2025 Events,Workshop
ATTACH;FMTTYPE=image/png:https://www.labourmobility.com/wp-content/uploads/2024/12/Schermafbeelding-2024-12-10-160542-e1733846647372.png
END:VEVENT
END:VCALENDAR