BEGIN:VCALENDAR
VERSION:2.0
PRODID:-//Expertise in Labour Mobility - ECPv6.13.2.1//NONSGML v1.0//EN
CALSCALE:GREGORIAN
METHOD:PUBLISH
X-ORIGINAL-URL:https://www.labourmobility.com
X-WR-CALDESC:Events for Expertise in Labour Mobility
REFRESH-INTERVAL;VALUE=DURATION:PT1H
X-Robots-Tag:noindex
X-PUBLISHED-TTL:PT1H
BEGIN:VTIMEZONE
TZID:Europe/Amsterdam
BEGIN:DAYLIGHT
TZOFFSETFROM:+0100
TZOFFSETTO:+0200
TZNAME:CEST
DTSTART:20250330T010000
END:DAYLIGHT
BEGIN:STANDARD
TZOFFSETFROM:+0200
TZOFFSETTO:+0100
TZNAME:CET
DTSTART:20251026T010000
END:STANDARD
END:VTIMEZONE
BEGIN:VEVENT
DTSTART;TZID=Europe/Amsterdam:20250528T161500
DTEND;TZID=Europe/Amsterdam:20250531T170500
DTSTAMP:20260424T121816
CREATED:20241120T102906Z
LAST-MODIFIED:20250313T121206Z
UID:17868-1748448900-1748711100@www.labourmobility.com
SUMMARY:NAFSA 2025 | GETTING THE PURPOSE RIGHT
DESCRIPTION:Join Katie Orr\, Margaret Y. Luévano\, and Nannette Ripmeester for their insightful NAFSA presentation about “Getting the Purpose Right: Manage Expectations for International Student Services” on May 28th at 8:15 AM – 9:05 AM PT (16:15 PM – 17:05 PM) in San Diego\, California at the San Diego Convention Centre. \nSession description: \nThis NAFSA session explores key trends from a major student satisfaction survey (120K+ international students) in North America. It highlights how U.S. and Canadian universities excel in satisfaction & reputation while identifying areas for improvement. Focus areas include evolving student expectations\, mental health support\, & career service management. \nThe NAFSA Annual Conference & Expo\, scheduled on May 27-30 2025\, will focus on the most diverse learning\, engagement\, and networking opportunities for international education professionals at all levels of experience and in every specialty. These opportunities will help develop the knowledge\, skills\, and ideas needed to better serve an organization or institution\, move forward in professional development\, and engage effectively with colleagues from around the globe. \nMore Information can be found here. See you there!
URL:https://www.labourmobility.com/events/nafsa-2025-getting-the-purpose-right/
CATEGORIES:2025 Events,Conference
ATTACH;FMTTYPE=image/png:https://www.labourmobility.com/wp-content/uploads/2024/11/nafsa-2025-e1732098510511.png
END:VEVENT
BEGIN:VEVENT
DTSTART;TZID=Europe/Amsterdam:20250529T080000
DTEND;TZID=Europe/Amsterdam:20250529T170000
DTSTAMP:20260424T121816
CREATED:20250204T105043Z
LAST-MODIFIED:20250410T110316Z
UID:17943-1748505600-1748538000@www.labourmobility.com
SUMMARY:NAFSA 2025 POSTER PRESENTATION | UNPACKING THE INTERNSHIP ABROAD EXPERIENCE: DATA-DRIVEN INSIGHTS FROM 250 EMPLOYERS
DESCRIPTION:Join Nannette Ripmeester (Expertise in Labour Mobility / etio) for an insightful NAFSA poster presentation about “Unpacking the internship abroad experience: Data-driven insigths from 250 employers” in San Diego\, California at the San Diego Convention Centre. \nThe NAFSA Annual Conference & Expo\, scheduled on May 27-30 2025\, will focus on the most diverse learning\, engagement\, and networking opportunities for international education professionals at all levels of experience and in every specialty. These opportunities will help develop the knowledge\, skills\, and ideas needed to better serve an organization or institution\, move forward in professional development\, and engage effectively with colleagues from around the globe. \nPoster Information \nFindings from an Erasmus+ project DETAS (Digitalising Erasmus Traineeship Application & Support)\, analysing responses from 250 companies. The data sheds light on challenges and opportunities identified by employers when hosting interns\, aiming to improve future study-abroad internships and the impact on employability and skill development. \nThis Erasmus+ project is carried out by 7 partners\, bringing together organisations from Belgium\, Ireland\, Latvia\, The Netherlands and Romania. The research findings will provide employer insights regarding international internships\, a stakeholder voice often missing in the debate around the value of mobility experiences. Although the research focuses on European employers the findings seem to shed light on employer findings in general\, making the findings of interest to the NAFSA audience. \nLearning Objectives \n\nUnderstand the primary challenges companies face when hosting international interns.\nDemonstrate which resources possibly influence the success of internships at different stages. – Identify key challenges and solutions at each phase of the internship abroad process.\nProvide tools and strategies to align the skills of mobile students with host organisation needs.\n\nMore Information can be found here. See you there!
URL:https://www.labourmobility.com/events/nafsa-2025-poster-presentation-unpacking-the-internship-abroad-experience-data-driven-insights-from-250-employers/
CATEGORIES:2025 Events,Conference,Poster Presentation
ATTACH;FMTTYPE=image/png:https://www.labourmobility.com/wp-content/uploads/2024/11/nafsa-2025-e1732098510511.png
END:VEVENT
END:VCALENDAR